BEGIN:VCALENDAR
VERSION:2.0
PRODID:-//Babcock Schools - ECPv6.15.17.1//NONSGML v1.0//EN
CALSCALE:GREGORIAN
METHOD:PUBLISH
X-WR-CALNAME:Babcock Schools
X-ORIGINAL-URL:https://babcockneighborhoodschools.org
X-WR-CALDESC:Events for Babcock Schools
REFRESH-INTERVAL;VALUE=DURATION:PT1H
X-Robots-Tag:noindex
X-PUBLISHED-TTL:PT1H
BEGIN:VTIMEZONE
TZID:America/New_York
BEGIN:DAYLIGHT
TZOFFSETFROM:-0500
TZOFFSETTO:-0400
TZNAME:EDT
DTSTART:20250309T070000
END:DAYLIGHT
BEGIN:STANDARD
TZOFFSETFROM:-0400
TZOFFSETTO:-0500
TZNAME:EST
DTSTART:20251102T060000
END:STANDARD
BEGIN:DAYLIGHT
TZOFFSETFROM:-0500
TZOFFSETTO:-0400
TZNAME:EDT
DTSTART:20260308T070000
END:DAYLIGHT
BEGIN:STANDARD
TZOFFSETFROM:-0400
TZOFFSETTO:-0500
TZNAME:EST
DTSTART:20261101T060000
END:STANDARD
BEGIN:DAYLIGHT
TZOFFSETFROM:-0500
TZOFFSETTO:-0400
TZNAME:EDT
DTSTART:20270314T070000
END:DAYLIGHT
BEGIN:STANDARD
TZOFFSETFROM:-0400
TZOFFSETTO:-0500
TZNAME:EST
DTSTART:20271107T060000
END:STANDARD
END:VTIMEZONE
BEGIN:VEVENT
DTSTART;TZID=America/New_York:20260502T170000
DTEND;TZID=America/New_York:20260502T200000
DTSTAMP:20260424T120555
CREATED:20250618T210045Z
LAST-MODIFIED:20260412T210317Z
UID:16034-1777741200-1777752000@babcockneighborhoodschools.org
SUMMARY:Derby Gala
DESCRIPTION:Break out the big hats and bowties for an evening at the races! Hosted by our Babcock Schools Volunteers\, the 5th annual Kentucky Derby Gala benefits the Arts and Music Programs at Babcock Neighborhood School and Babcock High School!
URL:https://babcockneighborhoodschools.org/event/derby-gala-4/
LOCATION:Fieldhouse
CATEGORIES:Babcock Schools Volunteers,Events
ATTACH;FMTTYPE=image/png:https://babcockneighborhoodschools.org/wp-content/uploads/2025/06/Website-Event-4.png
END:VEVENT
BEGIN:VEVENT
DTSTART;VALUE=DATE:20260504
DTEND;VALUE=DATE:20260509
DTSTAMP:20260424T120555
CREATED:20250618T205737Z
LAST-MODIFIED:20250618T205737Z
UID:16030-1777852800-1778284799@babcockneighborhoodschools.org
SUMMARY:Staff Appreciation Week
DESCRIPTION:More details coming soon. Subject to change. Babcock Schools Volunteers event.
URL:https://babcockneighborhoodschools.org/event/staff-appreciation-week/
CATEGORIES:Babcock Schools Volunteers,Events,School Calendar
ATTACH;FMTTYPE=image/png:https://babcockneighborhoodschools.org/wp-content/uploads/2025/06/Website-Event-2.png
END:VEVENT
BEGIN:VEVENT
DTSTART;TZID=America/New_York:20260506T150000
DTEND;TZID=America/New_York:20260506T190000
DTSTAMP:20260424T120555
CREATED:20260407T201410Z
LAST-MODIFIED:20260407T201410Z
UID:22135-1778079600-1778094000@babcockneighborhoodschools.org
SUMMARY:Dine to Donate!
DESCRIPTION:All proceeds benefit Babcock Athletics! Thank you to our friends at M’Xuma Mexican Grill!
URL:https://babcockneighborhoodschools.org/event/dine-to-donate/
LOCATION:M’xuma Mexican Grill
CATEGORIES:Athletics,Athletics Calendar,School Calendar
ATTACH;FMTTYPE=image/png:https://babcockneighborhoodschools.org/wp-content/uploads/2026/04/Mxuma-Fundraiser.png
END:VEVENT
BEGIN:VEVENT
DTSTART;TZID=America/New_York:20260508T083000
DTEND;TZID=America/New_York:20260508T123000
DTSTAMP:20260424T120555
CREATED:20260407T202439Z
LAST-MODIFIED:20260409T194858Z
UID:22144-1778229000-1778243400@babcockneighborhoodschools.org
SUMMARY:5th Annual Golf Tournament
DESCRIPTION:Registration open at www.tinyurl.com/2026trailblazercup
URL:https://babcockneighborhoodschools.org/event/5th-annual-golf-tournament/
LOCATION:Babcock National Golf Course
CATEGORIES:Athletics,Athletics Calendar,Babcock Schools Volunteers,Events
ATTACH;FMTTYPE=image/png:https://babcockneighborhoodschools.org/wp-content/uploads/2026/04/Golf-8.5x11-Flyer_2026-1-scaled.png
END:VEVENT
BEGIN:VEVENT
DTSTART;TZID=America/New_York:20260511T180000
DTEND;TZID=America/New_York:20260511T190000
DTSTAMP:20260424T120555
CREATED:20250618T203215Z
LAST-MODIFIED:20250618T203215Z
UID:16008-1778522400-1778526000@babcockneighborhoodschools.org
SUMMARY:Babcock Schools Volunteers Meeting
DESCRIPTION:
URL:https://babcockneighborhoodschools.org/event/babcock-schools-volunteers-meeting-24/
LOCATION:Zoom
CATEGORIES:Babcock Schools Volunteers,Events
ATTACH;FMTTYPE=image/png:https://babcockneighborhoodschools.org/wp-content/uploads/2022/05/PRG-1.png
END:VEVENT
BEGIN:VEVENT
DTSTART;VALUE=DATE:20260520
DTEND;VALUE=DATE:20260521
DTSTAMP:20260424T120555
CREATED:20240520T143746Z
LAST-MODIFIED:20250620T204040Z
UID:10018-1779235200-1779321599@babcockneighborhoodschools.org
SUMMARY:Senior Awards Night
DESCRIPTION:For Seniors and immediate family. Details coming soon.
URL:https://babcockneighborhoodschools.org/event/senior-awards-night/
LOCATION:Babcock High School
CATEGORIES:Events,High School
ATTACH;FMTTYPE=image/png:https://babcockneighborhoodschools.org/wp-content/uploads/2025/06/Class-of-2024.png
END:VEVENT
BEGIN:VEVENT
DTSTART;VALUE=DATE:20260522
DTEND;VALUE=DATE:20260523
DTSTAMP:20260424T120555
CREATED:20250620T203750Z
LAST-MODIFIED:20250620T203750Z
UID:16084-1779408000-1779494399@babcockneighborhoodschools.org
SUMMARY:Seniors Last Day
DESCRIPTION:Last Day of School for the Class of 2026!
URL:https://babcockneighborhoodschools.org/event/seniors-last-day-2/
CATEGORIES:Events,High School
ATTACH;FMTTYPE=image/png:https://babcockneighborhoodschools.org/wp-content/uploads/2022/05/Early-Release.png
END:VEVENT
BEGIN:VEVENT
DTSTART;VALUE=DATE:20260525
DTEND;VALUE=DATE:20260526
DTSTAMP:20260424T120555
CREATED:20250609T133944Z
LAST-MODIFIED:20250609T133944Z
UID:15912-1779667200-1779753599@babcockneighborhoodschools.org
SUMMARY:No School
DESCRIPTION:Memorial Day
URL:https://babcockneighborhoodschools.org/event/no-school-21/
CATEGORIES:No School
ATTACH;FMTTYPE=image/png:https://babcockneighborhoodschools.org/wp-content/uploads/2022/05/No-School.png
END:VEVENT
BEGIN:VEVENT
DTSTART;VALUE=DATE:20260527
DTEND;VALUE=DATE:20260528
DTSTAMP:20260424T120555
CREATED:20250620T204201Z
LAST-MODIFIED:20250620T204201Z
UID:16088-1779840000-1779926399@babcockneighborhoodschools.org
SUMMARY:Senior Walk
DESCRIPTION:Seniors pick up cap & gown and participate in final Senior Walk.
URL:https://babcockneighborhoodschools.org/event/senior-walk/
LOCATION:Babcock High School
CATEGORIES:Events,High School
ATTACH;FMTTYPE=image/png:https://babcockneighborhoodschools.org/wp-content/uploads/2025/06/Class-of-2024.png
END:VEVENT
BEGIN:VEVENT
DTSTART;TZID=America/New_York:20260527T100000
DTEND;TZID=America/New_York:20260527T110000
DTSTAMP:20260424T120555
CREATED:20250908T115735Z
LAST-MODIFIED:20250908T115735Z
UID:17186-1779876000-1779879600@babcockneighborhoodschools.org
SUMMARY:Finance Meeting
DESCRIPTION:https://babcockneighborhoodschool-org.zoom.us/j/88146657493
URL:https://babcockneighborhoodschools.org/event/finance-meeting-41/
CATEGORIES:Governing Board
ATTACH;FMTTYPE=image/png:https://babcockneighborhoodschools.org/wp-content/uploads/2022/07/Finance-Meeting-2.png
END:VEVENT
BEGIN:VEVENT
DTSTART;TZID=America/New_York:20260529T190000
DTEND;TZID=America/New_York:20260529T200000
DTSTAMP:20260424T120555
CREATED:20250620T203909Z
LAST-MODIFIED:20250620T203909Z
UID:16086-1780081200-1780084800@babcockneighborhoodschools.org
SUMMARY:Class of 2026 Graduation Ceremony
DESCRIPTION:Graduating students will be provided tickets to share with family and friends.
URL:https://babcockneighborhoodschools.org/event/class-of-2026-graduation-ceremony/
CATEGORIES:Events,High School
ATTACH;FMTTYPE=image/png:https://babcockneighborhoodschools.org/wp-content/uploads/2024/05/Class-of-2024-1.png
END:VEVENT
END:VCALENDAR