BEGIN:VCALENDAR
VERSION:2.0
PRODID:-//Babcock Schools - ECPv6.15.17.1//NONSGML v1.0//EN
CALSCALE:GREGORIAN
METHOD:PUBLISH
X-ORIGINAL-URL:https://babcockneighborhoodschools.org
X-WR-CALDESC:Events for Babcock Schools
REFRESH-INTERVAL;VALUE=DURATION:PT1H
X-Robots-Tag:noindex
X-PUBLISHED-TTL:PT1H
BEGIN:VTIMEZONE
TZID:America/New_York
BEGIN:DAYLIGHT
TZOFFSETFROM:-0500
TZOFFSETTO:-0400
TZNAME:EDT
DTSTART:20240310T070000
END:DAYLIGHT
BEGIN:STANDARD
TZOFFSETFROM:-0400
TZOFFSETTO:-0500
TZNAME:EST
DTSTART:20241103T060000
END:STANDARD
BEGIN:DAYLIGHT
TZOFFSETFROM:-0500
TZOFFSETTO:-0400
TZNAME:EDT
DTSTART:20250309T070000
END:DAYLIGHT
BEGIN:STANDARD
TZOFFSETFROM:-0400
TZOFFSETTO:-0500
TZNAME:EST
DTSTART:20251102T060000
END:STANDARD
BEGIN:DAYLIGHT
TZOFFSETFROM:-0500
TZOFFSETTO:-0400
TZNAME:EDT
DTSTART:20260308T070000
END:DAYLIGHT
BEGIN:STANDARD
TZOFFSETFROM:-0400
TZOFFSETTO:-0500
TZNAME:EST
DTSTART:20261101T060000
END:STANDARD
END:VTIMEZONE
BEGIN:VEVENT
DTSTART;TZID=America/New_York:20251103T080000
DTEND;TZID=America/New_York:20251103T080000
DTSTAMP:20260424T183109
CREATED:20250803T120037Z
LAST-MODIFIED:20250902T132800Z
UID:17033-1762156800-1762156800@babcockneighborhoodschools.org
SUMMARY:BHS Fall Picture Retake Day
DESCRIPTION:Picture retake day. All students should wear their school uniform and their very best SMILE!
URL:https://babcockneighborhoodschools.org/event/bhs-fall-picture-retake-day/
LOCATION:Babcock High School
CATEGORIES:Events,High School,School Calendar
ATTACH;FMTTYPE=image/png:https://babcockneighborhoodschools.org/wp-content/uploads/2022/08/Picture-Day-2.png
END:VEVENT
BEGIN:VEVENT
DTSTART;TZID=America/New_York:20251110T180000
DTEND;TZID=America/New_York:20251110T190000
DTSTAMP:20260424T183109
CREATED:20250618T203000Z
LAST-MODIFIED:20250618T203000Z
UID:15996-1762797600-1762801200@babcockneighborhoodschools.org
SUMMARY:Babcock Schools Volunteers Meeting
DESCRIPTION:
URL:https://babcockneighborhoodschools.org/event/babcock-schools-volunteers-meeting-18/
LOCATION:Zoom
CATEGORIES:Babcock Schools Volunteers,Events
ATTACH;FMTTYPE=image/png:https://babcockneighborhoodschools.org/wp-content/uploads/2022/05/PRG-1.png
END:VEVENT
BEGIN:VEVENT
DTSTART;TZID=America/New_York:20251111T090000
DTEND;TZID=America/New_York:20251111T100000
DTSTAMP:20260424T183109
CREATED:20250618T205147Z
LAST-MODIFIED:20251107T173343Z
UID:16023-1762851600-1762855200@babcockneighborhoodschools.org
SUMMARY:Veterans Day Celebration
DESCRIPTION:The Babcock Performing Arts & Music Department would like to invite all veteran service members to our Salute to Veterans program on Tuesday\, November 11th at the Babcock Ranch Field House. \nJoin us for student-led tributes and performances honoring the heroes in our community. 🎶 \n☕ Light refreshments provided by the Babcock Ranch Rotary begin at 8:45am\, with the program starting promptly at 9:00am. \nWe look forward to celebrating and thanking you for your service. 🇺🇸🎖️
URL:https://babcockneighborhoodschools.org/event/veterans-day-celebration-3/
CATEGORIES:Babcock Schools Volunteers,Events,High School,Middle School,School Calendar
END:VEVENT
BEGIN:VEVENT
DTSTART;TZID=America/New_York:20251118T090000
DTEND;TZID=America/New_York:20251118T100000
DTSTAMP:20260424T183109
CREATED:20250610T143826Z
LAST-MODIFIED:20250610T143826Z
UID:15954-1763456400-1763460000@babcockneighborhoodschools.org
SUMMARY:Governing Board Meeting
DESCRIPTION:A Governing Board meeting will be held on November 18\, 2025 at 9 a.m. at the below address utilizing Communications Media Technology (“CMT”).  The CMT used will be the following link: https://babcockneighborhoodschool-org.zoom.us/j/89320631586.  Interested persons may either attend this meeting via CMT or in person at 43261 Cypress Parkway\, Babcock Ranch\, FL 33982. For more information about this meeting or to provide information to be considered at this meeting\, please contact Megan Lewter at mlewter@babcockneighborhoodschool.org or 239-567-3043.    \nJoin Zoom Meeting: https://babcockneighborhoodschool-org.zoom.us/j/89320631586
URL:https://babcockneighborhoodschools.org/event/governing-board-meeting-20/
CATEGORIES:Events,Governing Board
ATTACH;FMTTYPE=image/png:https://babcockneighborhoodschools.org/wp-content/uploads/2022/09/High-School-Event.png
END:VEVENT
BEGIN:VEVENT
DTSTART;TZID=America/New_York:20251119T090000
DTEND;TZID=America/New_York:20251119T100000
DTSTAMP:20260424T183109
CREATED:20250908T115617Z
LAST-MODIFIED:20250908T115849Z
UID:17174-1763542800-1763546400@babcockneighborhoodschools.org
SUMMARY:Finance Meeting
DESCRIPTION:https://babcockneighborhoodschool-org.zoom.us/j/88146657493
URL:https://babcockneighborhoodschools.org/event/finance-meeting-35/
CATEGORIES:Governing Board
ATTACH;FMTTYPE=image/png:https://babcockneighborhoodschools.org/wp-content/uploads/2022/07/Finance-Meeting-2.png
END:VEVENT
BEGIN:VEVENT
DTSTART;VALUE=DATE:20251120
DTEND;VALUE=DATE:20251121
DTSTAMP:20260424T183109
CREATED:20251103T172036Z
LAST-MODIFIED:20251103T172036Z
UID:18458-1763596800-1763683199@babcockneighborhoodschools.org
SUMMARY:6th Annual Turkey Trot
DESCRIPTION:The 6th Annual BNS Turkey Trot will be held on Thursday\, November 20th! 🦃 Let’s see how many non-perishable food items we can collect to help those in need this Thanksgiving. Don’t forget to send items with your students now through November 19th\, and come cheer on our festive runners at the William & Mary Ann Smith Sports Complex!
URL:https://babcockneighborhoodschools.org/event/6th-annual-turkey-trot/
LOCATION:William and Mary Ann Smith Sports Complex
CATEGORIES:Elementary,Events
ATTACH;FMTTYPE=image/png:https://babcockneighborhoodschools.org/wp-content/uploads/2025/11/Turkey-Trot.png
END:VEVENT
BEGIN:VEVENT
DTSTART;VALUE=DATE:20251124
DTEND;VALUE=DATE:20251129
DTSTAMP:20260424T183109
CREATED:20250609T133126Z
LAST-MODIFIED:20250609T133126Z
UID:15893-1763942400-1764374399@babcockneighborhoodschools.org
SUMMARY:Thanksgiving Break
DESCRIPTION:
URL:https://babcockneighborhoodschools.org/event/thanksgiving-break-3/
CATEGORIES:No School,School Calendar
ATTACH;FMTTYPE=image/png:https://babcockneighborhoodschools.org/wp-content/uploads/2025/06/Website-Event.png
END:VEVENT
END:VCALENDAR