BEGIN:VCALENDAR
VERSION:2.0
PRODID:-//Babcock Schools - ECPv6.15.17.1//NONSGML v1.0//EN
CALSCALE:GREGORIAN
METHOD:PUBLISH
X-ORIGINAL-URL:https://babcockneighborhoodschools.org
X-WR-CALDESC:Events for Babcock Schools
REFRESH-INTERVAL;VALUE=DURATION:PT1H
X-Robots-Tag:noindex
X-PUBLISHED-TTL:PT1H
BEGIN:VTIMEZONE
TZID:America/New_York
BEGIN:DAYLIGHT
TZOFFSETFROM:-0500
TZOFFSETTO:-0400
TZNAME:EDT
DTSTART:20240310T070000
END:DAYLIGHT
BEGIN:STANDARD
TZOFFSETFROM:-0400
TZOFFSETTO:-0500
TZNAME:EST
DTSTART:20241103T060000
END:STANDARD
BEGIN:DAYLIGHT
TZOFFSETFROM:-0500
TZOFFSETTO:-0400
TZNAME:EDT
DTSTART:20250309T070000
END:DAYLIGHT
BEGIN:STANDARD
TZOFFSETFROM:-0400
TZOFFSETTO:-0500
TZNAME:EST
DTSTART:20251102T060000
END:STANDARD
BEGIN:DAYLIGHT
TZOFFSETFROM:-0500
TZOFFSETTO:-0400
TZNAME:EDT
DTSTART:20260308T070000
END:DAYLIGHT
BEGIN:STANDARD
TZOFFSETFROM:-0400
TZOFFSETTO:-0500
TZNAME:EST
DTSTART:20261101T060000
END:STANDARD
END:VTIMEZONE
BEGIN:VEVENT
DTSTART;VALUE=DATE:20250901
DTEND;VALUE=DATE:20250902
DTSTAMP:20260424T211725
CREATED:20250609T132001Z
LAST-MODIFIED:20250609T132001Z
UID:15887-1756684800-1756771199@babcockneighborhoodschools.org
SUMMARY:No School
DESCRIPTION:Labor Day
URL:https://babcockneighborhoodschools.org/event/no-school-17/
CATEGORIES:No School,School Calendar
ATTACH;FMTTYPE=image/png:https://babcockneighborhoodschools.org/wp-content/uploads/2022/05/No-School.png
END:VEVENT
BEGIN:VEVENT
DTSTART;TZID=America/New_York:20250908T180000
DTEND;TZID=America/New_York:20250908T190000
DTSTAMP:20260424T211725
CREATED:20250618T202848Z
LAST-MODIFIED:20250618T202915Z
UID:15991-1757354400-1757358000@babcockneighborhoodschools.org
SUMMARY:Babcock Schools Volunteers Meeting
DESCRIPTION:
URL:https://babcockneighborhoodschools.org/event/babcock-schools-volunteers-meeting-16/
LOCATION:Babcock High School
CATEGORIES:Babcock Schools Volunteers,Events
ATTACH;FMTTYPE=image/png:https://babcockneighborhoodschools.org/wp-content/uploads/2022/05/PRG-1.png
END:VEVENT
BEGIN:VEVENT
DTSTART;TZID=America/New_York:20250909T090000
DTEND;TZID=America/New_York:20250909T100000
DTSTAMP:20260424T211725
CREATED:20250610T143807Z
LAST-MODIFIED:20250610T143807Z
UID:15952-1757408400-1757412000@babcockneighborhoodschools.org
SUMMARY:Governing Board Meeting
DESCRIPTION:A Governing Board meeting will be held on September 9\, 2025 at 9 a.m. at the below address utilizing Communications Media Technology (“CMT”).  The CMT used will be the following link: https://babcockneighborhoodschool-org.zoom.us/j/89320631586.  Interested persons may either attend this meeting via CMT or in person at 43261 Cypress Parkway\, Babcock Ranch\, FL 33982. For more information about this meeting or to provide information to be considered at this meeting\, please contact Megan Lewter at mlewter@babcockneighborhoodschool.org or 239-567-3043.    \nJoin Zoom Meeting: https://babcockneighborhoodschool-org.zoom.us/j/89320631586
URL:https://babcockneighborhoodschools.org/event/governing-board-meeting-19/
CATEGORIES:Events,Governing Board
ATTACH;FMTTYPE=image/png:https://babcockneighborhoodschools.org/wp-content/uploads/2022/09/High-School-Event.png
END:VEVENT
BEGIN:VEVENT
DTSTART;TZID=America/New_York:20250924T100000
DTEND;TZID=America/New_York:20250924T110000
DTSTAMP:20260424T211725
CREATED:20250908T115540Z
LAST-MODIFIED:20250908T115551Z
UID:17170-1758708000-1758711600@babcockneighborhoodschools.org
SUMMARY:Finance Meeting
DESCRIPTION:https://babcockneighborhoodschool-org.zoom.us/j/88146657493
URL:https://babcockneighborhoodschools.org/event/finance-meeting-28/
CATEGORIES:Governing Board
ATTACH;FMTTYPE=image/png:https://babcockneighborhoodschools.org/wp-content/uploads/2022/07/Finance-Meeting-2.png
END:VEVENT
BEGIN:VEVENT
DTSTART;TZID=America/New_York:20250926T163000
DTEND;TZID=America/New_York:20250926T183000
DTSTAMP:20260424T211725
CREATED:20250618T204858Z
LAST-MODIFIED:20250923T132047Z
UID:16016-1758904200-1758911400@babcockneighborhoodschools.org
SUMMARY:K-8 Homecoming Tailgate
DESCRIPTION:
URL:https://babcockneighborhoodschools.org/event/k-8-homecoming-tailgate/
CATEGORIES:Babcock Schools Volunteers,Events,School Calendar
ATTACH;FMTTYPE=image/png:https://babcockneighborhoodschools.org/wp-content/uploads/2025/06/Homecoming-Tailgate-Party-2025-SocialParentSquare.png
END:VEVENT
BEGIN:VEVENT
DTSTART;TZID=America/New_York:20250926T190000
DTEND;TZID=America/New_York:20250926T220000
DTSTAMP:20260424T211725
CREATED:20250620T202922Z
LAST-MODIFIED:20250620T202922Z
UID:16078-1758913200-1758924000@babcockneighborhoodschools.org
SUMMARY:BHS Homecoming Football Game
DESCRIPTION:vs Santa Fe Catholic
URL:https://babcockneighborhoodschools.org/event/bhs-homecoming-football-game/
LOCATION:William and Mary Ann Smith Sports Complex
CATEGORIES:Events,High School,School Calendar
ATTACH;FMTTYPE=image/png:https://babcockneighborhoodschools.org/wp-content/uploads/2023/12/Football.png
END:VEVENT
BEGIN:VEVENT
DTSTART;VALUE=DATE:20250927
DTEND;VALUE=DATE:20250928
DTSTAMP:20260424T211725
CREATED:20250620T203220Z
LAST-MODIFIED:20250923T132505Z
UID:16080-1758931200-1759017599@babcockneighborhoodschools.org
SUMMARY:BHS Homecoming Dance
DESCRIPTION:
URL:https://babcockneighborhoodschools.org/event/bhs-homecoming-dance/
CATEGORIES:Events,High School,School Calendar
ATTACH;FMTTYPE=image/png:https://babcockneighborhoodschools.org/wp-content/uploads/2025/06/Hoco-Invite.png
END:VEVENT
END:VCALENDAR