BEGIN:VCALENDAR
VERSION:2.0
PRODID:-//Babcock Schools - ECPv6.15.17.1//NONSGML v1.0//EN
CALSCALE:GREGORIAN
METHOD:PUBLISH
X-WR-CALNAME:Babcock Schools
X-ORIGINAL-URL:https://babcockneighborhoodschools.org
X-WR-CALDESC:Events for Babcock Schools
REFRESH-INTERVAL;VALUE=DURATION:PT1H
X-Robots-Tag:noindex
X-PUBLISHED-TTL:PT1H
BEGIN:VTIMEZONE
TZID:America/New_York
BEGIN:DAYLIGHT
TZOFFSETFROM:-0500
TZOFFSETTO:-0400
TZNAME:EDT
DTSTART:20220313T070000
END:DAYLIGHT
BEGIN:STANDARD
TZOFFSETFROM:-0400
TZOFFSETTO:-0500
TZNAME:EST
DTSTART:20221106T060000
END:STANDARD
BEGIN:DAYLIGHT
TZOFFSETFROM:-0500
TZOFFSETTO:-0400
TZNAME:EDT
DTSTART:20230312T070000
END:DAYLIGHT
BEGIN:STANDARD
TZOFFSETFROM:-0400
TZOFFSETTO:-0500
TZNAME:EST
DTSTART:20231105T060000
END:STANDARD
BEGIN:DAYLIGHT
TZOFFSETFROM:-0500
TZOFFSETTO:-0400
TZNAME:EDT
DTSTART:20240310T070000
END:DAYLIGHT
BEGIN:STANDARD
TZOFFSETFROM:-0400
TZOFFSETTO:-0500
TZNAME:EST
DTSTART:20241103T060000
END:STANDARD
END:VTIMEZONE
BEGIN:VEVENT
DTSTART;TZID=America/New_York:20230413T160000
DTEND;TZID=America/New_York:20230413T160000
DTSTAMP:20260424T170752
CREATED:20230217T144452Z
LAST-MODIFIED:20230217T144452Z
UID:8067-1681401600-1681401600@babcockneighborhoodschools.org
SUMMARY:MS Tennis Match @ Genesis Christian School
DESCRIPTION:
URL:https://babcockneighborhoodschools.org/event/ms-tennis-match-6/
CATEGORIES:Athletics,Middle School
ATTACH;FMTTYPE=image/png:https://babcockneighborhoodschools.org/wp-content/uploads/2023/02/Match-Day.png
END:VEVENT
BEGIN:VEVENT
DTSTART;TZID=America/New_York:20230413T090000
DTEND;TZID=America/New_York:20230413T100000
DTSTAMP:20260424T170752
CREATED:20230213T151459Z
LAST-MODIFIED:20230213T151459Z
UID:8017-1681376400-1681380000@babcockneighborhoodschools.org
SUMMARY:Tidbits with Treece
DESCRIPTION:Topic: Why CAPS? \nRegister here: https://www.signupgenius.com/go/10C0E4CA5AC2CA5F4CE9-tidbits (limited to 25)
URL:https://babcockneighborhoodschools.org/event/tidbits-with-treece-7/
LOCATION:Babcock High School
CATEGORIES:Events
ATTACH;FMTTYPE=image/png:https://babcockneighborhoodschools.org/wp-content/uploads/2023/02/Tidbits-with-Treece.png
END:VEVENT
BEGIN:VEVENT
DTSTART;TZID=America/New_York:20230412T180000
DTEND;TZID=America/New_York:20230412T190000
DTSTAMP:20260424T170752
CREATED:20220517T195520Z
LAST-MODIFIED:20220916T211004Z
UID:6633-1681322400-1681326000@babcockneighborhoodschools.org
SUMMARY:Babcock School Volunteers Meeting
DESCRIPTION:Meeting in BNS Cafeteria. Committee break-out meetings to follow.
URL:https://babcockneighborhoodschools.org/event/parent-rep-group-meeting-9/
CATEGORIES:Babcock Schools Volunteers
ATTACH;FMTTYPE=image/png:https://babcockneighborhoodschools.org/wp-content/uploads/2022/05/PRG-1.png
END:VEVENT
BEGIN:VEVENT
DTSTART;TZID=America/New_York:20230411T160000
DTEND;TZID=America/New_York:20230411T160000
DTSTAMP:20260424T170752
CREATED:20230307T230353Z
LAST-MODIFIED:20230307T230353Z
UID:8102-1681228800-1681228800@babcockneighborhoodschools.org
SUMMARY:MS Golf @ Capris Isles Golf Club
DESCRIPTION:
URL:https://babcockneighborhoodschools.org/event/ms-golf-3/
CATEGORIES:Athletics,Middle School
ATTACH;FMTTYPE=image/png:https://babcockneighborhoodschools.org/wp-content/uploads/2022/07/Game-Day.png
END:VEVENT
BEGIN:VEVENT
DTSTART;TZID=America/New_York:20230411T160000
DTEND;TZID=America/New_York:20230411T160000
DTSTAMP:20260424T170752
CREATED:20230217T144424Z
LAST-MODIFIED:20230217T144424Z
UID:8065-1681228800-1681228800@babcockneighborhoodschools.org
SUMMARY:MS Tennis Match vs Charlotte Prep
DESCRIPTION:
URL:https://babcockneighborhoodschools.org/event/ms-tennis-match-5/
CATEGORIES:Athletics,Middle School
ATTACH;FMTTYPE=image/png:https://babcockneighborhoodschools.org/wp-content/uploads/2023/02/Match-Day.png
END:VEVENT
BEGIN:VEVENT
DTSTART;TZID=America/New_York:20230411T090000
DTEND;TZID=America/New_York:20230411T100000
DTSTAMP:20260424T170752
CREATED:20220813T130011Z
LAST-MODIFIED:20230216T151457Z
UID:7301-1681203600-1681207200@babcockneighborhoodschools.org
SUMMARY:Building & Grounds Meeting
DESCRIPTION:https://babcockneighborhoodschool-org.zoom.us/j/88986230457
URL:https://babcockneighborhoodschools.org/event/building-grounds-meeting-9/
CATEGORIES:Governing Board
ATTACH;FMTTYPE=image/png:https://babcockneighborhoodschools.org/wp-content/uploads/2022/08/Building-and-Grounds-Committee-Meeting.png
END:VEVENT
BEGIN:VEVENT
DTSTART;TZID=America/New_York:20230408T090000
DTEND;TZID=America/New_York:20230408T140000
DTSTAMP:20260424T170752
CREATED:20230210T211029Z
LAST-MODIFIED:20230210T211029Z
UID:7960-1680944400-1680962400@babcockneighborhoodschools.org
SUMMARY:Uniform Store Open
DESCRIPTION:Signature Threads is open for ordering and pick-ups from 9am-2pm. As a reminder\, uniforms can be ordered online during the months of February\, April\, June\, and September at https://signaturethreadsswfl.com/babcock-schools/.
URL:https://babcockneighborhoodschools.org/event/uniform-store-open-2/
CATEGORIES:Events
ATTACH;FMTTYPE=image/png:https://babcockneighborhoodschools.org/wp-content/uploads/2023/02/Uniforms-1.png
END:VEVENT
BEGIN:VEVENT
DTSTART;VALUE=DATE:20230407
DTEND;VALUE=DATE:20230408
DTSTAMP:20260424T170752
CREATED:20220517T185818Z
LAST-MODIFIED:20220517T185818Z
UID:6605-1680825600-1680911999@babcockneighborhoodschools.org
SUMMARY:No School
DESCRIPTION:Good Friday
URL:https://babcockneighborhoodschools.org/event/no-school-5/
CATEGORIES:No School
ATTACH;FMTTYPE=image/png:https://babcockneighborhoodschools.org/wp-content/uploads/2022/05/No-School.png
END:VEVENT
BEGIN:VEVENT
DTSTART;TZID=America/New_York:20230406T160000
DTEND;TZID=America/New_York:20230406T160000
DTSTAMP:20260424T170752
CREATED:20230217T144359Z
LAST-MODIFIED:20230217T144359Z
UID:8063-1680796800-1680796800@babcockneighborhoodschools.org
SUMMARY:MS Tennis Match vs Sarasota Christian
DESCRIPTION:
URL:https://babcockneighborhoodschools.org/event/ms-tennis-match-4/
CATEGORIES:Athletics,Middle School
ATTACH;FMTTYPE=image/png:https://babcockneighborhoodschools.org/wp-content/uploads/2023/02/Match-Day.png
END:VEVENT
BEGIN:VEVENT
DTSTART;TZID=America/New_York:20230405T153000
DTEND;TZID=America/New_York:20230405T173000
DTSTAMP:20260424T170752
CREATED:20220907T130822Z
LAST-MODIFIED:20220907T131405Z
UID:7544-1680708600-1680715800@babcockneighborhoodschools.org
SUMMARY:Book Bash
DESCRIPTION:
URL:https://babcockneighborhoodschools.org/event/book-bash-5/
LOCATION:Babcock Neighborhood School
CATEGORIES:Babcock Schools Volunteers,Elementary,Events
ATTACH;FMTTYPE=image/png:https://babcockneighborhoodschools.org/wp-content/uploads/2022/09/Book-Bash.png
END:VEVENT
BEGIN:VEVENT
DTSTART;TZID=America/New_York:20230331T150000
DTEND;TZID=America/New_York:20230331T150000
DTSTAMP:20260424T170752
CREATED:20230213T162429Z
LAST-MODIFIED:20230213T162429Z
UID:8033-1680274800-1680274800@babcockneighborhoodschools.org
SUMMARY:HS Track Meet @ Manatee High School
DESCRIPTION:
URL:https://babcockneighborhoodschools.org/event/hs-track-meet-4/
CATEGORIES:Athletics,High School
ATTACH;FMTTYPE=image/png:https://babcockneighborhoodschools.org/wp-content/uploads/2022/07/Meet-Day.png
END:VEVENT
BEGIN:VEVENT
DTSTART;VALUE=DATE:20230331
DTEND;VALUE=DATE:20230401
DTSTAMP:20260424T170752
CREATED:20220517T185719Z
LAST-MODIFIED:20221007T141036Z
UID:6603-1680220800-1680307199@babcockneighborhoodschools.org
SUMMARY:End of Quarter 3
DESCRIPTION:
URL:https://babcockneighborhoodschools.org/event/end-of-quarter-3/
CATEGORIES:School Calendar
ATTACH;FMTTYPE=image/png:https://babcockneighborhoodschools.org/wp-content/uploads/2022/05/Quarter.png
END:VEVENT
BEGIN:VEVENT
DTSTART;TZID=America/New_York:20230330T160000
DTEND;TZID=America/New_York:20230330T160000
DTSTAMP:20260424T170752
CREATED:20230217T144249Z
LAST-MODIFIED:20230217T144249Z
UID:8059-1680192000-1680192000@babcockneighborhoodschools.org
SUMMARY:MS Tennis Match vs St. Martha's Catholic School
DESCRIPTION:
URL:https://babcockneighborhoodschools.org/event/ms-tennis-match-2/
CATEGORIES:Athletics
ATTACH;FMTTYPE=image/png:https://babcockneighborhoodschools.org/wp-content/uploads/2023/02/Match-Day.png
END:VEVENT
BEGIN:VEVENT
DTSTART;TZID=America/New_York:20230330T140000
DTEND;TZID=America/New_York:20230330T150000
DTSTAMP:20260424T170752
CREATED:20220804T213349Z
LAST-MODIFIED:20230306T200010Z
UID:7165-1680184800-1680188400@babcockneighborhoodschools.org
SUMMARY:Academic Committee Meeting
DESCRIPTION:https://babcockneighborhoodschool-org.zoom.us/j/89781964105
URL:https://babcockneighborhoodschools.org/event/academic-committee-meeting-8/
CATEGORIES:Governing Board
ATTACH;FMTTYPE=image/png:https://babcockneighborhoodschools.org/wp-content/uploads/2022/08/Academic-Committee-Meeting.png
END:VEVENT
BEGIN:VEVENT
DTSTART;TZID=America/New_York:20230328T160000
DTEND;TZID=America/New_York:20230328T160000
DTSTAMP:20260424T170752
CREATED:20230307T230209Z
LAST-MODIFIED:20230307T230209Z
UID:8098-1680019200-1680019200@babcockneighborhoodschools.org
SUMMARY:MS Golf @ Capris Isle Golf Club
DESCRIPTION:
URL:https://babcockneighborhoodschools.org/event/ms-golf/
CATEGORIES:Athletics,Middle School
ATTACH;FMTTYPE=image/png:https://babcockneighborhoodschools.org/wp-content/uploads/2022/07/Game-Day.png
END:VEVENT
BEGIN:VEVENT
DTSTART;TZID=America/New_York:20230328T160000
DTEND;TZID=America/New_York:20230328T160000
DTSTAMP:20260424T170752
CREATED:20230217T144217Z
LAST-MODIFIED:20230217T144217Z
UID:8057-1680019200-1680019200@babcockneighborhoodschools.org
SUMMARY:MS Tennis Match @ Venice Christian School
DESCRIPTION:
URL:https://babcockneighborhoodschools.org/event/ms-tennis-match/
CATEGORIES:Athletics
ATTACH;FMTTYPE=image/png:https://babcockneighborhoodschools.org/wp-content/uploads/2023/02/Match-Day.png
END:VEVENT
BEGIN:VEVENT
DTSTART;VALUE=DATE:20230320
DTEND;VALUE=DATE:20230325
DTSTAMP:20260424T170752
CREATED:20220517T185631Z
LAST-MODIFIED:20221007T140959Z
UID:6601-1679270400-1679702399@babcockneighborhoodschools.org
SUMMARY:Spring Break
DESCRIPTION:
URL:https://babcockneighborhoodschools.org/event/spring-break/
CATEGORIES:No School,School Calendar
ATTACH;FMTTYPE=image/png:https://babcockneighborhoodschools.org/wp-content/uploads/2022/05/Vacation.png
END:VEVENT
BEGIN:VEVENT
DTSTART;TZID=America/New_York:20230307T160000
DTEND;TZID=America/New_York:20230307T160000
DTSTAMP:20260424T170752
CREATED:20230217T144023Z
LAST-MODIFIED:20230217T144023Z
UID:8054-1678204800-1678204800@babcockneighborhoodschools.org
SUMMARY:HS Tennis Match @ SFCA
DESCRIPTION:
URL:https://babcockneighborhoodschools.org/event/hs-tennis-match/
CATEGORIES:Athletics,High School
ATTACH;FMTTYPE=image/png:https://babcockneighborhoodschools.org/wp-content/uploads/2023/02/Match-Day.png
END:VEVENT
BEGIN:VEVENT
DTSTART;TZID=America/New_York:20230316T150000
DTEND;TZID=America/New_York:20230316T150000
DTSTAMP:20260424T170752
CREATED:20230216T141441Z
LAST-MODIFIED:20230216T141441Z
UID:8052-1678978800-1678978800@babcockneighborhoodschools.org
SUMMARY:HS Track Meet @ South Ft Myers
DESCRIPTION:
URL:https://babcockneighborhoodschools.org/event/hs-track-meet-south-ft-myers/
CATEGORIES:Athletics,High School
ATTACH;FMTTYPE=image/png:https://babcockneighborhoodschools.org/wp-content/uploads/2022/07/Meet-Day.png
END:VEVENT
BEGIN:VEVENT
DTSTART;TZID=America/New_York:20230315T150000
DTEND;TZID=America/New_York:20230315T150000
DTSTAMP:20260424T170752
CREATED:20230216T141418Z
LAST-MODIFIED:20230216T141418Z
UID:8050-1678892400-1678892400@babcockneighborhoodschools.org
SUMMARY:HS Track Meet @ South Ft Myers
DESCRIPTION:
URL:https://babcockneighborhoodschools.org/event/hs-track-meet/
CATEGORIES:Athletics,High School
ATTACH;FMTTYPE=image/png:https://babcockneighborhoodschools.org/wp-content/uploads/2022/07/Meet-Day.png
END:VEVENT
BEGIN:VEVENT
DTSTART;TZID=America/New_York:20230315T124500
DTEND;TZID=America/New_York:20230315T134500
DTSTAMP:20260424T170752
CREATED:20220729T175631Z
LAST-MODIFIED:20230308T135414Z
UID:7030-1678884300-1678887900@babcockneighborhoodschools.org
SUMMARY:Finance Meeting
DESCRIPTION:https://babcockneighborhoodschool-org.zoom.us/j/88146657493
URL:https://babcockneighborhoodschools.org/event/finance-meeting-8/
CATEGORIES:Governing Board
ATTACH;FMTTYPE=image/png:https://babcockneighborhoodschools.org/wp-content/uploads/2022/07/Finance-Meeting-2.png
END:VEVENT
BEGIN:VEVENT
DTSTART;TZID=America/New_York:20230315T090000
DTEND;TZID=America/New_York:20230315T100000
DTSTAMP:20260424T170752
CREATED:20230210T213602Z
LAST-MODIFIED:20230213T151416Z
UID:7981-1678870800-1678874400@babcockneighborhoodschools.org
SUMMARY:Tidbits with Treece
DESCRIPTION:Topic: Why Empower Learning? \nRegister here: https://www.signupgenius.com/go/10C0E4CA5AC2CA5F4CE9-tidbits (limited to 25)
URL:https://babcockneighborhoodschools.org/event/tidbits-with-treece-3/
LOCATION:Babcock High School
CATEGORIES:Events
ATTACH;FMTTYPE=image/png:https://babcockneighborhoodschools.org/wp-content/uploads/2023/02/Tidbits-with-Treece.png
END:VEVENT
BEGIN:VEVENT
DTSTART;TZID=America/New_York:20230314T080000
DTEND;TZID=America/New_York:20230314T100000
DTSTAMP:20260424T170752
CREATED:20221214T194657Z
LAST-MODIFIED:20221214T194657Z
UID:7830-1678780800-1678788000@babcockneighborhoodschools.org
SUMMARY:Thanks a Latte Community Event
DESCRIPTION:
URL:https://babcockneighborhoodschools.org/event/thanks-a-latte-community-event/
LOCATION:Founder’s Square
CATEGORIES:Babcock Schools Volunteers,Events
ATTACH;FMTTYPE=image/png:https://babcockneighborhoodschools.org/wp-content/uploads/2022/12/Latte.png
END:VEVENT
BEGIN:VEVENT
DTSTART;TZID=America/New_York:20230313T090000
DTEND;TZID=America/New_York:20230313T100000
DTSTAMP:20260424T170752
CREATED:20220813T125943Z
LAST-MODIFIED:20230216T151402Z
UID:7299-1678698000-1678701600@babcockneighborhoodschools.org
SUMMARY:Building & Grounds Meeting
DESCRIPTION:https://babcockneighborhoodschool-org.zoom.us/j/88986230457
URL:https://babcockneighborhoodschools.org/event/building-grounds-meeting-8/
CATEGORIES:Governing Board
ATTACH;FMTTYPE=image/png:https://babcockneighborhoodschools.org/wp-content/uploads/2022/08/Building-and-Grounds-Committee-Meeting.png
END:VEVENT
BEGIN:VEVENT
DTSTART;TZID=America/New_York:20230311T190000
DTEND;TZID=America/New_York:20230311T190000
DTSTAMP:20260424T170752
CREATED:20230211T203303Z
LAST-MODIFIED:20230211T203303Z
UID:7994-1678561200-1678561200@babcockneighborhoodschools.org
SUMMARY:Everblades Spirit Night
DESCRIPTION:
URL:https://babcockneighborhoodschools.org/event/everblades/
CATEGORIES:Babcock Schools Volunteers,Events
ATTACH;FMTTYPE=image/png:https://babcockneighborhoodschools.org/wp-content/uploads/2023/02/FE.png
END:VEVENT
BEGIN:VEVENT
DTSTART;TZID=America/New_York:20230310T120000
DTEND;TZID=America/New_York:20230310T150000
DTSTAMP:20260424T170752
CREATED:20220517T185530Z
LAST-MODIFIED:20220517T185530Z
UID:6599-1678449600-1678460400@babcockneighborhoodschools.org
SUMMARY:Early Dismissal
DESCRIPTION:Early dismissal. Personal development day for teachers.
URL:https://babcockneighborhoodschools.org/event/early-dismissal-3/
CATEGORIES:No School
ATTACH;FMTTYPE=image/png:https://babcockneighborhoodschools.org/wp-content/uploads/2022/05/Early-Release.png
END:VEVENT
BEGIN:VEVENT
DTSTART;TZID=America/New_York:20230309T150000
DTEND;TZID=America/New_York:20230309T150000
DTSTAMP:20260424T170752
CREATED:20230213T162402Z
LAST-MODIFIED:20230213T162402Z
UID:8031-1678374000-1678374000@babcockneighborhoodschools.org
SUMMARY:HS Track Meet @ North Port High School
DESCRIPTION:
URL:https://babcockneighborhoodschools.org/event/hs-track-meet-3/
CATEGORIES:Athletics,High School
ATTACH;FMTTYPE=image/png:https://babcockneighborhoodschools.org/wp-content/uploads/2022/07/Meet-Day.png
END:VEVENT
BEGIN:VEVENT
DTSTART;TZID=America/New_York:20230307T180000
DTEND;TZID=America/New_York:20230307T190000
DTSTAMP:20260424T170752
CREATED:20220517T195506Z
LAST-MODIFIED:20220916T211011Z
UID:6631-1678212000-1678215600@babcockneighborhoodschools.org
SUMMARY:Babcock School Volunteers Meeting
DESCRIPTION:Meeting in BNS Cafeteria. Committee break-out meetings to follow.
URL:https://babcockneighborhoodschools.org/event/parent-rep-group-meeting-8/
CATEGORIES:Babcock Schools Volunteers
ATTACH;FMTTYPE=image/png:https://babcockneighborhoodschools.org/wp-content/uploads/2022/05/PRG-1.png
END:VEVENT
BEGIN:VEVENT
DTSTART;TZID=America/New_York:20230307T170000
DTEND;TZID=America/New_York:20230307T180000
DTSTAMP:20260424T170752
CREATED:20220517T180859Z
LAST-MODIFIED:20230216T150706Z
UID:6570-1678208400-1678212000@babcockneighborhoodschools.org
SUMMARY:Governing Board Meeting
DESCRIPTION:NOTICE OF GOVERNING BOARD MEETING FOR BABCOCK NEIGHBORHOOD SCHOOL\, INC. \nA GOVERNING BOARD MEETING WILL BE HELD ON MARCH 7\, 2023. INTERESTED PERSONS MAY ATTEND THIS MEETING-PERSON AT THE FOLLOWING ADDRESS: 43301 CYPRESS PARKWAY\, BABCOCK RANCH\, FL 33982.  FOR MORE INFORMATION ABOUT THIS MEETING OR TO PROVIDE INFORMATION TO BE CONSIDERED AT THIS MEETING\, PLEASE CONTACT SAMANTHA CARISTO AT scaristo@babcockneighborhoodschool.org. \nTHE MEETING WILL INCLUDE DISCUSSION REGARDING MATTERS PERTAINING TO THE BABCOCK NEIGHBORHOOD SCHOOL. \nhttps://babcockneighborhoodschool-org.zoom.us/j/97715524142
URL:https://babcockneighborhoodschools.org/event/governing-board-meeting-5/
CATEGORIES:Governing Board
ATTACH;FMTTYPE=image/png:https://babcockneighborhoodschools.org/wp-content/uploads/2022/05/School-Board-Meeting.png
END:VEVENT
BEGIN:VEVENT
DTSTART;TZID=America/New_York:20230303T153000
DTEND;TZID=America/New_York:20230303T170000
DTSTAMP:20260424T170752
CREATED:20221214T194153Z
LAST-MODIFIED:20221214T194153Z
UID:7828-1677857400-1677862800@babcockneighborhoodschools.org
SUMMARY:K/1st Grade Fun Night
DESCRIPTION:K and 1st grade only. Babcock School Volunteers event.
URL:https://babcockneighborhoodschools.org/event/k-1st-grade-fun-night/
LOCATION:BNS Cafeteria
CATEGORIES:Babcock Schools Volunteers,Elementary,Events
ATTACH;FMTTYPE=image/png:https://babcockneighborhoodschools.org/wp-content/uploads/2023/01/Fun-Night.png
END:VEVENT
END:VCALENDAR