BEGIN:VCALENDAR
VERSION:2.0
PRODID:-//Babcock Schools - ECPv6.15.17.1//NONSGML v1.0//EN
CALSCALE:GREGORIAN
METHOD:PUBLISH
X-WR-CALNAME:Babcock Schools
X-ORIGINAL-URL:https://babcockneighborhoodschools.org
X-WR-CALDESC:Events for Babcock Schools
REFRESH-INTERVAL;VALUE=DURATION:PT1H
X-Robots-Tag:noindex
X-PUBLISHED-TTL:PT1H
BEGIN:VTIMEZONE
TZID:America/New_York
BEGIN:DAYLIGHT
TZOFFSETFROM:-0500
TZOFFSETTO:-0400
TZNAME:EDT
DTSTART:20220313T070000
END:DAYLIGHT
BEGIN:STANDARD
TZOFFSETFROM:-0400
TZOFFSETTO:-0500
TZNAME:EST
DTSTART:20221106T060000
END:STANDARD
BEGIN:DAYLIGHT
TZOFFSETFROM:-0500
TZOFFSETTO:-0400
TZNAME:EDT
DTSTART:20230312T070000
END:DAYLIGHT
BEGIN:STANDARD
TZOFFSETFROM:-0400
TZOFFSETTO:-0500
TZNAME:EST
DTSTART:20231105T060000
END:STANDARD
BEGIN:DAYLIGHT
TZOFFSETFROM:-0500
TZOFFSETTO:-0400
TZNAME:EDT
DTSTART:20240310T070000
END:DAYLIGHT
BEGIN:STANDARD
TZOFFSETFROM:-0400
TZOFFSETTO:-0500
TZNAME:EST
DTSTART:20241103T060000
END:STANDARD
END:VTIMEZONE
BEGIN:VEVENT
DTSTART;TZID=America/New_York:20230310T120000
DTEND;TZID=America/New_York:20230310T150000
DTSTAMP:20260424T224645
CREATED:20220517T185530Z
LAST-MODIFIED:20220517T185530Z
UID:6599-1678449600-1678460400@babcockneighborhoodschools.org
SUMMARY:Early Dismissal
DESCRIPTION:Early dismissal. Personal development day for teachers.
URL:https://babcockneighborhoodschools.org/event/early-dismissal-3/
CATEGORIES:No School
ATTACH;FMTTYPE=image/png:https://babcockneighborhoodschools.org/wp-content/uploads/2022/05/Early-Release.png
END:VEVENT
BEGIN:VEVENT
DTSTART;TZID=America/New_York:20230309T150000
DTEND;TZID=America/New_York:20230309T150000
DTSTAMP:20260424T224645
CREATED:20230213T162402Z
LAST-MODIFIED:20230213T162402Z
UID:8031-1678374000-1678374000@babcockneighborhoodschools.org
SUMMARY:HS Track Meet @ North Port High School
DESCRIPTION:
URL:https://babcockneighborhoodschools.org/event/hs-track-meet-3/
CATEGORIES:Athletics,High School
ATTACH;FMTTYPE=image/png:https://babcockneighborhoodschools.org/wp-content/uploads/2022/07/Meet-Day.png
END:VEVENT
BEGIN:VEVENT
DTSTART;TZID=America/New_York:20230307T180000
DTEND;TZID=America/New_York:20230307T190000
DTSTAMP:20260424T224645
CREATED:20220517T195506Z
LAST-MODIFIED:20220916T211011Z
UID:6631-1678212000-1678215600@babcockneighborhoodschools.org
SUMMARY:Babcock School Volunteers Meeting
DESCRIPTION:Meeting in BNS Cafeteria. Committee break-out meetings to follow.
URL:https://babcockneighborhoodschools.org/event/parent-rep-group-meeting-8/
CATEGORIES:Babcock Schools Volunteers
ATTACH;FMTTYPE=image/png:https://babcockneighborhoodschools.org/wp-content/uploads/2022/05/PRG-1.png
END:VEVENT
BEGIN:VEVENT
DTSTART;TZID=America/New_York:20230307T170000
DTEND;TZID=America/New_York:20230307T180000
DTSTAMP:20260424T224645
CREATED:20220517T180859Z
LAST-MODIFIED:20230216T150706Z
UID:6570-1678208400-1678212000@babcockneighborhoodschools.org
SUMMARY:Governing Board Meeting
DESCRIPTION:NOTICE OF GOVERNING BOARD MEETING FOR BABCOCK NEIGHBORHOOD SCHOOL\, INC. \nA GOVERNING BOARD MEETING WILL BE HELD ON MARCH 7\, 2023. INTERESTED PERSONS MAY ATTEND THIS MEETING-PERSON AT THE FOLLOWING ADDRESS: 43301 CYPRESS PARKWAY\, BABCOCK RANCH\, FL 33982.  FOR MORE INFORMATION ABOUT THIS MEETING OR TO PROVIDE INFORMATION TO BE CONSIDERED AT THIS MEETING\, PLEASE CONTACT SAMANTHA CARISTO AT scaristo@babcockneighborhoodschool.org. \nTHE MEETING WILL INCLUDE DISCUSSION REGARDING MATTERS PERTAINING TO THE BABCOCK NEIGHBORHOOD SCHOOL. \nhttps://babcockneighborhoodschool-org.zoom.us/j/97715524142
URL:https://babcockneighborhoodschools.org/event/governing-board-meeting-5/
CATEGORIES:Governing Board
ATTACH;FMTTYPE=image/png:https://babcockneighborhoodschools.org/wp-content/uploads/2022/05/School-Board-Meeting.png
END:VEVENT
BEGIN:VEVENT
DTSTART;TZID=America/New_York:20230303T153000
DTEND;TZID=America/New_York:20230303T170000
DTSTAMP:20260424T224645
CREATED:20221214T194153Z
LAST-MODIFIED:20221214T194153Z
UID:7828-1677857400-1677862800@babcockneighborhoodschools.org
SUMMARY:K/1st Grade Fun Night
DESCRIPTION:K and 1st grade only. Babcock School Volunteers event.
URL:https://babcockneighborhoodschools.org/event/k-1st-grade-fun-night/
LOCATION:BNS Cafeteria
CATEGORIES:Babcock Schools Volunteers,Elementary,Events
ATTACH;FMTTYPE=image/png:https://babcockneighborhoodschools.org/wp-content/uploads/2023/01/Fun-Night.png
END:VEVENT
BEGIN:VEVENT
DTSTART;TZID=America/New_York:20230303T150000
DTEND;TZID=America/New_York:20230303T150000
DTSTAMP:20260424T224645
CREATED:20230213T162333Z
LAST-MODIFIED:20230213T162333Z
UID:8029-1677855600-1677855600@babcockneighborhoodschools.org
SUMMARY:HS Track Meet @ Charlotte High School
DESCRIPTION:
URL:https://babcockneighborhoodschools.org/event/hs-track-meet-2/
CATEGORIES:Athletics,High School
ATTACH;FMTTYPE=image/png:https://babcockneighborhoodschools.org/wp-content/uploads/2022/07/Meet-Day.png
END:VEVENT
BEGIN:VEVENT
DTSTART;TZID=America/New_York:20230302T090000
DTEND;TZID=America/New_York:20230302T100000
DTSTAMP:20260424T224645
CREATED:20230210T213544Z
LAST-MODIFIED:20230213T151601Z
UID:7979-1677747600-1677751200@babcockneighborhoodschools.org
SUMMARY:Tidbits with Treece
DESCRIPTION:Topic: Why Project-Based Learning? \nRegister here: https://www.signupgenius.com/go/10C0E4CA5AC2CA5F4CE9-tidbits (limited to 25)
URL:https://babcockneighborhoodschools.org/event/tidbits-with-treece-2/
LOCATION:Babcock High School
CATEGORIES:Events
ATTACH;FMTTYPE=image/png:https://babcockneighborhoodschools.org/wp-content/uploads/2023/02/Tidbits-with-Treece.png
END:VEVENT
BEGIN:VEVENT
DTSTART;TZID=America/New_York:20230301T153000
DTEND;TZID=America/New_York:20230301T173000
DTSTAMP:20260424T224645
CREATED:20230211T202237Z
LAST-MODIFIED:20230211T202237Z
UID:7992-1677684600-1677691800@babcockneighborhoodschools.org
SUMMARY:Book Bash
DESCRIPTION:
URL:https://babcockneighborhoodschools.org/event/book-bash-6/
LOCATION:Babcock Neighborhood School
CATEGORIES:Babcock Schools Volunteers,Elementary,Events
ATTACH;FMTTYPE=image/png:https://babcockneighborhoodschools.org/wp-content/uploads/2022/09/Book-Bash.png
END:VEVENT
BEGIN:VEVENT
DTSTART;TZID=America/New_York:20230228T090000
DTEND;TZID=America/New_York:20230228T100000
DTSTAMP:20260424T224645
CREATED:20220729T175608Z
LAST-MODIFIED:20230216T151314Z
UID:7028-1677574800-1677578400@babcockneighborhoodschools.org
SUMMARY:Finance Meeting
DESCRIPTION:https://babcockneighborhoodschool-org.zoom.us/j/88146657493
URL:https://babcockneighborhoodschools.org/event/finance-meeting-7/
CATEGORIES:Governing Board
ATTACH;FMTTYPE=image/png:https://babcockneighborhoodschools.org/wp-content/uploads/2022/07/Finance-Meeting-2.png
END:VEVENT
BEGIN:VEVENT
DTSTART;TZID=America/New_York:20230225T090000
DTEND;TZID=America/New_York:20230225T140000
DTSTAMP:20260424T224645
CREATED:20230210T210051Z
LAST-MODIFIED:20230210T210051Z
UID:7956-1677315600-1677333600@babcockneighborhoodschools.org
SUMMARY:Uniform Store Open
DESCRIPTION:Signature Threads is open for ordering and pick-ups from 9am-2pm. As a reminder\, uniforms can be ordered online during the months of February\, April\, June\, and September at https://signaturethreadsswfl.com/babcock-schools/.
URL:https://babcockneighborhoodschools.org/event/uniform-store-open/
CATEGORIES:Events
ATTACH;FMTTYPE=image/png:https://babcockneighborhoodschools.org/wp-content/uploads/2023/02/Uniforms-1.png
END:VEVENT
BEGIN:VEVENT
DTSTART;TZID=America/New_York:20230221T150000
DTEND;TZID=America/New_York:20230221T150000
DTSTAMP:20260424T224645
CREATED:20230213T162240Z
LAST-MODIFIED:20230213T162240Z
UID:8025-1676991600-1676991600@babcockneighborhoodschools.org
SUMMARY:HS Track Meet @ Manatee High School
DESCRIPTION:
URL:https://babcockneighborhoodschools.org/event/hs-track-meet-manatee-high-school-2/
CATEGORIES:Athletics,High School
ATTACH;FMTTYPE=image/png:https://babcockneighborhoodschools.org/wp-content/uploads/2022/07/Meet-Day.png
END:VEVENT
BEGIN:VEVENT
DTSTART;VALUE=DATE:20230220
DTEND;VALUE=DATE:20230221
DTSTAMP:20260424T224645
CREATED:20220517T185455Z
LAST-MODIFIED:20220517T185455Z
UID:6597-1676851200-1676937599@babcockneighborhoodschools.org
SUMMARY:No School
DESCRIPTION:President’s Day
URL:https://babcockneighborhoodschools.org/event/no-school-4/
CATEGORIES:No School
ATTACH;FMTTYPE=image/png:https://babcockneighborhoodschools.org/wp-content/uploads/2022/05/No-School.png
END:VEVENT
BEGIN:VEVENT
DTSTART;TZID=America/New_York:20230217T120000
DTEND;TZID=America/New_York:20230217T120000
DTSTAMP:20260424T224645
CREATED:20221126T233337Z
LAST-MODIFIED:20230112T194255Z
UID:7776-1676635200-1676635200@babcockneighborhoodschools.org
SUMMARY:Early Dismissal
DESCRIPTION:Teacher Personal Development Day
URL:https://babcockneighborhoodschools.org/event/early-dismissal-4/
CATEGORIES:Events,School Calendar
ATTACH;FMTTYPE=image/png:https://babcockneighborhoodschools.org/wp-content/uploads/2022/05/Early-Release.png
END:VEVENT
BEGIN:VEVENT
DTSTART;TZID=America/New_York:20230217T090000
DTEND;TZID=America/New_York:20230217T100000
DTSTAMP:20260424T224645
CREATED:20230210T213403Z
LAST-MODIFIED:20230213T152114Z
UID:7975-1676624400-1676628000@babcockneighborhoodschools.org
SUMMARY:Tidbits with Treece
DESCRIPTION:Topic: Why Standards-Based Grading? \nRegister here: https://www.signupgenius.com/go/10C0E4CA5AC2CA5F4CE9-tidbits (limited to 25)
URL:https://babcockneighborhoodschools.org/event/tidbits-with-treece/
LOCATION:Babcock High School
CATEGORIES:Events
ATTACH;FMTTYPE=image/png:https://babcockneighborhoodschools.org/wp-content/uploads/2023/02/Tidbits-with-Treece.png
END:VEVENT
BEGIN:VEVENT
DTSTART;TZID=America/New_York:20230216T160000
DTEND;TZID=America/New_York:20230216T160000
DTSTAMP:20260424T224645
CREATED:20230117T143730Z
LAST-MODIFIED:20230117T143730Z
UID:7908-1676563200-1676563200@babcockneighborhoodschools.org
SUMMARY:MS Soccer @ Charlotte Prep
DESCRIPTION:
URL:https://babcockneighborhoodschools.org/event/ms-soccer-9/
CATEGORIES:Athletics,Middle School
ATTACH;FMTTYPE=image/png:https://babcockneighborhoodschools.org/wp-content/uploads/2022/07/Game-Day.png
END:VEVENT
BEGIN:VEVENT
DTSTART;TZID=America/New_York:20230216T150000
DTEND;TZID=America/New_York:20230216T150000
DTSTAMP:20260424T224645
CREATED:20230213T162214Z
LAST-MODIFIED:20230213T162214Z
UID:8023-1676559600-1676559600@babcockneighborhoodschools.org
SUMMARY:HS Track Meet @ Manatee High School
DESCRIPTION:
URL:https://babcockneighborhoodschools.org/event/hs-track-meet-manatee-high-school/
CATEGORIES:Athletics,High School
ATTACH;FMTTYPE=image/png:https://babcockneighborhoodschools.org/wp-content/uploads/2022/07/Meet-Day.png
END:VEVENT
BEGIN:VEVENT
DTSTART;TZID=America/New_York:20230216T090000
DTEND;TZID=America/New_York:20230216T100000
DTSTAMP:20260424T224645
CREATED:20220813T125911Z
LAST-MODIFIED:20230216T151250Z
UID:7297-1676538000-1676541600@babcockneighborhoodschools.org
SUMMARY:Building & Grounds Meeting
DESCRIPTION:https://babcockneighborhoodschool-org.zoom.us/j/88986230457
URL:https://babcockneighborhoodschools.org/event/building-grounds-meeting-7/
CATEGORIES:Governing Board
ATTACH;FMTTYPE=image/png:https://babcockneighborhoodschools.org/wp-content/uploads/2022/08/Building-and-Grounds-Committee-Meeting.png
END:VEVENT
BEGIN:VEVENT
DTSTART;TZID=America/New_York:20230214T160000
DTEND;TZID=America/New_York:20230214T160000
DTSTAMP:20260424T224645
CREATED:20230213T174322Z
LAST-MODIFIED:20230213T174322Z
UID:8035-1676390400-1676390400@babcockneighborhoodschools.org
SUMMARY:MS Soccer @ Grace Christian Academy
DESCRIPTION:
URL:https://babcockneighborhoodschools.org/event/ms-soccer-10/
CATEGORIES:Athletics,Middle School
ATTACH;FMTTYPE=image/png:https://babcockneighborhoodschools.org/wp-content/uploads/2022/07/Game-Day.png
END:VEVENT
BEGIN:VEVENT
DTSTART;TZID=America/New_York:20230209T180000
DTEND;TZID=America/New_York:20230209T190000
DTSTAMP:20260424T224645
CREATED:20220517T195455Z
LAST-MODIFIED:20220916T211017Z
UID:6629-1675965600-1675969200@babcockneighborhoodschools.org
SUMMARY:Babcock School Volunteers Meeting
DESCRIPTION:Meeting in BNS Cafeteria. Committee break-out meetings to follow.
URL:https://babcockneighborhoodschools.org/event/parent-rep-group-meeting-7/
CATEGORIES:Babcock Schools Volunteers
ATTACH;FMTTYPE=image/png:https://babcockneighborhoodschools.org/wp-content/uploads/2022/05/PRG-1.png
END:VEVENT
BEGIN:VEVENT
DTSTART;TZID=America/New_York:20230209T160000
DTEND;TZID=America/New_York:20230209T160000
DTSTAMP:20260424T224645
CREATED:20230117T143646Z
LAST-MODIFIED:20230117T143646Z
UID:7906-1675958400-1675958400@babcockneighborhoodschools.org
SUMMARY:MS Soccer @ Charlotte Prep
DESCRIPTION:
URL:https://babcockneighborhoodschools.org/event/ms-soccer-8/
CATEGORIES:Athletics,Middle School
ATTACH;FMTTYPE=image/png:https://babcockneighborhoodschools.org/wp-content/uploads/2022/07/Game-Day.png
END:VEVENT
BEGIN:VEVENT
DTSTART;TZID=America/New_York:20230207T160000
DTEND;TZID=America/New_York:20230207T160000
DTSTAMP:20260424T224645
CREATED:20230117T143616Z
LAST-MODIFIED:20230117T143616Z
UID:7904-1675785600-1675785600@babcockneighborhoodschools.org
SUMMARY:MS Soccer @ Family Christian Academy
DESCRIPTION:
URL:https://babcockneighborhoodschools.org/event/ms-soccer-7/
CATEGORIES:Athletics,Middle School
ATTACH;FMTTYPE=image/png:https://babcockneighborhoodschools.org/wp-content/uploads/2022/07/Game-Day.png
END:VEVENT
BEGIN:VEVENT
DTSTART;VALUE=DATE:20230207
DTEND;VALUE=DATE:20230208
DTSTAMP:20260424T224645
CREATED:20230106T221150Z
LAST-MODIFIED:20230106T221150Z
UID:7856-1675728000-1675814399@babcockneighborhoodschools.org
SUMMARY:Babcock Trailblazers Fun Run
DESCRIPTION:BNS will be a traditional Fun Run. \nMiddle and High school will be a Color Fun Run with dye. \nRegister on www.mybooster.com.
URL:https://babcockneighborhoodschools.org/event/babcock-trailblazers-fun-run/
CATEGORIES:Babcock Schools Volunteers,Elementary,Events,High School,Middle School
ATTACH;FMTTYPE=image/png:https://babcockneighborhoodschools.org/wp-content/uploads/2023/01/Fun-Run.png
END:VEVENT
BEGIN:VEVENT
DTSTART;TZID=America/New_York:20230206T153000
DTEND;TZID=America/New_York:20230206T153000
DTSTAMP:20260424T224645
CREATED:20240206T230234Z
LAST-MODIFIED:20240206T230244Z
UID:9710-1675697400-1675697400@babcockneighborhoodschools.org
SUMMARY:MS Tennis Match vs St. Stephens Episcopal
DESCRIPTION:
URL:https://babcockneighborhoodschools.org/event/ms-tennis-match-3/
LOCATION:Jack Peeples Park
CATEGORIES:Athletics,Middle School
ATTACH;FMTTYPE=image/png:https://babcockneighborhoodschools.org/wp-content/uploads/2024/02/Tennis-1.png
END:VEVENT
BEGIN:VEVENT
DTSTART;TZID=America/New_York:20230203T183000
DTEND;TZID=America/New_York:20230203T183000
DTSTAMP:20260424T224645
CREATED:20230117T143002Z
LAST-MODIFIED:20230117T143022Z
UID:7883-1675449000-1675449000@babcockneighborhoodschools.org
SUMMARY:HS Boys Basketball Game @ Sarasota Military Academy
DESCRIPTION:
URL:https://babcockneighborhoodschools.org/event/hs-boys-basketball-game-4/
CATEGORIES:Athletics,High School
ATTACH;FMTTYPE=image/png:https://babcockneighborhoodschools.org/wp-content/uploads/2022/07/Game-Day.png
END:VEVENT
BEGIN:VEVENT
DTSTART;TZID=America/New_York:20230202T160000
DTEND;TZID=America/New_York:20230202T160000
DTSTAMP:20260424T224645
CREATED:20230117T143548Z
LAST-MODIFIED:20230117T143548Z
UID:7902-1675353600-1675353600@babcockneighborhoodschools.org
SUMMARY:MS Soccer @ Genesis Christian School
DESCRIPTION:
URL:https://babcockneighborhoodschools.org/event/ms-soccer-6/
CATEGORIES:Athletics,Middle School
ATTACH;FMTTYPE=image/png:https://babcockneighborhoodschools.org/wp-content/uploads/2022/07/Game-Day.png
END:VEVENT
BEGIN:VEVENT
DTSTART;TZID=America/New_York:20230201T153000
DTEND;TZID=America/New_York:20230201T173000
DTSTAMP:20260424T224645
CREATED:20220907T130805Z
LAST-MODIFIED:20220907T131424Z
UID:7542-1675265400-1675272600@babcockneighborhoodschools.org
SUMMARY:Book Bash
DESCRIPTION:
URL:https://babcockneighborhoodschools.org/event/book-bash-4/
LOCATION:Babcock Neighborhood School
CATEGORIES:Babcock Schools Volunteers,Elementary,Events
ATTACH;FMTTYPE=image/png:https://babcockneighborhoodschools.org/wp-content/uploads/2022/09/Book-Bash.png
END:VEVENT
BEGIN:VEVENT
DTSTART;TZID=America/New_York:20230131T173000
DTEND;TZID=America/New_York:20230131T173000
DTSTAMP:20260424T224645
CREATED:20230117T142944Z
LAST-MODIFIED:20230117T142944Z
UID:7881-1675186200-1675186200@babcockneighborhoodschools.org
SUMMARY:HS Boys Basketball Game @ Venice Christian
DESCRIPTION:
URL:https://babcockneighborhoodschools.org/event/hs-boys-basketball-game-3/
CATEGORIES:Athletics,High School
ATTACH;FMTTYPE=image/png:https://babcockneighborhoodschools.org/wp-content/uploads/2022/07/Game-Day.png
END:VEVENT
BEGIN:VEVENT
DTSTART;TZID=America/New_York:20230131T160000
DTEND;TZID=America/New_York:20230131T160000
DTSTAMP:20260424T224645
CREATED:20230117T143517Z
LAST-MODIFIED:20230117T143517Z
UID:7900-1675180800-1675180800@babcockneighborhoodschools.org
SUMMARY:MS Soccer @ Family Christian Academy
DESCRIPTION:
URL:https://babcockneighborhoodschools.org/event/ms-soccer-5/
CATEGORIES:Athletics,Middle School
ATTACH;FMTTYPE=image/png:https://babcockneighborhoodschools.org/wp-content/uploads/2022/07/Game-Day.png
END:VEVENT
BEGIN:VEVENT
DTSTART;TZID=America/New_York:20230128T190000
DTEND;TZID=America/New_York:20230128T190000
DTSTAMP:20260424T224645
CREATED:20221202T215011Z
LAST-MODIFIED:20221202T215011Z
UID:7796-1674932400-1674932400@babcockneighborhoodschools.org
SUMMARY:Babcock Schools Night @ Florida Everblades
DESCRIPTION:Babcock School Volunteers event. Get discounted tickets here: www.BladesTix.com/BNS A portion of these ticket sales come back to Babcock Schools.
URL:https://babcockneighborhoodschools.org/event/babcock-schools-night-florida-everblades/
LOCATION:Hertz Arena
CATEGORIES:Babcock Schools Volunteers,Events
ATTACH;FMTTYPE=image/png:https://babcockneighborhoodschools.org/wp-content/uploads/2022/12/pasted-image-0-1.png
END:VEVENT
BEGIN:VEVENT
DTSTART;TZID=America/New_York:20230128T110000
DTEND;TZID=America/New_York:20230128T110000
DTSTAMP:20260424T224645
CREATED:20230117T142913Z
LAST-MODIFIED:20230117T142913Z
UID:7879-1674903600-1674903600@babcockneighborhoodschools.org
SUMMARY:HS Boys Basketball Game @ Donahue Catholic
DESCRIPTION:
URL:https://babcockneighborhoodschools.org/event/hs-boys-basketball-game-2/
CATEGORIES:Athletics,High School
ATTACH;FMTTYPE=image/png:https://babcockneighborhoodschools.org/wp-content/uploads/2022/07/Game-Day.png
END:VEVENT
END:VCALENDAR