BEGIN:VCALENDAR
VERSION:2.0
PRODID:-//Babcock Schools - ECPv6.15.17.1//NONSGML v1.0//EN
CALSCALE:GREGORIAN
METHOD:PUBLISH
X-WR-CALNAME:Babcock Schools
X-ORIGINAL-URL:https://babcockneighborhoodschools.org
X-WR-CALDESC:Events for Babcock Schools
REFRESH-INTERVAL;VALUE=DURATION:PT1H
X-Robots-Tag:noindex
X-PUBLISHED-TTL:PT1H
BEGIN:VTIMEZONE
TZID:America/New_York
BEGIN:DAYLIGHT
TZOFFSETFROM:-0500
TZOFFSETTO:-0400
TZNAME:EDT
DTSTART:20230312T070000
END:DAYLIGHT
BEGIN:STANDARD
TZOFFSETFROM:-0400
TZOFFSETTO:-0500
TZNAME:EST
DTSTART:20231105T060000
END:STANDARD
BEGIN:DAYLIGHT
TZOFFSETFROM:-0500
TZOFFSETTO:-0400
TZNAME:EDT
DTSTART:20240310T070000
END:DAYLIGHT
BEGIN:STANDARD
TZOFFSETFROM:-0400
TZOFFSETTO:-0500
TZNAME:EST
DTSTART:20241103T060000
END:STANDARD
BEGIN:DAYLIGHT
TZOFFSETFROM:-0500
TZOFFSETTO:-0400
TZNAME:EDT
DTSTART:20250309T070000
END:DAYLIGHT
BEGIN:STANDARD
TZOFFSETFROM:-0400
TZOFFSETTO:-0500
TZNAME:EST
DTSTART:20251102T060000
END:STANDARD
END:VTIMEZONE
BEGIN:VEVENT
DTSTART;TZID=America/New_York:20240307T160000
DTEND;TZID=America/New_York:20240307T160000
DTSTAMP:20260424T195900
CREATED:20240206T231042Z
LAST-MODIFIED:20240206T231042Z
UID:9733-1709827200-1709827200@babcockneighborhoodschools.org
SUMMARY:HS Tennis vs Southwest Florida Christian
DESCRIPTION:
URL:https://babcockneighborhoodschools.org/event/hs-tennis-5/
LOCATION:Jack Peeples Park
CATEGORIES:Athletics,Athletics Calendar,High School
ATTACH;FMTTYPE=image/png:https://babcockneighborhoodschools.org/wp-content/uploads/2024/02/Tennis-2.png
END:VEVENT
BEGIN:VEVENT
DTSTART;TZID=America/New_York:20240307T090000
DTEND;TZID=America/New_York:20240307T100000
DTSTAMP:20260424T195900
CREATED:20230705T203130Z
LAST-MODIFIED:20230705T203130Z
UID:8465-1709802000-1709805600@babcockneighborhoodschools.org
SUMMARY:Building & Grounds Meeting
DESCRIPTION:https://babcockneighborhoodschool-org.zoom.us/j/88986230457
URL:https://babcockneighborhoodschools.org/event/building-grounds-meeting-20/
CATEGORIES:Governing Board
ATTACH;FMTTYPE=image/png:https://babcockneighborhoodschools.org/wp-content/uploads/2022/08/Building-and-Grounds-Committee-Meeting.png
END:VEVENT
BEGIN:VEVENT
DTSTART;TZID=America/New_York:20240307T083000
DTEND;TZID=America/New_York:20240307T103000
DTSTAMP:20260424T195900
CREATED:20240229T145213Z
LAST-MODIFIED:20240229T145756Z
UID:9812-1709800200-1709807400@babcockneighborhoodschools.org
SUMMARY:BHS College & Career Fair
DESCRIPTION:
URL:https://babcockneighborhoodschools.org/event/college-career-fair/
LOCATION:Fieldhouse
CATEGORIES:Events,High School
ATTACH;FMTTYPE=image/jpeg:https://babcockneighborhoodschools.org/wp-content/uploads/2024/02/BabcockHS_Fieldhouse_005-scaled-e1709218317549.jpg
END:VEVENT
BEGIN:VEVENT
DTSTART;TZID=America/New_York:20240305T170000
DTEND;TZID=America/New_York:20240305T180000
DTSTAMP:20260424T195900
CREATED:20230608T204439Z
LAST-MODIFIED:20230913T135211Z
UID:8364-1709658000-1709661600@babcockneighborhoodschools.org
SUMMARY:Governing Board Meeting
DESCRIPTION:Notice of Special Governing Board meeting for Babcock Neighborhood School Inc.\, on March 5\, 2024\, at 5:00 p.m. at 43261 Cypress Parkway\, Babcock Ranch\, FL. 33982. \nA Governing Board meeting will be held on March 5\, 2024\, at 5:00 p.m. at the above address utilizing Communications Media Technology (“CMT”).  The CMT used will be the following conference call-in number:  1-646-558-8656.  Meeting ID: 893 2063 1586.  Interested persons may either attend this meeting via CMT or in person at the above address. For more information about this meeting or to provide information to be considered at this meeting\, please contact Megan Lewter\, 43261 Cypress Parkway\, Babcock Ranch\, FL. 33982\, mlewter@babcockneighborhoodschool.org\, 239-567-3043.    \nJoin Zoom Meeting: https://babcockneighborhoodschool-org.zoom.us/j/89320631586
URL:https://babcockneighborhoodschools.org/event/governing-board-meeting-12/
CATEGORIES:Governing Board
ATTACH;FMTTYPE=image/png:https://babcockneighborhoodschools.org/wp-content/uploads/2022/09/High-School-Event.png
END:VEVENT
BEGIN:VEVENT
DTSTART;TZID=America/New_York:20240305T154500
DTEND;TZID=America/New_York:20240305T164500
DTSTAMP:20260424T195900
CREATED:20240207T221509Z
LAST-MODIFIED:20240222T132236Z
UID:9753-1709653500-1709657100@babcockneighborhoodschools.org
SUMMARY:Touch A Truck
DESCRIPTION:Babcock Schools Volunteers event.
URL:https://babcockneighborhoodschools.org/event/touch-a-truck/
LOCATION:Grassy Knoll
CATEGORIES:Babcock Schools Volunteers,Elementary,Events
ATTACH;FMTTYPE=image/jpeg:https://babcockneighborhoodschools.org/wp-content/uploads/2024/02/Touch-a-Truck-2024.jpg
END:VEVENT
BEGIN:VEVENT
DTSTART;TZID=America/New_York:20240305T123000
DTEND;TZID=America/New_York:20240305T143000
DTSTAMP:20260424T195900
CREATED:20240216T143536Z
LAST-MODIFIED:20240216T143536Z
UID:9773-1709641800-1709649000@babcockneighborhoodschools.org
SUMMARY:K-5 Career Day
DESCRIPTION:
URL:https://babcockneighborhoodschools.org/event/k-5-career-day/
LOCATION:BNS Cafeteria
CATEGORIES:Elementary,Events
ATTACH;FMTTYPE=image/png:https://babcockneighborhoodschools.org/wp-content/uploads/2024/02/Career-Day.png
END:VEVENT
BEGIN:VEVENT
DTSTART;TZID=America/New_York:20240304T151500
DTEND;TZID=America/New_York:20240304T161500
DTSTAMP:20260424T195900
CREATED:20240129T163449Z
LAST-MODIFIED:20240129T163449Z
UID:9665-1709565300-1709568900@babcockneighborhoodschools.org
SUMMARY:MS Track & Field Practice Starts
DESCRIPTION:
URL:https://babcockneighborhoodschools.org/event/ms-track-field-practice-starts/
LOCATION:Fieldhouse
CATEGORIES:Athletics,Middle School
ATTACH;FMTTYPE=image/png:https://babcockneighborhoodschools.org/wp-content/uploads/2022/07/Practice-Starts.png
END:VEVENT
BEGIN:VEVENT
DTSTART;TZID=America/New_York:20240301T160000
DTEND;TZID=America/New_York:20240301T200000
DTSTAMP:20260424T195900
CREATED:20240129T164602Z
LAST-MODIFIED:20240223T200654Z
UID:9673-1709308800-1709323200@babcockneighborhoodschools.org
SUMMARY:HS Track Meet @ North Fort Myers
DESCRIPTION:
URL:https://babcockneighborhoodschools.org/event/hs-track-meet-6/
CATEGORIES:Athletics,Athletics Calendar,High School
ATTACH;FMTTYPE=image/png:https://babcockneighborhoodschools.org/wp-content/uploads/2024/01/Track-Meet-1.png
END:VEVENT
BEGIN:VEVENT
DTSTART;TZID=America/New_York:20240301T160000
DTEND;TZID=America/New_York:20240301T160000
DTSTAMP:20260424T195900
CREATED:20240206T231008Z
LAST-MODIFIED:20240206T231008Z
UID:9730-1709308800-1709308800@babcockneighborhoodschools.org
SUMMARY:HS Tennis vs Sarasota Christian
DESCRIPTION:
URL:https://babcockneighborhoodschools.org/event/hs-tennis-4/
LOCATION:Jack Peeples Park
CATEGORIES:Athletics,Athletics Calendar,High School
ATTACH;FMTTYPE=image/png:https://babcockneighborhoodschools.org/wp-content/uploads/2024/02/Tennis-2.png
END:VEVENT
BEGIN:VEVENT
DTSTART;TZID=America/New_York:20240229T153000
DTEND;TZID=America/New_York:20240229T153000
DTSTAMP:20260424T195900
CREATED:20240206T230902Z
LAST-MODIFIED:20240206T230923Z
UID:9728-1709220600-1709220600@babcockneighborhoodschools.org
SUMMARY:HS Tennis vs Evangelical Christian
DESCRIPTION:Girls at Home. Boys Away.
URL:https://babcockneighborhoodschools.org/event/hs-tennis-3/
CATEGORIES:Athletics,Athletics Calendar,High School
ATTACH;FMTTYPE=image/png:https://babcockneighborhoodschools.org/wp-content/uploads/2024/02/Tennis-2.png
END:VEVENT
BEGIN:VEVENT
DTSTART;TZID=America/New_York:20240228T090000
DTEND;TZID=America/New_York:20240228T100000
DTSTAMP:20260424T195900
CREATED:20230705T203421Z
LAST-MODIFIED:20230705T203421Z
UID:8487-1709110800-1709114400@babcockneighborhoodschools.org
SUMMARY:Finance Meeting
DESCRIPTION:https://babcockneighborhoodschool-org.zoom.us/j/88146657493
URL:https://babcockneighborhoodschools.org/event/finance-meeting-19/
CATEGORIES:Governing Board
ATTACH;FMTTYPE=image/png:https://babcockneighborhoodschools.org/wp-content/uploads/2022/07/Finance-Meeting-2.png
END:VEVENT
BEGIN:VEVENT
DTSTART;TZID=America/New_York:20240227T180000
DTEND;TZID=America/New_York:20240227T200000
DTSTAMP:20260424T195900
CREATED:20240129T152028Z
LAST-MODIFIED:20240129T152028Z
UID:9655-1709056800-1709064000@babcockneighborhoodschools.org
SUMMARY:Winter Sports Banquet
DESCRIPTION:
URL:https://babcockneighborhoodschools.org/event/winter-sports-banquet/
LOCATION:Fieldhouse
CATEGORIES:Athletics,High School,Middle School
ATTACH;FMTTYPE=image/png:https://babcockneighborhoodschools.org/wp-content/uploads/2022/09/Lets-Go-Trailblazers.png
END:VEVENT
BEGIN:VEVENT
DTSTART;TZID=America/New_York:20240226T153000
DTEND;TZID=America/New_York:20240226T153000
DTSTAMP:20260424T195900
CREATED:20240206T230454Z
LAST-MODIFIED:20240206T230454Z
UID:9718-1708961400-1708961400@babcockneighborhoodschools.org
SUMMARY:MS Tennis Match @ Bradenton Christian
DESCRIPTION:
URL:https://babcockneighborhoodschools.org/event/ms-tennis-match-10/
CATEGORIES:Athletics,Middle School
ATTACH;FMTTYPE=image/png:https://babcockneighborhoodschools.org/wp-content/uploads/2024/02/Tennis-1.png
END:VEVENT
BEGIN:VEVENT
DTSTART;TZID=America/New_York:20240223T153000
DTEND;TZID=America/New_York:20240223T170000
DTSTAMP:20260424T195900
CREATED:20240207T221302Z
LAST-MODIFIED:20240207T221302Z
UID:9750-1708702200-1708707600@babcockneighborhoodschools.org
SUMMARY:Kindergarten Fun Night
DESCRIPTION:Kindergarten only. Babcock Schools Volunteers event.
URL:https://babcockneighborhoodschools.org/event/kinder-fun-night/
LOCATION:BNS Cafeteria
CATEGORIES:Babcock Schools Volunteers,Elementary,Events
ATTACH;FMTTYPE=image/jpeg:https://babcockneighborhoodschools.org/wp-content/uploads/2024/02/Kindergarten-Fun-Night.jpg
END:VEVENT
BEGIN:VEVENT
DTSTART;TZID=America/New_York:20240221T160000
DTEND;TZID=America/New_York:20240221T160000
DTSTAMP:20260424T195900
CREATED:20240129T164520Z
LAST-MODIFIED:20240221T153126Z
UID:9671-1708531200-1708531200@babcockneighborhoodschools.org
SUMMARY:HS JV Track Meet @ Manatee
DESCRIPTION:
URL:https://babcockneighborhoodschools.org/event/hs-jv-track-meet-manatee/
CATEGORIES:Athletics,Athletics Calendar,High School
ATTACH;FMTTYPE=image/png:https://babcockneighborhoodschools.org/wp-content/uploads/2024/01/Track-Meet-1.png
END:VEVENT
BEGIN:VEVENT
DTSTART;TZID=America/New_York:20240221T090000
DTEND;TZID=America/New_York:20240221T100000
DTSTAMP:20260424T195900
CREATED:20240205T143115Z
LAST-MODIFIED:20240205T143115Z
UID:9705-1708506000-1708509600@babcockneighborhoodschools.org
SUMMARY:Special Governing Board Meeting
DESCRIPTION:NOTICE OF SPECIAL GOVERNING BOARD MEETING TO DISCUSS Budget Amendment Approval. \nA GOVERNING BOARD MEETING WILL BE HELD ON February 21st\, 2023 AT  9:00AM. UTILIZING COMMUNICATIONS MEDIA TECHNOLOGY (“CMT”).  THE CMT USED WILL BE THE FOLLOWING ZOOM LINK https://babcockneighborhoodschool-org.zoom.us/j/84191327576 \nINTERESTED PERSONS MAY EITHER ATTEND THIS MEETING VIA CMT OR IN-PERSON AT THE FOLLOWING ADDRESS:  43261 CYPRESS PARKWAY BABCOCK RANCH\, FL 33982.  FOR MORE INFORMATION ABOUT THIS MEETING OR TO PROVIDE INFORMATION TO BE CONSIDERED AT THIS MEETING\, PLEASE CONTACT MEGAN LEWTER AT mlewter@babcockneighborhoodschool.org.
URL:https://babcockneighborhoodschools.org/event/special-governing-board-meeting-4/
CATEGORIES:Events,Governing Board
ATTACH;FMTTYPE=image/png:https://babcockneighborhoodschools.org/wp-content/uploads/2022/09/High-School-Event.png
END:VEVENT
BEGIN:VEVENT
DTSTART;TZID=America/New_York:20240220T160000
DTEND;TZID=America/New_York:20240220T160000
DTSTAMP:20260424T195900
CREATED:20240206T230820Z
LAST-MODIFIED:20240206T230820Z
UID:9726-1708444800-1708444800@babcockneighborhoodschools.org
SUMMARY:HS Tennis @ Sarasota Christian
DESCRIPTION:
URL:https://babcockneighborhoodschools.org/event/hs-tennis-2/
CATEGORIES:Athletics,Athletics Calendar,High School
ATTACH;FMTTYPE=image/png:https://babcockneighborhoodschools.org/wp-content/uploads/2024/02/Tennis-2.png
END:VEVENT
BEGIN:VEVENT
DTSTART;TZID=America/New_York:20240220T153000
DTEND;TZID=America/New_York:20240220T153000
DTSTAMP:20260424T195900
CREATED:20240206T230423Z
LAST-MODIFIED:20240206T230423Z
UID:9716-1708443000-1708443000@babcockneighborhoodschools.org
SUMMARY:MS Tennis Match vs Out of Door Academy
DESCRIPTION:
URL:https://babcockneighborhoodschools.org/event/ms-tennis-match-9/
LOCATION:Jack Peeples Park
CATEGORIES:Athletics,Middle School
ATTACH;FMTTYPE=image/png:https://babcockneighborhoodschools.org/wp-content/uploads/2024/02/Tennis-1.png
END:VEVENT
BEGIN:VEVENT
DTSTART;VALUE=DATE:20240220
DTEND;VALUE=DATE:20240221
DTSTAMP:20260424T195900
CREATED:20240125T193439Z
LAST-MODIFIED:20240125T193439Z
UID:9645-1708387200-1708473599@babcockneighborhoodschools.org
SUMMARY:2nd-4th Grade Picnic
DESCRIPTION:2nd-4th Grade parents and guardians\, you are invited to eat lunch with your child(ren) on the grassy knoll between school buildings. If you are interested\, please complete the grade level registration form to RSVP. Bring a blanket or towel\, your lunch\, government ID and enjoy eating on the grassy knoll with your child. Registering for the appropriate grade level in advance is important so that we can create a badge for each individual entering the campus.
URL:https://babcockneighborhoodschools.org/event/2nd-4th-grade-picnic/
LOCATION:Babcock Neighborhood School
CATEGORIES:Elementary,Events
ATTACH;FMTTYPE=image/png:https://babcockneighborhoodschools.org/wp-content/uploads/2024/01/Picnic.png
END:VEVENT
BEGIN:VEVENT
DTSTART;TZID=America/New_York:20240219T183000
DTEND;TZID=America/New_York:20240219T193000
DTSTAMP:20260424T195900
CREATED:20240213T133812Z
LAST-MODIFIED:20240213T133812Z
UID:9770-1708367400-1708371000@babcockneighborhoodschools.org
SUMMARY:Athletics Booster Club Meeting
DESCRIPTION:
URL:https://babcockneighborhoodschools.org/event/athletics-booster-club-meeting-6/
LOCATION:Babcock High School
CATEGORIES:Athletics,Athletics Calendar,Events,High School,Middle School
ATTACH;FMTTYPE=image/png:https://babcockneighborhoodschools.org/wp-content/uploads/2023/06/Athletics-Booster-Club.png
ORGANIZER;CN="Jeff Irwin":MAILTO:jirwin@babcockneighborhoodschool.org
END:VEVENT
BEGIN:VEVENT
DTSTART;VALUE=DATE:20240219
DTEND;VALUE=DATE:20240220
DTSTAMP:20260424T195900
CREATED:20230606T233210Z
LAST-MODIFIED:20230606T233210Z
UID:8321-1708300800-1708387199@babcockneighborhoodschools.org
SUMMARY:No School
DESCRIPTION:President’s Day
URL:https://babcockneighborhoodschools.org/event/no-school-9/
CATEGORIES:No School
ATTACH;FMTTYPE=image/png:https://babcockneighborhoodschools.org/wp-content/uploads/2022/05/No-School.png
END:VEVENT
BEGIN:VEVENT
DTSTART;TZID=America/New_York:20240216T150000
DTEND;TZID=America/New_York:20240216T150000
DTSTAMP:20260424T195900
CREATED:20240129T164458Z
LAST-MODIFIED:20240129T164458Z
UID:9667-1708095600-1708095600@babcockneighborhoodschools.org
SUMMARY:HS JV Track Meet @ Manatee
DESCRIPTION:
URL:https://babcockneighborhoodschools.org/event/hs-track-meet-5/
CATEGORIES:Athletics,High School
ATTACH;FMTTYPE=image/png:https://babcockneighborhoodschools.org/wp-content/uploads/2024/01/Track-Meet-1.png
END:VEVENT
BEGIN:VEVENT
DTSTART;TZID=America/New_York:20240216T120000
DTEND;TZID=America/New_York:20240216T150000
DTSTAMP:20260424T195900
CREATED:20240130T155122Z
LAST-MODIFIED:20240130T155251Z
UID:9693-1708084800-1708095600@babcockneighborhoodschools.org
SUMMARY:Valentine's Half Day Party
DESCRIPTION:
URL:https://babcockneighborhoodschools.org/event/valentines-half-day-party/
LOCATION:Babcock Neighborhood School
CATEGORIES:Elementary,Events
ATTACH;FMTTYPE=image/png:https://babcockneighborhoodschools.org/wp-content/uploads/2024/01/Pink_Red_Organic_Valentine_s_Day_Invitation_Instagram_Post.png
END:VEVENT
BEGIN:VEVENT
DTSTART;TZID=America/New_York:20240216T120000
DTEND;TZID=America/New_York:20240216T150000
DTSTAMP:20260424T195900
CREATED:20230606T233113Z
LAST-MODIFIED:20230606T233113Z
UID:8319-1708084800-1708095600@babcockneighborhoodschools.org
SUMMARY:Early Dismissal
DESCRIPTION:Teacher Personal Development Day
URL:https://babcockneighborhoodschools.org/event/early-dismissal-7/
CATEGORIES:Events,No School,School Calendar
ATTACH;FMTTYPE=image/png:https://babcockneighborhoodschools.org/wp-content/uploads/2022/05/Early-Release.png
END:VEVENT
BEGIN:VEVENT
DTSTART;TZID=America/New_York:20240215T180000
DTEND;TZID=America/New_York:20240215T190000
DTSTAMP:20260424T195900
CREATED:20240207T162424Z
LAST-MODIFIED:20240207T162424Z
UID:9746-1708020000-1708023600@babcockneighborhoodschools.org
SUMMARY:MS Golf Parent Meeting
DESCRIPTION:All boys and girls interested in trying out for the middle school golf team (and their parents) should attend. Tryouts will start on Monday\, March 4th.
URL:https://babcockneighborhoodschools.org/event/ms-golf-parent-meeting/
LOCATION:Babcock High School
CATEGORIES:Athletics,Athletics Calendar,Middle School
ATTACH;FMTTYPE=image/png:https://babcockneighborhoodschools.org/wp-content/uploads/2024/02/Golf.png
END:VEVENT
BEGIN:VEVENT
DTSTART;TZID=America/New_York:20240215T080000
DTEND;TZID=America/New_York:20240215T150000
DTSTAMP:20260424T195900
CREATED:20240121T175202Z
LAST-MODIFIED:20240121T175202Z
UID:9624-1707984000-1708009200@babcockneighborhoodschools.org
SUMMARY:Spring Picture Day: K-5
DESCRIPTION:This is a pre-pay session ONLY. Parents can send in payment the day of the event or pay online in advance. No payment will be received after picture day. Students can dress up for their picture as long as it’s school appropriate.
URL:https://babcockneighborhoodschools.org/event/spring-picture-day-k-5/
LOCATION:Babcock Neighborhood School
CATEGORIES:Elementary
ATTACH;FMTTYPE=image/png:https://babcockneighborhoodschools.org/wp-content/uploads/2022/08/Picture-Day-3.png
END:VEVENT
BEGIN:VEVENT
DTSTART;TZID=America/New_York:20240213T160000
DTEND;TZID=America/New_York:20240213T160000
DTSTAMP:20260424T195900
CREATED:20240206T230323Z
LAST-MODIFIED:20240206T230323Z
UID:9714-1707840000-1707840000@babcockneighborhoodschools.org
SUMMARY:MS Tennis Match vs Sarasota Christian
DESCRIPTION:
URL:https://babcockneighborhoodschools.org/event/ms-tennis-match-8/
LOCATION:Jack Peeples Park
CATEGORIES:Athletics,Middle School
ATTACH;FMTTYPE=image/png:https://babcockneighborhoodschools.org/wp-content/uploads/2024/02/Tennis-1.png
END:VEVENT
BEGIN:VEVENT
DTSTART;TZID=America/New_York:20240212T153000
DTEND;TZID=America/New_York:20240212T153000
DTSTAMP:20260424T195900
CREATED:20240206T230752Z
LAST-MODIFIED:20240206T230752Z
UID:9724-1707751800-1707751800@babcockneighborhoodschools.org
SUMMARY:HS Tennis @ Southwest Florida Christian
DESCRIPTION:
URL:https://babcockneighborhoodschools.org/event/hs-tennis/
CATEGORIES:Athletics,Athletics Calendar,High School
ATTACH;FMTTYPE=image/png:https://babcockneighborhoodschools.org/wp-content/uploads/2024/02/Tennis-2.png
END:VEVENT
BEGIN:VEVENT
DTSTART;TZID=America/New_York:20240208T090000
DTEND;TZID=America/New_York:20240208T100000
DTSTAMP:20260424T195900
CREATED:20230705T203113Z
LAST-MODIFIED:20230705T203113Z
UID:8463-1707382800-1707386400@babcockneighborhoodschools.org
SUMMARY:Building & Grounds Meeting
DESCRIPTION:https://babcockneighborhoodschool-org.zoom.us/j/88986230457
URL:https://babcockneighborhoodschools.org/event/building-grounds-meeting-19/
CATEGORIES:Governing Board
ATTACH;FMTTYPE=image/png:https://babcockneighborhoodschools.org/wp-content/uploads/2022/08/Building-and-Grounds-Committee-Meeting.png
END:VEVENT
BEGIN:VEVENT
DTSTART;TZID=America/New_York:20240206T080000
DTEND;TZID=America/New_York:20240206T150000
DTSTAMP:20260424T195900
CREATED:20230909T195900Z
LAST-MODIFIED:20240129T154331Z
UID:8995-1707206400-1707231600@babcockneighborhoodschools.org
SUMMARY:Babcock Trailblazers Boosterthon Fun Run
DESCRIPTION:BNS will be a traditional Fun Run. \nMiddle and High school will be a Color Fun Run with dye. \nRegister on www.mybooster.com.
URL:https://babcockneighborhoodschools.org/event/babcock-trailblazers-fun-run-2/
CATEGORIES:Athletics,Athletics Calendar,Babcock Schools Volunteers,Elementary,Events,High School,Middle School
ATTACH;FMTTYPE=image/png:https://babcockneighborhoodschools.org/wp-content/uploads/2023/01/Fun-Run.png
END:VEVENT
END:VCALENDAR