BEGIN:VCALENDAR
VERSION:2.0
PRODID:-//Babcock Schools - ECPv6.15.17.1//NONSGML v1.0//EN
CALSCALE:GREGORIAN
METHOD:PUBLISH
X-ORIGINAL-URL:https://babcockneighborhoodschools.org
X-WR-CALDESC:Events for Babcock Schools
REFRESH-INTERVAL;VALUE=DURATION:PT1H
X-Robots-Tag:noindex
X-PUBLISHED-TTL:PT1H
BEGIN:VTIMEZONE
TZID:America/New_York
BEGIN:DAYLIGHT
TZOFFSETFROM:-0500
TZOFFSETTO:-0400
TZNAME:EDT
DTSTART:20240310T070000
END:DAYLIGHT
BEGIN:STANDARD
TZOFFSETFROM:-0400
TZOFFSETTO:-0500
TZNAME:EST
DTSTART:20241103T060000
END:STANDARD
BEGIN:DAYLIGHT
TZOFFSETFROM:-0500
TZOFFSETTO:-0400
TZNAME:EDT
DTSTART:20250309T070000
END:DAYLIGHT
BEGIN:STANDARD
TZOFFSETFROM:-0400
TZOFFSETTO:-0500
TZNAME:EST
DTSTART:20251102T060000
END:STANDARD
BEGIN:DAYLIGHT
TZOFFSETFROM:-0500
TZOFFSETTO:-0400
TZNAME:EDT
DTSTART:20260308T070000
END:DAYLIGHT
BEGIN:STANDARD
TZOFFSETFROM:-0400
TZOFFSETTO:-0500
TZNAME:EST
DTSTART:20261101T060000
END:STANDARD
BEGIN:DAYLIGHT
TZOFFSETFROM:-0500
TZOFFSETTO:-0400
TZNAME:EDT
DTSTART:20270314T070000
END:DAYLIGHT
BEGIN:STANDARD
TZOFFSETFROM:-0400
TZOFFSETTO:-0500
TZNAME:EST
DTSTART:20271107T060000
END:STANDARD
END:VTIMEZONE
BEGIN:VEVENT
DTSTART;TZID=America/New_York:20251213T090000
DTEND;TZID=America/New_York:20251213T110000
DTSTAMP:20260424T195724
CREATED:20251107T173727Z
LAST-MODIFIED:20251107T190053Z
UID:18549-1765616400-1765623600@babcockneighborhoodschools.org
SUMMARY:Pancakes with Santa & Friends
DESCRIPTION:Enjoy a jolly morning filled with pancakes\, family\, and festive cheer! 🎄🦌🎅 Santa will be stopping by BNS on Saturday\, December 13th for Pancakes with Santa & Friends! \nDress in your holiday best\, enjoy a delicious breakfast\, and help support our talented BNS & BHS media students. ✨ \n🎟️ Jingle your way to tickets here: https://ourfundraiser.events/pancakeswithsanta
URL:https://babcockneighborhoodschools.org/event/pancakes-with-santa-friends/
LOCATION:Fieldhouse Cafe
CATEGORIES:Babcock Schools Volunteers,Elementary,Events,Middle School
ATTACH;FMTTYPE=image/png:https://babcockneighborhoodschools.org/wp-content/uploads/2025/06/Pancakes-with-Santa-flyer.png
END:VEVENT
BEGIN:VEVENT
DTSTART;TZID=America/New_York:20251217T090000
DTEND;TZID=America/New_York:20251217T100000
DTSTAMP:20260424T195724
CREATED:20250908T115630Z
LAST-MODIFIED:20250908T115922Z
UID:17176-1765962000-1765965600@babcockneighborhoodschools.org
SUMMARY:Finance Meeting
DESCRIPTION:https://babcockneighborhoodschool-org.zoom.us/j/88146657493
URL:https://babcockneighborhoodschools.org/event/finance-meeting-36/
CATEGORIES:Governing Board
ATTACH;FMTTYPE=image/png:https://babcockneighborhoodschools.org/wp-content/uploads/2022/07/Finance-Meeting-2.png
END:VEVENT
BEGIN:VEVENT
DTSTART;TZID=America/New_York:20251222T080000
DTEND;TZID=America/New_York:20260102T150000
DTSTAMP:20260424T195724
CREATED:20250609T133443Z
LAST-MODIFIED:20250609T133443Z
UID:15897-1766390400-1767366000@babcockneighborhoodschools.org
SUMMARY:Winter Break
DESCRIPTION:
URL:https://babcockneighborhoodschools.org/event/winter-break-4/
CATEGORIES:Elementary,Events,High School,Middle School,No School,School Calendar
ATTACH;FMTTYPE=image/png:https://babcockneighborhoodschools.org/wp-content/uploads/2025/06/Website-Event-1.png
END:VEVENT
BEGIN:VEVENT
DTSTART;TZID=America/New_York:20260109T120000
DTEND;TZID=America/New_York:20260109T120000
DTSTAMP:20260424T195724
CREATED:20250609T133527Z
LAST-MODIFIED:20250609T133527Z
UID:15900-1767960000-1767960000@babcockneighborhoodschools.org
SUMMARY:Early Release
DESCRIPTION:End of 1st Semester
URL:https://babcockneighborhoodschools.org/event/early-release-5/
CATEGORIES:Events,No School,School Calendar
ATTACH;FMTTYPE=image/png:https://babcockneighborhoodschools.org/wp-content/uploads/2022/05/Early-Release.png
END:VEVENT
BEGIN:VEVENT
DTSTART;TZID=America/New_York:20260112T180000
DTEND;TZID=America/New_York:20260112T190000
DTSTAMP:20260424T195724
CREATED:20250618T203032Z
LAST-MODIFIED:20250618T203101Z
UID:16000-1768240800-1768244400@babcockneighborhoodschools.org
SUMMARY:Babcock Schools Volunteers Meeting
DESCRIPTION:New Parent Q&A
URL:https://babcockneighborhoodschools.org/event/babcock-schools-volunteers-meeting-20/
CATEGORIES:Babcock Schools Volunteers,Events
ATTACH;FMTTYPE=image/png:https://babcockneighborhoodschools.org/wp-content/uploads/2022/05/PRG-1.png
END:VEVENT
BEGIN:VEVENT
DTSTART;TZID=America/New_York:20260113T093000
DTEND;TZID=America/New_York:20260113T103000
DTSTAMP:20260424T195724
CREATED:20251218T191202Z
LAST-MODIFIED:20260112T154629Z
UID:19614-1768296600-1768300200@babcockneighborhoodschools.org
SUMMARY:Special Governing Board Meeting
DESCRIPTION:NOTICE OF SPECIAL GOVERNING BOARD MEETING TO DISCUSS Budget Approval for A School Money Recognition Funds. \nA GOVERNING BOARD MEETING WILL BE HELD ON January 13th\, 2026 AT  9:30AM. UTILIZING COMMUNICATIONS MEDIA TECHNOLOGY (“CMT”).  THE CMT USED WILL BE THE FOLLOWING ZOOM LINK https://babcockneighborhoodschool-org.zoom.us/j/89320631586 \nINTERESTED PERSONS MAY EITHER ATTEND THIS MEETING VIA CMT OR IN-PERSON AT THE FOLLOWING ADDRESS:  43261 CYPRESS PARKWAY BABCOCK RANCH\, FL 33982.  FOR MORE INFORMATION ABOUT THIS MEETING OR TO PROVIDE INFORMATION TO BE CONSIDERED AT THIS MEETING\, PLEASE CONTACT MEGAN LEWTER AT mlewter@babcockneighborhoodschool.org.
URL:https://babcockneighborhoodschools.org/event/governing-board-meeting-24/
CATEGORIES:Events,Governing Board
ATTACH;FMTTYPE=image/png:https://babcockneighborhoodschools.org/wp-content/uploads/2022/09/High-School-Event.png
END:VEVENT
BEGIN:VEVENT
DTSTART;VALUE=DATE:20260119
DTEND;VALUE=DATE:20260120
DTSTAMP:20260424T195724
CREATED:20250609T133643Z
LAST-MODIFIED:20250609T133643Z
UID:15902-1768780800-1768867199@babcockneighborhoodschools.org
SUMMARY:No School
DESCRIPTION:Dr. Martin Luther King Jr Day
URL:https://babcockneighborhoodschools.org/event/no-school-18/
CATEGORIES:No School,School Calendar
ATTACH;FMTTYPE=image/png:https://babcockneighborhoodschools.org/wp-content/uploads/2022/05/No-School.png
END:VEVENT
BEGIN:VEVENT
DTSTART;TZID=America/New_York:20260127T173000
DTEND;TZID=America/New_York:20260127T193000
DTSTAMP:20260424T195724
CREATED:20260108T170429Z
LAST-MODIFIED:20260122T173238Z
UID:19824-1769535000-1769542200@babcockneighborhoodschools.org
SUMMARY:Publix Math Night
DESCRIPTION:K-5 Math Night Scavenger Hunt.
URL:https://babcockneighborhoodschools.org/event/publix-math-night-4/
LOCATION:Publix
CATEGORIES:Babcock Schools Volunteers,Elementary,Events
ATTACH;FMTTYPE=image/jpeg:https://babcockneighborhoodschools.org/wp-content/uploads/2026/01/IMG_8824-2.jpg
END:VEVENT
BEGIN:VEVENT
DTSTART;TZID=America/New_York:20260128T100000
DTEND;TZID=America/New_York:20260128T110000
DTSTAMP:20260424T195724
CREATED:20250908T115643Z
LAST-MODIFIED:20250908T115643Z
UID:17178-1769594400-1769598000@babcockneighborhoodschools.org
SUMMARY:Finance Meeting
DESCRIPTION:https://babcockneighborhoodschool-org.zoom.us/j/88146657493
URL:https://babcockneighborhoodschools.org/event/finance-meeting-37/
CATEGORIES:Governing Board
ATTACH;FMTTYPE=image/png:https://babcockneighborhoodschools.org/wp-content/uploads/2022/07/Finance-Meeting-2.png
END:VEVENT
BEGIN:VEVENT
DTSTART;TZID=America/New_York:20260128T180000
DTEND;TZID=America/New_York:20260128T190000
DTSTAMP:20260424T195724
CREATED:20260115T201713Z
LAST-MODIFIED:20260115T201713Z
UID:20045-1769623200-1769626800@babcockneighborhoodschools.org
SUMMARY:CAPS Information Night
DESCRIPTION:
URL:https://babcockneighborhoodschools.org/event/caps-night/
LOCATION:Babcock High School
CATEGORIES:Events,High School
ATTACH;FMTTYPE=image/png:https://babcockneighborhoodschools.org/wp-content/uploads/2026/01/BHS-CAPS-Information-Night.png
END:VEVENT
BEGIN:VEVENT
DTSTART;TZID=America/New_York:20260204T090000
DTEND;TZID=America/New_York:20260204T100000
DTSTAMP:20260424T195724
CREATED:20250610T144126Z
LAST-MODIFIED:20251008T130709Z
UID:15962-1770195600-1770199200@babcockneighborhoodschools.org
SUMMARY:Governing Board Strategic Planning Meeting
DESCRIPTION:A Strategic Plan Governing Board Workshop will be held on February 4\, 2026 at 9 a.m. at Babcock High School. For more information about this meeting or to provide information to be considered at this meeting\, please contact Megan Lewter at mlewter@babcockneighborhoodschool.org or 239-567-3043.
URL:https://babcockneighborhoodschools.org/event/governing-board-strategic-planning-meeting/
LOCATION:Babcock High School
CATEGORIES:Events,Governing Board
ATTACH;FMTTYPE=image/png:https://babcockneighborhoodschools.org/wp-content/uploads/2022/09/High-School-Event.png
END:VEVENT
BEGIN:VEVENT
DTSTART;VALUE=DATE:20260206
DTEND;VALUE=DATE:20260207
DTSTAMP:20260424T195724
CREATED:20250618T205621Z
LAST-MODIFIED:20250618T205621Z
UID:16026-1770336000-1770422399@babcockneighborhoodschools.org
SUMMARY:Classroom Carnival
DESCRIPTION:More details coming soon. Subject to change. Babcock Schools Volunteers event.
URL:https://babcockneighborhoodschools.org/event/classroom-carnival/
CATEGORIES:Babcock Schools Volunteers,Events,School Calendar
ATTACH;FMTTYPE=image/png:https://babcockneighborhoodschools.org/wp-content/uploads/2025/06/Website-Event-2.png
END:VEVENT
BEGIN:VEVENT
DTSTART;TZID=America/New_York:20260209T180000
DTEND;TZID=America/New_York:20260209T190000
DTSTAMP:20260424T195724
CREATED:20250618T203140Z
LAST-MODIFIED:20250618T203140Z
UID:16002-1770660000-1770663600@babcockneighborhoodschools.org
SUMMARY:Babcock Schools Volunteers Meeting
DESCRIPTION:
URL:https://babcockneighborhoodschools.org/event/babcock-schools-volunteers-meeting-21/
LOCATION:Zoom
CATEGORIES:Babcock Schools Volunteers,Events
ATTACH;FMTTYPE=image/png:https://babcockneighborhoodschools.org/wp-content/uploads/2022/05/PRG-1.png
END:VEVENT
BEGIN:VEVENT
DTSTART;TZID=America/New_York:20260210T090000
DTEND;TZID=America/New_York:20260210T100000
DTSTAMP:20260424T195724
CREATED:20250610T143849Z
LAST-MODIFIED:20250610T143849Z
UID:15956-1770714000-1770717600@babcockneighborhoodschools.org
SUMMARY:Governing Board Meeting
DESCRIPTION:A Governing Board meeting will be held on February 10\, 2026 at 9 a.m. at the below address utilizing Communications Media Technology (“CMT”).  The CMT used will be the following link: https://babcockneighborhoodschool-org.zoom.us/j/89320631586.  Interested persons may either attend this meeting via CMT or in person at 43261 Cypress Parkway\, Babcock Ranch\, FL 33982. For more information about this meeting or to provide information to be considered at this meeting\, please contact Megan Lewter at mlewter@babcockneighborhoodschool.org or 239-567-3043.    \nJoin Zoom Meeting: https://babcockneighborhoodschool-org.zoom.us/j/89320631586
URL:https://babcockneighborhoodschools.org/event/governing-board-meeting-21/
CATEGORIES:Events,Governing Board
ATTACH;FMTTYPE=image/png:https://babcockneighborhoodschools.org/wp-content/uploads/2022/09/High-School-Event.png
END:VEVENT
BEGIN:VEVENT
DTSTART;TZID=America/New_York:20260211T180000
DTEND;TZID=America/New_York:20260211T190000
DTSTAMP:20260424T195724
CREATED:20260128T142811Z
LAST-MODIFIED:20260202T233812Z
UID:20477-1770832800-1770836400@babcockneighborhoodschools.org
SUMMARY:Dual Enrollment Night
DESCRIPTION:
URL:https://babcockneighborhoodschools.org/event/dual-enrollment-night/
LOCATION:Babcock High School
CATEGORIES:Events,High School
ATTACH;FMTTYPE=image/png:https://babcockneighborhoodschools.org/wp-content/uploads/2026/01/Dual-Enrollment-Night-3.png
END:VEVENT
BEGIN:VEVENT
DTSTART;TZID=America/New_York:20260212T080000
DTEND;TZID=America/New_York:20260212T150000
DTSTAMP:20260424T195724
CREATED:20260211T175224Z
LAST-MODIFIED:20260211T175224Z
UID:20968-1770883200-1770908400@babcockneighborhoodschools.org
SUMMARY:K-8 Spring Portraits
DESCRIPTION:Students may wear non-uniform clothing only if they bring proof of payment from Leonard’s (online receipt or photo envelope). Students not participating in photos should be in full school uniform. \nOnline orders can be placed here: https://tinyurl.com/26springphotos
URL:https://babcockneighborhoodschools.org/event/k-8-spring-portraits/
LOCATION:Babcock Neighborhood School
CATEGORIES:Elementary,Middle School
ATTACH;FMTTYPE=image/jpeg:https://babcockneighborhoodschools.org/wp-content/uploads/2026/02/Leonards-Spring-Photos.jpg
END:VEVENT
BEGIN:VEVENT
DTSTART;TZID=America/New_York:20260213T090000
DTEND;TZID=America/New_York:20260213T100000
DTSTAMP:20260424T195724
CREATED:20260114T202246Z
LAST-MODIFIED:20260114T202246Z
UID:19986-1770973200-1770976800@babcockneighborhoodschools.org
SUMMARY:Building & Grounds Meeting
DESCRIPTION:https://babcockneighborhoodschool-org.zoom.us/j/88986230457
URL:https://babcockneighborhoodschools.org/event/building-grounds-meeting-35/
CATEGORIES:Governing Board
ATTACH;FMTTYPE=image/png:https://babcockneighborhoodschools.org/wp-content/uploads/2022/08/Building-and-Grounds-Committee-Meeting.png
END:VEVENT
BEGIN:VEVENT
DTSTART;VALUE=DATE:20260216
DTEND;VALUE=DATE:20260217
DTSTAMP:20260424T195724
CREATED:20250609T133709Z
LAST-MODIFIED:20250609T133709Z
UID:15904-1771200000-1771286399@babcockneighborhoodschools.org
SUMMARY:No School
DESCRIPTION:Presidents Day
URL:https://babcockneighborhoodschools.org/event/no-school-19/
CATEGORIES:No School,School Calendar
ATTACH;FMTTYPE=image/png:https://babcockneighborhoodschools.org/wp-content/uploads/2022/05/No-School.png
END:VEVENT
BEGIN:VEVENT
DTSTART;TZID=America/New_York:20260225T100000
DTEND;TZID=America/New_York:20260225T110000
DTSTAMP:20260424T195724
CREATED:20250908T115658Z
LAST-MODIFIED:20250908T115658Z
UID:17180-1772013600-1772017200@babcockneighborhoodschools.org
SUMMARY:Finance Meeting
DESCRIPTION:https://babcockneighborhoodschool-org.zoom.us/j/88146657493
URL:https://babcockneighborhoodschools.org/event/finance-meeting-38/
CATEGORIES:Governing Board
ATTACH;FMTTYPE=image/png:https://babcockneighborhoodschools.org/wp-content/uploads/2022/07/Finance-Meeting-2.png
END:VEVENT
BEGIN:VEVENT
DTSTART;TZID=America/New_York:20260303T080000
DTEND;TZID=America/New_York:20260303T100000
DTSTAMP:20260424T195724
CREATED:20260115T201305Z
LAST-MODIFIED:20260115T201305Z
UID:20042-1772524800-1772532000@babcockneighborhoodschools.org
SUMMARY:BHS College & Career Fair
DESCRIPTION:
URL:https://babcockneighborhoodschools.org/event/bhs-college-career-fair/
LOCATION:Babcock High School
CATEGORIES:Events,High School
ATTACH;FMTTYPE=image/png:https://babcockneighborhoodschools.org/wp-content/uploads/2026/01/BHS-College-Career-Fair-2026.png
END:VEVENT
BEGIN:VEVENT
DTSTART;TZID=America/New_York:20260304T180000
DTEND;TZID=America/New_York:20260304T190000
DTSTAMP:20260424T195724
CREATED:20260219T161009Z
LAST-MODIFIED:20260219T162140Z
UID:21196-1772647200-1772650800@babcockneighborhoodschools.org
SUMMARY:Winter Sports Awards Night
DESCRIPTION:
URL:https://babcockneighborhoodschools.org/event/winter-sports-awards-night/
LOCATION:Babcock High School
CATEGORIES:Athletics,High School,Middle School,School Calendar
ATTACH;FMTTYPE=image/png:https://babcockneighborhoodschools.org/wp-content/uploads/2026/02/Winter-Sports-Awards-Night-1.png
END:VEVENT
BEGIN:VEVENT
DTSTART;TZID=America/New_York:20260309T180000
DTEND;TZID=America/New_York:20260309T190000
DTSTAMP:20260424T195724
CREATED:20250618T203152Z
LAST-MODIFIED:20250618T203152Z
UID:16004-1773079200-1773082800@babcockneighborhoodschools.org
SUMMARY:Babcock Schools Volunteers Meeting
DESCRIPTION:
URL:https://babcockneighborhoodschools.org/event/babcock-schools-volunteers-meeting-22/
LOCATION:Zoom
CATEGORIES:Babcock Schools Volunteers,Events
ATTACH;FMTTYPE=image/png:https://babcockneighborhoodschools.org/wp-content/uploads/2022/05/PRG-1.png
END:VEVENT
BEGIN:VEVENT
DTSTART;TZID=America/New_York:20260310T180000
DTEND;TZID=America/New_York:20260310T190000
DTSTAMP:20260424T195724
CREATED:20260203T170402Z
LAST-MODIFIED:20260203T170402Z
UID:20702-1773165600-1773169200@babcockneighborhoodschools.org
SUMMARY:Band & Chorus Concert
DESCRIPTION:You’re invited to our first-ever Band & Chorus performance – 🎶 A Concert on the Lawn 🎶 Bring your family\, grab a seat\, and enjoy an evening of music under the sky as our talented Trailblazers take the stage for the very first time.
URL:https://babcockneighborhoodschools.org/event/band-chorus-concert/
LOCATION:Grassy Knoll
CATEGORIES:Arts,Elementary,High School,Middle School
ATTACH;FMTTYPE=image/png:https://babcockneighborhoodschools.org/wp-content/uploads/2026/02/Concert-on-the-Lawn.png
END:VEVENT
BEGIN:VEVENT
DTSTART;VALUE=DATE:20260311
DTEND;VALUE=DATE:20260312
DTSTAMP:20260424T195724
CREATED:20250618T205702Z
LAST-MODIFIED:20260129T153211Z
UID:16028-1773187200-1773273599@babcockneighborhoodschools.org
SUMMARY:Touch A Truck
DESCRIPTION:More details coming soon. Subject to change. Babcock Schools Volunteers event.
URL:https://babcockneighborhoodschools.org/event/touch-a-truck-2/
CATEGORIES:Babcock Schools Volunteers,Events,School Calendar
ATTACH;FMTTYPE=image/png:https://babcockneighborhoodschools.org/wp-content/uploads/2025/06/TATFT25-26Flyer-1.png
END:VEVENT
BEGIN:VEVENT
DTSTART;TZID=America/New_York:20260313T120000
DTEND;TZID=America/New_York:20260313T120000
DTSTAMP:20260424T195724
CREATED:20250609T133745Z
LAST-MODIFIED:20250609T133745Z
UID:15906-1773403200-1773403200@babcockneighborhoodschools.org
SUMMARY:Early Release
DESCRIPTION:End of 3rd Quarter
URL:https://babcockneighborhoodschools.org/event/early-release-6/
CATEGORIES:Events,No School,School Calendar
ATTACH;FMTTYPE=image/png:https://babcockneighborhoodschools.org/wp-content/uploads/2022/05/Early-Release.png
END:VEVENT
BEGIN:VEVENT
DTSTART;TZID=America/New_York:20260318T100000
DTEND;TZID=America/New_York:20260318T110000
DTSTAMP:20260424T195724
CREATED:20250908T115711Z
LAST-MODIFIED:20250908T115711Z
UID:17182-1773828000-1773831600@babcockneighborhoodschools.org
SUMMARY:Finance Meeting
DESCRIPTION:https://babcockneighborhoodschool-org.zoom.us/j/88146657493
URL:https://babcockneighborhoodschools.org/event/finance-meeting-39/
CATEGORIES:Governing Board
ATTACH;FMTTYPE=image/png:https://babcockneighborhoodschools.org/wp-content/uploads/2022/07/Finance-Meeting-2.png
END:VEVENT
BEGIN:VEVENT
DTSTART;TZID=America/New_York:20260319T180000
DTEND;TZID=America/New_York:20260319T190000
DTSTAMP:20260424T195724
CREATED:20260211T203320Z
LAST-MODIFIED:20260211T203320Z
UID:20973-1773943200-1773946800@babcockneighborhoodschools.org
SUMMARY:AICE Cambridge Night
DESCRIPTION:8th-11th grade parents are invited to AICE Cambridge Night at Babcock High School! Learn more about the rigorous AICE Diploma path\, courses\, and exams\, and how this internationally recognized program builds critical thinking\, academic rigor\, and real-world readiness for college and beyond. \nWe look forward to sharing how AICE can support your student’s goals and academic journey.
URL:https://babcockneighborhoodschools.org/event/aice-cambridge-night/
LOCATION:Babcock High School
CATEGORIES:Events,High School
ATTACH;FMTTYPE=image/png:https://babcockneighborhoodschools.org/wp-content/uploads/2026/02/AICE-Cambridge-Night-Final.png
END:VEVENT
BEGIN:VEVENT
DTSTART;VALUE=DATE:20260323
DTEND;VALUE=DATE:20260404
DTSTAMP:20260424T195724
CREATED:20250609T133830Z
LAST-MODIFIED:20250609T133830Z
UID:15908-1774224000-1775260799@babcockneighborhoodschools.org
SUMMARY:Spring Break
DESCRIPTION:
URL:https://babcockneighborhoodschools.org/event/spring-break-4/
CATEGORIES:No School,School Calendar
ATTACH;FMTTYPE=image/png:https://babcockneighborhoodschools.org/wp-content/uploads/2022/05/Vacation.png
END:VEVENT
BEGIN:VEVENT
DTSTART;TZID=America/New_York:20260409T083000
DTEND;TZID=America/New_York:20260409T113000
DTSTAMP:20260424T195724
CREATED:20260318T162421Z
LAST-MODIFIED:20260318T162421Z
UID:21950-1775723400-1775734200@babcockneighborhoodschools.org
SUMMARY:School Day SAT
DESCRIPTION:
URL:https://babcockneighborhoodschools.org/event/school-day-sat/
LOCATION:Babcock High School
CATEGORIES:High School
ATTACH;FMTTYPE=image/png:https://babcockneighborhoodschools.org/wp-content/uploads/2026/03/SAT-1.png
END:VEVENT
BEGIN:VEVENT
DTSTART;TZID=America/New_York:20260413T180000
DTEND;TZID=America/New_York:20260413T190000
DTSTAMP:20260424T195724
CREATED:20250618T203204Z
LAST-MODIFIED:20260219T143654Z
UID:16006-1776103200-1776106800@babcockneighborhoodschools.org
SUMMARY:Babcock Schools Volunteers Meeting
DESCRIPTION:
URL:https://babcockneighborhoodschools.org/event/babcock-schools-volunteers-meeting-23/
LOCATION:Zoom
CATEGORIES:Babcock Schools Volunteers,Events
ATTACH;FMTTYPE=image/png:https://babcockneighborhoodschools.org/wp-content/uploads/2022/05/PRG-1.png
END:VEVENT
END:VCALENDAR