BEGIN:VCALENDAR
VERSION:2.0
PRODID:-//Babcock Schools - ECPv6.15.17.1//NONSGML v1.0//EN
CALSCALE:GREGORIAN
METHOD:PUBLISH
X-WR-CALNAME:Babcock Schools
X-ORIGINAL-URL:https://babcockneighborhoodschools.org
X-WR-CALDESC:Events for Babcock Schools
REFRESH-INTERVAL;VALUE=DURATION:PT1H
X-Robots-Tag:noindex
X-PUBLISHED-TTL:PT1H
BEGIN:VTIMEZONE
TZID:America/New_York
BEGIN:DAYLIGHT
TZOFFSETFROM:-0500
TZOFFSETTO:-0400
TZNAME:EDT
DTSTART:20240310T070000
END:DAYLIGHT
BEGIN:STANDARD
TZOFFSETFROM:-0400
TZOFFSETTO:-0500
TZNAME:EST
DTSTART:20241103T060000
END:STANDARD
BEGIN:DAYLIGHT
TZOFFSETFROM:-0500
TZOFFSETTO:-0400
TZNAME:EDT
DTSTART:20250309T070000
END:DAYLIGHT
BEGIN:STANDARD
TZOFFSETFROM:-0400
TZOFFSETTO:-0500
TZNAME:EST
DTSTART:20251102T060000
END:STANDARD
BEGIN:DAYLIGHT
TZOFFSETFROM:-0500
TZOFFSETTO:-0400
TZNAME:EDT
DTSTART:20260308T070000
END:DAYLIGHT
BEGIN:STANDARD
TZOFFSETFROM:-0400
TZOFFSETTO:-0500
TZNAME:EST
DTSTART:20261101T060000
END:STANDARD
END:VTIMEZONE
BEGIN:VEVENT
DTSTART;TZID=America/New_York:20251013T080000
DTEND;TZID=America/New_York:20251017T160000
DTSTAMP:20260424T224428
CREATED:20251006T130326Z
LAST-MODIFIED:20251006T130828Z
UID:18025-1760342400-1760716800@babcockneighborhoodschools.org
SUMMARY:Fall Break Camp
DESCRIPTION:
URL:https://babcockneighborhoodschools.org/event/fall-break-camp-4/
LOCATION:Babcock Neighborhood School
CATEGORIES:Elementary,Events
ATTACH;FMTTYPE=image/png:https://babcockneighborhoodschools.org/wp-content/uploads/2025/10/photo-11.png
END:VEVENT
BEGIN:VEVENT
DTSTART;VALUE=DATE:20251008
DTEND;VALUE=DATE:20251009
DTSTAMP:20260424T224428
CREATED:20250618T205012Z
LAST-MODIFIED:20251006T131301Z
UID:16021-1759881600-1759967999@babcockneighborhoodschools.org
SUMMARY:Donuts with Grownups
DESCRIPTION:Babcock Schools Volunteers event.
URL:https://babcockneighborhoodschools.org/event/donuts-with-grownups-3/
CATEGORIES:Babcock Schools Volunteers,Events,School Calendar
ATTACH;FMTTYPE=image/png:https://babcockneighborhoodschools.org/wp-content/uploads/2025/06/inline_images_1758732597984-Donuts25.png
END:VEVENT
BEGIN:VEVENT
DTSTART;TZID=America/New_York:20251006T180000
DTEND;TZID=America/New_York:20251006T190000
DTSTAMP:20260424T224428
CREATED:20250618T202931Z
LAST-MODIFIED:20251006T130727Z
UID:15994-1759773600-1759777200@babcockneighborhoodschools.org
SUMMARY:Babcock Schools Volunteers Meeting
DESCRIPTION:
URL:https://babcockneighborhoodschools.org/event/babcock-schools-volunteers-meeting-17/
LOCATION:Zoom
CATEGORIES:Babcock Schools Volunteers,Events
ATTACH;FMTTYPE=image/png:https://babcockneighborhoodschools.org/wp-content/uploads/2025/06/inline_images_1758043754761-Oct.png
END:VEVENT
BEGIN:VEVENT
DTSTART;VALUE=DATE:20251006
DTEND;VALUE=DATE:20251011
DTSTAMP:20260424T224428
CREATED:20250618T204935Z
LAST-MODIFIED:20251006T130549Z
UID:16019-1759708800-1760140799@babcockneighborhoodschools.org
SUMMARY:Penny Wars Week
DESCRIPTION:More details coming soon. Subject to change. Babcock Schools Volunteers event.
URL:https://babcockneighborhoodschools.org/event/penny-wars-week/
CATEGORIES:Babcock Schools Volunteers,Events,School Calendar
ATTACH;FMTTYPE=image/png:https://babcockneighborhoodschools.org/wp-content/uploads/2025/06/inline_images_1758732497744-PWflyer.png
END:VEVENT
BEGIN:VEVENT
DTSTART;TZID=America/New_York:20251003T120000
DTEND;TZID=America/New_York:20251003T120000
DTSTAMP:20260424T224428
CREATED:20250609T132058Z
LAST-MODIFIED:20250609T132058Z
UID:15889-1759492800-1759492800@babcockneighborhoodschools.org
SUMMARY:Early Release
DESCRIPTION:End of 1st Quarter
URL:https://babcockneighborhoodschools.org/event/early-release-4/
CATEGORIES:Events,No School,School Calendar
ATTACH;FMTTYPE=image/png:https://babcockneighborhoodschools.org/wp-content/uploads/2022/05/Early-Release.png
END:VEVENT
BEGIN:VEVENT
DTSTART;VALUE=DATE:20250927
DTEND;VALUE=DATE:20250928
DTSTAMP:20260424T224428
CREATED:20250620T203220Z
LAST-MODIFIED:20250923T132505Z
UID:16080-1758931200-1759017599@babcockneighborhoodschools.org
SUMMARY:BHS Homecoming Dance
DESCRIPTION:
URL:https://babcockneighborhoodschools.org/event/bhs-homecoming-dance/
CATEGORIES:Events,High School,School Calendar
ATTACH;FMTTYPE=image/png:https://babcockneighborhoodschools.org/wp-content/uploads/2025/06/Hoco-Invite.png
END:VEVENT
BEGIN:VEVENT
DTSTART;TZID=America/New_York:20250926T190000
DTEND;TZID=America/New_York:20250926T220000
DTSTAMP:20260424T224428
CREATED:20250620T202922Z
LAST-MODIFIED:20250620T202922Z
UID:16078-1758913200-1758924000@babcockneighborhoodschools.org
SUMMARY:BHS Homecoming Football Game
DESCRIPTION:vs Santa Fe Catholic
URL:https://babcockneighborhoodschools.org/event/bhs-homecoming-football-game/
LOCATION:William and Mary Ann Smith Sports Complex
CATEGORIES:Events,High School,School Calendar
ATTACH;FMTTYPE=image/png:https://babcockneighborhoodschools.org/wp-content/uploads/2023/12/Football.png
END:VEVENT
BEGIN:VEVENT
DTSTART;TZID=America/New_York:20250926T163000
DTEND;TZID=America/New_York:20250926T183000
DTSTAMP:20260424T224428
CREATED:20250618T204858Z
LAST-MODIFIED:20250923T132047Z
UID:16016-1758904200-1758911400@babcockneighborhoodschools.org
SUMMARY:K-8 Homecoming Tailgate
DESCRIPTION:
URL:https://babcockneighborhoodschools.org/event/k-8-homecoming-tailgate/
CATEGORIES:Babcock Schools Volunteers,Events,School Calendar
ATTACH;FMTTYPE=image/png:https://babcockneighborhoodschools.org/wp-content/uploads/2025/06/Homecoming-Tailgate-Party-2025-SocialParentSquare.png
END:VEVENT
BEGIN:VEVENT
DTSTART;TZID=America/New_York:20250924T100000
DTEND;TZID=America/New_York:20250924T110000
DTSTAMP:20260424T224428
CREATED:20250908T115540Z
LAST-MODIFIED:20250908T115551Z
UID:17170-1758708000-1758711600@babcockneighborhoodschools.org
SUMMARY:Finance Meeting
DESCRIPTION:https://babcockneighborhoodschool-org.zoom.us/j/88146657493
URL:https://babcockneighborhoodschools.org/event/finance-meeting-28/
CATEGORIES:Governing Board
ATTACH;FMTTYPE=image/png:https://babcockneighborhoodschools.org/wp-content/uploads/2022/07/Finance-Meeting-2.png
END:VEVENT
BEGIN:VEVENT
DTSTART;TZID=America/New_York:20250909T090000
DTEND;TZID=America/New_York:20250909T100000
DTSTAMP:20260424T224428
CREATED:20250610T143807Z
LAST-MODIFIED:20250610T143807Z
UID:15952-1757408400-1757412000@babcockneighborhoodschools.org
SUMMARY:Governing Board Meeting
DESCRIPTION:A Governing Board meeting will be held on September 9\, 2025 at 9 a.m. at the below address utilizing Communications Media Technology (“CMT”).  The CMT used will be the following link: https://babcockneighborhoodschool-org.zoom.us/j/89320631586.  Interested persons may either attend this meeting via CMT or in person at 43261 Cypress Parkway\, Babcock Ranch\, FL 33982. For more information about this meeting or to provide information to be considered at this meeting\, please contact Megan Lewter at mlewter@babcockneighborhoodschool.org or 239-567-3043.    \nJoin Zoom Meeting: https://babcockneighborhoodschool-org.zoom.us/j/89320631586
URL:https://babcockneighborhoodschools.org/event/governing-board-meeting-19/
CATEGORIES:Events,Governing Board
ATTACH;FMTTYPE=image/png:https://babcockneighborhoodschools.org/wp-content/uploads/2022/09/High-School-Event.png
END:VEVENT
BEGIN:VEVENT
DTSTART;TZID=America/New_York:20250908T180000
DTEND;TZID=America/New_York:20250908T190000
DTSTAMP:20260424T224428
CREATED:20250618T202848Z
LAST-MODIFIED:20250618T202915Z
UID:15991-1757354400-1757358000@babcockneighborhoodschools.org
SUMMARY:Babcock Schools Volunteers Meeting
DESCRIPTION:
URL:https://babcockneighborhoodschools.org/event/babcock-schools-volunteers-meeting-16/
LOCATION:Babcock High School
CATEGORIES:Babcock Schools Volunteers,Events
ATTACH;FMTTYPE=image/png:https://babcockneighborhoodschools.org/wp-content/uploads/2022/05/PRG-1.png
END:VEVENT
BEGIN:VEVENT
DTSTART;VALUE=DATE:20250901
DTEND;VALUE=DATE:20250902
DTSTAMP:20260424T224428
CREATED:20250609T132001Z
LAST-MODIFIED:20250609T132001Z
UID:15887-1756684800-1756771199@babcockneighborhoodschools.org
SUMMARY:No School
DESCRIPTION:Labor Day
URL:https://babcockneighborhoodschools.org/event/no-school-17/
CATEGORIES:No School,School Calendar
ATTACH;FMTTYPE=image/png:https://babcockneighborhoodschools.org/wp-content/uploads/2022/05/No-School.png
END:VEVENT
BEGIN:VEVENT
DTSTART;TZID=America/New_York:20250829T170000
DTEND;TZID=America/New_York:20250829T190000
DTSTAMP:20260424T224428
CREATED:20250618T204258Z
LAST-MODIFIED:20250618T204258Z
UID:16013-1756486800-1756494000@babcockneighborhoodschools.org
SUMMARY:Welcome Back BBQ
DESCRIPTION:More details coming soon. Subject to change. Babcock Schools Volunteers event.
URL:https://babcockneighborhoodschools.org/event/welcome-back-bbq/
LOCATION:Grassy Knoll
CATEGORIES:Babcock Schools Volunteers,Events,School Calendar
ATTACH;FMTTYPE=image/png:https://babcockneighborhoodschools.org/wp-content/uploads/2025/06/IMG_1787.png
END:VEVENT
BEGIN:VEVENT
DTSTART;TZID=America/New_York:20250822T080000
DTEND;TZID=America/New_York:20250822T150000
DTSTAMP:20260424T224428
CREATED:20250811T134025Z
LAST-MODIFIED:20250811T134025Z
UID:16622-1755849600-1755874800@babcockneighborhoodschools.org
SUMMARY:BNS (K-5) Fall Picture Day
DESCRIPTION:K-5 picture day
URL:https://babcockneighborhoodschools.org/event/bns-k-5-fall-picture-day/
LOCATION:Babcock Neighborhood School
CATEGORIES:Events
ATTACH;FMTTYPE=image/png:https://babcockneighborhoodschools.org/wp-content/uploads/2022/08/Picture-Day-2.png
END:VEVENT
BEGIN:VEVENT
DTSTART;TZID=America/New_York:20250818T180000
DTEND;TZID=America/New_York:20250818T190000
DTSTAMP:20260424T224428
CREATED:20250806T141608Z
LAST-MODIFIED:20250806T141608Z
UID:16526-1755540000-1755543600@babcockneighborhoodschools.org
SUMMARY:Athletics Booster Club Meeting
DESCRIPTION:Calling all parents\, family\, and community members interested in volunteering! Come support our Trailblazers and our growing athletic programs!
URL:https://babcockneighborhoodschools.org/event/athletics-booster-club-meeting-15/
LOCATION:Babcock High School
CATEGORIES:Athletics,Athletics Calendar,Events,High School,Middle School
ATTACH;FMTTYPE=image/png:https://babcockneighborhoodschools.org/wp-content/uploads/2025/08/Booster-Club-1.png
ORGANIZER;CN="Jeff Irwin":MAILTO:jirwin@babcockneighborhoodschool.org
END:VEVENT
BEGIN:VEVENT
DTSTART;TZID=America/New_York:20250818T180000
DTEND;TZID=America/New_York:20250818T190000
DTSTAMP:20260424T224428
CREATED:20250806T141407Z
LAST-MODIFIED:20250806T141407Z
UID:16523-1755540000-1755543600@babcockneighborhoodschools.org
SUMMARY:Athletics Booster Club Meeting
DESCRIPTION:Calling all parents\, family\, and community members interested in volunteering! Come support our Trailblazers and our growing athletic programs!
URL:https://babcockneighborhoodschools.org/event/athletics-booster-club-meeting-14/
LOCATION:Babcock High School
CATEGORIES:Athletics,Athletics Calendar,Events,High School,Middle School
ATTACH;FMTTYPE=image/png:https://babcockneighborhoodschools.org/wp-content/uploads/2025/08/Booster-Club.png
ORGANIZER;CN="Jeff Irwin":MAILTO:jirwin@babcockneighborhoodschool.org
END:VEVENT
BEGIN:VEVENT
DTSTART;TZID=America/New_York:20250812T080000
DTEND;TZID=America/New_York:20250812T150000
DTSTAMP:20260424T224428
CREATED:20250717T185812Z
LAST-MODIFIED:20250717T185812Z
UID:16298-1754985600-1755010800@babcockneighborhoodschools.org
SUMMARY:BHS Fall Picture Day
DESCRIPTION:More information coming soon.
URL:https://babcockneighborhoodschools.org/event/bhs-fall-picture-day/
LOCATION:Babcock High School
CATEGORIES:Events,High School
ATTACH;FMTTYPE=image/png:https://babcockneighborhoodschools.org/wp-content/uploads/2022/08/Picture-Day-2.png
END:VEVENT
BEGIN:VEVENT
DTSTART;TZID=America/New_York:20250812T080000
DTEND;TZID=America/New_York:20250812T150000
DTSTAMP:20260424T224428
CREATED:20250717T185738Z
LAST-MODIFIED:20250811T133956Z
UID:16296-1754985600-1755010800@babcockneighborhoodschools.org
SUMMARY:BNS (6-8) Fall Picture Day
DESCRIPTION:Middle school picture day
URL:https://babcockneighborhoodschools.org/event/fall-picture-day-k-8/
LOCATION:Babcock Neighborhood School
CATEGORIES:Events,Middle School
ATTACH;FMTTYPE=image/png:https://babcockneighborhoodschools.org/wp-content/uploads/2022/08/Picture-Day-2.png
END:VEVENT
BEGIN:VEVENT
DTSTART;TZID=America/New_York:20250804T153000
DTEND;TZID=America/New_York:20250804T173000
DTSTAMP:20260424T224428
CREATED:20250715T125234Z
LAST-MODIFIED:20250715T125341Z
UID:16257-1754321400-1754328600@babcockneighborhoodschools.org
SUMMARY:BNS Volleyball Tryouts
DESCRIPTION:August 4th & 5th. Middle school 6-8th grade.
URL:https://babcockneighborhoodschools.org/event/bns-volleyball-tryouts-3/
LOCATION:Fieldhouse
CATEGORIES:Athletics,Athletics Calendar,Middle School
ATTACH;FMTTYPE=image/png:https://babcockneighborhoodschools.org/wp-content/uploads/2022/07/Practice-Starts.png
END:VEVENT
BEGIN:VEVENT
DTSTART;TZID=America/New_York:20250801T063000
DTEND;TZID=America/New_York:20250801T070000
DTSTAMP:20260424T224428
CREATED:20250729T135051Z
LAST-MODIFIED:20250729T135051Z
UID:16411-1754029800-1754031600@babcockneighborhoodschools.org
SUMMARY:Senior Sunrise
DESCRIPTION:Class of 2026
URL:https://babcockneighborhoodschools.org/event/senior-sunrise/
LOCATION:William and Mary Ann Smith Sports Complex
CATEGORIES:High School
ATTACH;FMTTYPE=image/png:https://babcockneighborhoodschools.org/wp-content/uploads/2025/07/Senior-Sunrise-2.png
END:VEVENT
BEGIN:VEVENT
DTSTART;TZID=America/New_York:20250731T080000
DTEND;TZID=America/New_York:20250731T150000
DTSTAMP:20260424T224428
CREATED:20250416T143138Z
LAST-MODIFIED:20250416T143138Z
UID:14729-1753948800-1753974000@babcockneighborhoodschools.org
SUMMARY:First Day of School
DESCRIPTION:
URL:https://babcockneighborhoodschools.org/event/first-day-of-school-4/
CATEGORIES:Events,School Calendar
ATTACH;FMTTYPE=image/png:https://babcockneighborhoodschools.org/wp-content/uploads/2023/02/1st-Day.png
END:VEVENT
BEGIN:VEVENT
DTSTART;TZID=America/New_York:20250730T140000
DTEND;TZID=America/New_York:20250730T160000
DTSTAMP:20260424T224428
CREATED:20250716T151813Z
LAST-MODIFIED:20250716T151813Z
UID:16279-1753884000-1753891200@babcockneighborhoodschools.org
SUMMARY:Chalk the Walk
DESCRIPTION:Let’s kick off the school year with a burst of color and positivity! Come out and “Chalk the Walk” on Wednesday\, July 30th from 2-4pm (or whenever the sun is shining). Bring some sidewalk chalk and creativity to the front of the new entrance to BNS. \nLet’s leave inspiring messages for our Trailblazers to discover on their first day back! Whether your kiddo walks up or rides through carline\, they’ll start the year with a smile.
URL:https://babcockneighborhoodschools.org/event/chalk-the-walk-2/
LOCATION:Babcock Neighborhood School
CATEGORIES:Elementary,Events
ATTACH;FMTTYPE=image/png:https://babcockneighborhoodschools.org/wp-content/uploads/2024/07/Chalk-the-Walk.png
END:VEVENT
BEGIN:VEVENT
DTSTART;TZID=America/New_York:20250728T160000
DTEND;TZID=America/New_York:20250728T180000
DTSTAMP:20260424T224428
CREATED:20250715T124116Z
LAST-MODIFIED:20250715T124116Z
UID:16251-1753718400-1753725600@babcockneighborhoodschools.org
SUMMARY:BHS Volleyball Tryouts
DESCRIPTION:July 28 & July 29 4-6pm
URL:https://babcockneighborhoodschools.org/event/bhs-volleyball-tryouts/
LOCATION:Fieldhouse
CATEGORIES:Athletics,Athletics Calendar,High School
ATTACH;FMTTYPE=image/png:https://babcockneighborhoodschools.org/wp-content/uploads/2022/07/Practice-Starts.png
END:VEVENT
BEGIN:VEVENT
DTSTART;TZID=America/New_York:20250725T180000
DTEND;TZID=America/New_York:20250725T193000
DTSTAMP:20260424T224428
CREATED:20250520T143253Z
LAST-MODIFIED:20250520T143253Z
UID:15537-1753466400-1753471800@babcockneighborhoodschools.org
SUMMARY:BNS (K-5) Back to School Open House
DESCRIPTION:This is your chance to meet teachers\, explore classrooms\, get schedules\, and have all your questions answered before that first day of school. Let’s make the 25-26 year our best yet!
URL:https://babcockneighborhoodschools.org/event/bns-k-5-back-to-school-open-house/
LOCATION:Babcock Neighborhood School
CATEGORIES:Elementary,Events,School Calendar
ATTACH;FMTTYPE=image/png:https://babcockneighborhoodschools.org/wp-content/uploads/2025/05/Back-to-School-Open-House-2025-2026-1.png
END:VEVENT
BEGIN:VEVENT
DTSTART;TZID=America/New_York:20250724T180000
DTEND;TZID=America/New_York:20250724T193000
DTSTAMP:20260424T224428
CREATED:20250520T143224Z
LAST-MODIFIED:20250520T143224Z
UID:15535-1753380000-1753385400@babcockneighborhoodschools.org
SUMMARY:BNS (6-8th) Back to School Open House
DESCRIPTION:This is your chance to meet teachers\, explore classrooms\, get schedules\, and have all your questions answered before that first day of school. Let’s make the 25-26 year our best yet!
URL:https://babcockneighborhoodschools.org/event/bns-back-to-school-open-house-2/
LOCATION:Babcock Neighborhood School
CATEGORIES:Events,Middle School,School Calendar
ATTACH;FMTTYPE=image/png:https://babcockneighborhoodschools.org/wp-content/uploads/2025/05/Back-to-School-Open-House-2025-2026-1.png
END:VEVENT
BEGIN:VEVENT
DTSTART;TZID=America/New_York:20250724T180000
DTEND;TZID=America/New_York:20250724T193000
DTSTAMP:20260424T224428
CREATED:20250520T143135Z
LAST-MODIFIED:20250520T143135Z
UID:15531-1753380000-1753385400@babcockneighborhoodschools.org
SUMMARY:BHS (9-12) Back to School Open House
DESCRIPTION:This is your chance to meet teachers\, explore classrooms\, get schedules\, and have all your questions answered before that first day of school. Let’s make the 25-26 year our best yet!
URL:https://babcockneighborhoodschools.org/event/bhs-9-12-back-to-school-open-house/
LOCATION:Babcock High School
CATEGORIES:Events,High School,School Calendar
ATTACH;FMTTYPE=image/png:https://babcockneighborhoodschools.org/wp-content/uploads/2025/05/Back-to-School-Open-House-2025-2026-1.png
END:VEVENT
BEGIN:VEVENT
DTSTART;TZID=America/New_York:20250722T180000
DTEND;TZID=America/New_York:20250722T190000
DTSTAMP:20260424T224428
CREATED:20250715T131351Z
LAST-MODIFIED:20250715T161821Z
UID:16263-1753207200-1753210800@babcockneighborhoodschools.org
SUMMARY:BHS Cross Country Interest Meeting
DESCRIPTION:For 8-12th grade students and parents interested in Cross Country
URL:https://babcockneighborhoodschools.org/event/bhs-xc-interest-meeting/
LOCATION:Babcock High School
CATEGORIES:Athletics,Athletics Calendar,High School
ATTACH;FMTTYPE=image/png:https://babcockneighborhoodschools.org/wp-content/uploads/2025/07/IMG_2335.png
END:VEVENT
BEGIN:VEVENT
DTSTART;TZID=America/New_York:20250722T180000
DTEND;TZID=America/New_York:20250722T190000
DTSTAMP:20260424T224428
CREATED:20250715T124348Z
LAST-MODIFIED:20250715T124348Z
UID:16253-1753207200-1753210800@babcockneighborhoodschools.org
SUMMARY:BHS Golf Interest Meeting
DESCRIPTION:
URL:https://babcockneighborhoodschools.org/event/bhs-golf-2/
LOCATION:Babcock High School
CATEGORIES:Athletics,Athletics Calendar,High School
ATTACH;FMTTYPE=image/png:https://babcockneighborhoodschools.org/wp-content/uploads/2025/07/IMG_2334.png
END:VEVENT
BEGIN:VEVENT
DTSTART;TZID=America/New_York:20250722T090000
DTEND;TZID=America/New_York:20250722T100000
DTSTAMP:20260424T224428
CREATED:20250610T143746Z
LAST-MODIFIED:20250610T143746Z
UID:15950-1753174800-1753178400@babcockneighborhoodschools.org
SUMMARY:Governing Board Meeting
DESCRIPTION:A Governing Board meeting will be held on July 22\, 2025 at 9 a.m. at the below address utilizing Communications Media Technology (“CMT”).  The CMT used will be the following link: https://babcockneighborhoodschool-org.zoom.us/j/89320631586.  Interested persons may either attend this meeting via CMT or in person at 43261 Cypress Parkway\, Babcock Ranch\, FL 33982. For more information about this meeting or to provide information to be considered at this meeting\, please contact Megan Lewter at mlewter@babcockneighborhoodschool.org or 239-567-3043.    \nJoin Zoom Meeting: https://babcockneighborhoodschool-org.zoom.us/j/89320631586
URL:https://babcockneighborhoodschools.org/event/governing-board-meeting-18/
CATEGORIES:Events,Governing Board
ATTACH;FMTTYPE=image/png:https://babcockneighborhoodschools.org/wp-content/uploads/2022/09/High-School-Event.png
END:VEVENT
BEGIN:VEVENT
DTSTART;TZID=America/New_York:20250717T073000
DTEND;TZID=America/New_York:20250718T113000
DTSTAMP:20260424T224428
CREATED:20250422T154212Z
LAST-MODIFIED:20250422T154212Z
UID:14870-1752737400-1752838200@babcockneighborhoodschools.org
SUMMARY:Kindergarten Round-Up
DESCRIPTION:🤠 Yeehaw\, Future Trailblazers! It’s time for Kindergarten Round-Up! \nIncoming BNS Kindergarteners are invited to attend on July 17–18 from 7:30–11:30am for two fun-filled mornings of games\, snacks\, school exploration\, and meeting their new teachers! Aftercare is also available. Register by July 1st here: https://forms.gle/pLPwfLgUY8hRq7fu8 \nAlso\, mark your calendars for a parent information session on July 16th at either 4 or 6pm. Questions? Email us at kg-roundup@babcockneighborhoodschool.org
URL:https://babcockneighborhoodschools.org/event/kindergarten-round-up-2/
LOCATION:Babcock Neighborhood School
CATEGORIES:Elementary,Events
ATTACH;FMTTYPE=image/png:https://babcockneighborhoodschools.org/wp-content/uploads/2025/04/2025-Kindergarten-Round-Up-1.png
END:VEVENT
END:VCALENDAR