BEGIN:VCALENDAR
VERSION:2.0
PRODID:-//Babcock Schools - ECPv6.15.17.1//NONSGML v1.0//EN
CALSCALE:GREGORIAN
METHOD:PUBLISH
X-WR-CALNAME:Babcock Schools
X-ORIGINAL-URL:https://babcockneighborhoodschools.org
X-WR-CALDESC:Events for Babcock Schools
REFRESH-INTERVAL;VALUE=DURATION:PT1H
X-Robots-Tag:noindex
X-PUBLISHED-TTL:PT1H
BEGIN:VTIMEZONE
TZID:America/New_York
BEGIN:DAYLIGHT
TZOFFSETFROM:-0500
TZOFFSETTO:-0400
TZNAME:EDT
DTSTART:20230312T070000
END:DAYLIGHT
BEGIN:STANDARD
TZOFFSETFROM:-0400
TZOFFSETTO:-0500
TZNAME:EST
DTSTART:20231105T060000
END:STANDARD
BEGIN:DAYLIGHT
TZOFFSETFROM:-0500
TZOFFSETTO:-0400
TZNAME:EDT
DTSTART:20240310T070000
END:DAYLIGHT
BEGIN:STANDARD
TZOFFSETFROM:-0400
TZOFFSETTO:-0500
TZNAME:EST
DTSTART:20241103T060000
END:STANDARD
BEGIN:DAYLIGHT
TZOFFSETFROM:-0500
TZOFFSETTO:-0400
TZNAME:EDT
DTSTART:20250309T070000
END:DAYLIGHT
BEGIN:STANDARD
TZOFFSETFROM:-0400
TZOFFSETTO:-0500
TZNAME:EST
DTSTART:20251102T060000
END:STANDARD
END:VTIMEZONE
BEGIN:VEVENT
DTSTART;VALUE=DATE:20241122
DTEND;VALUE=DATE:20241123
DTSTAMP:20260421T115134
CREATED:20241112T171036Z
LAST-MODIFIED:20241112T171036Z
UID:11187-1732233600-1732319999@babcockneighborhoodschools.org
SUMMARY:5th Annual Turkey Trot
DESCRIPTION:The 5th Annual BNS Turkey Trot will be held on Friday\, November 22nd! 🦃 Let’s see how many non-perishable food items we can collect to help those in need this Thanksgiving. Don’t forget to send items with your students now through November 22nd\, and come cheer on our festive runners at the new William & Mary Ann Smith Sports Complex!
URL:https://babcockneighborhoodschools.org/event/5th-annual-turkey-trot/
LOCATION:William and Mary Ann Smith Sports Complex
CATEGORIES:Babcock Schools Volunteers,Elementary,Events
ATTACH;FMTTYPE=image/jpeg:https://babcockneighborhoodschools.org/wp-content/uploads/2024/11/Turkey-Trot-Template-5-1-scaled.jpg
END:VEVENT
END:VCALENDAR