BEGIN:VCALENDAR
VERSION:2.0
PRODID:-//Babcock Schools - ECPv6.15.17.1//NONSGML v1.0//EN
CALSCALE:GREGORIAN
METHOD:PUBLISH
X-ORIGINAL-URL:https://babcockneighborhoodschools.org
X-WR-CALDESC:Events for Babcock Schools
REFRESH-INTERVAL;VALUE=DURATION:PT1H
X-Robots-Tag:noindex
X-PUBLISHED-TTL:PT1H
BEGIN:VTIMEZONE
TZID:America/New_York
BEGIN:DAYLIGHT
TZOFFSETFROM:-0500
TZOFFSETTO:-0400
TZNAME:EDT
DTSTART:20230312T070000
END:DAYLIGHT
BEGIN:STANDARD
TZOFFSETFROM:-0400
TZOFFSETTO:-0500
TZNAME:EST
DTSTART:20231105T060000
END:STANDARD
BEGIN:DAYLIGHT
TZOFFSETFROM:-0500
TZOFFSETTO:-0400
TZNAME:EDT
DTSTART:20240310T070000
END:DAYLIGHT
BEGIN:STANDARD
TZOFFSETFROM:-0400
TZOFFSETTO:-0500
TZNAME:EST
DTSTART:20241103T060000
END:STANDARD
BEGIN:DAYLIGHT
TZOFFSETFROM:-0500
TZOFFSETTO:-0400
TZNAME:EDT
DTSTART:20250309T070000
END:DAYLIGHT
BEGIN:STANDARD
TZOFFSETFROM:-0400
TZOFFSETTO:-0500
TZNAME:EST
DTSTART:20251102T060000
END:STANDARD
END:VTIMEZONE
BEGIN:VEVENT
DTSTART;TZID=America/New_York:20240718T074500
DTEND;TZID=America/New_York:20240719T113000
DTSTAMP:20260421T172914
CREATED:20240621T143403Z
LAST-MODIFIED:20240621T143403Z
UID:10098-1721288700-1721388600@babcockneighborhoodschools.org
SUMMARY:Kindergarten Round Up
DESCRIPTION:Our Kindergarten Team is excited to invite our incoming Kindergarteners to our first-ever Kindergarten Round-Up! July 18th & 19th from 7:45-11:30am🤠🌵🐎. \nSoon-to-be Kindergarteners will explore the school\, learn daily procedures\, and meet their future teachers through fun games and activities. Extend the fun with optional summer camp activities for an additional fee. Don’t miss this chance for your child to start their school journey with confidence and excitement! We look forward to welcoming your Kindergartener to our BNS family! \nLearn More & Sign Up: https://tinyurl.com/bder4res \nPay on MSB: https://tinyurl.com/3uuswyn8
URL:https://babcockneighborhoodschools.org/event/kindergarten-round-up/
LOCATION:Babcock Neighborhood School
CATEGORIES:Elementary,Events
ATTACH;FMTTYPE=image/jpeg:https://babcockneighborhoodschools.org/wp-content/uploads/2024/06/IMG_1175.jpeg
END:VEVENT
END:VCALENDAR