BEGIN:VCALENDAR
VERSION:2.0
PRODID:-//Babcock Schools - ECPv6.15.17.1//NONSGML v1.0//EN
CALSCALE:GREGORIAN
METHOD:PUBLISH
X-WR-CALNAME:Babcock Schools
X-ORIGINAL-URL:https://babcockneighborhoodschools.org
X-WR-CALDESC:Events for Babcock Schools
REFRESH-INTERVAL;VALUE=DURATION:PT1H
X-Robots-Tag:noindex
X-PUBLISHED-TTL:PT1H
BEGIN:VTIMEZONE
TZID:America/New_York
BEGIN:DAYLIGHT
TZOFFSETFROM:-0500
TZOFFSETTO:-0400
TZNAME:EDT
DTSTART:20240310T070000
END:DAYLIGHT
BEGIN:STANDARD
TZOFFSETFROM:-0400
TZOFFSETTO:-0500
TZNAME:EST
DTSTART:20241103T060000
END:STANDARD
BEGIN:DAYLIGHT
TZOFFSETFROM:-0500
TZOFFSETTO:-0400
TZNAME:EDT
DTSTART:20250309T070000
END:DAYLIGHT
BEGIN:STANDARD
TZOFFSETFROM:-0400
TZOFFSETTO:-0500
TZNAME:EST
DTSTART:20251102T060000
END:STANDARD
BEGIN:DAYLIGHT
TZOFFSETFROM:-0500
TZOFFSETTO:-0400
TZNAME:EDT
DTSTART:20260308T070000
END:DAYLIGHT
BEGIN:STANDARD
TZOFFSETFROM:-0400
TZOFFSETTO:-0500
TZNAME:EST
DTSTART:20261101T060000
END:STANDARD
END:VTIMEZONE
BEGIN:VEVENT
DTSTART;TZID=America/New_York:20250213T080000
DTEND;TZID=America/New_York:20250213T150000
DTSTAMP:20260421T063738
CREATED:20240729T194938Z
LAST-MODIFIED:20250212T162821Z
UID:10420-1739433600-1739458800@babcockneighborhoodschools.org
SUMMARY:Spring Picture Day: K-5
DESCRIPTION:K-5 students can dress up and be out of uniform for the day if participating. For details and ordering\, visit tinyurl.com/bnsspring and use Access Code C669004.
URL:https://babcockneighborhoodschools.org/event/spring-picture-day-k-5-2/
LOCATION:Babcock Neighborhood School
CATEGORIES:Elementary,Events
ATTACH;FMTTYPE=image/png:https://babcockneighborhoodschools.org/wp-content/uploads/2022/08/Picture-Day-2.png
END:VEVENT
BEGIN:VEVENT
DTSTART;TZID=America/New_York:20250226T163000
DTEND;TZID=America/New_York:20250226T200000
DTSTAMP:20260421T063738
CREATED:20250213T161734Z
LAST-MODIFIED:20250213T161734Z
UID:13358-1740587400-1740600000@babcockneighborhoodschools.org
SUMMARY:Interact Club Spirit Night
DESCRIPTION:The BHS Interact Club is working to fund a well in Mozambique\, providing clean water for over 1\,200 people! 💧 Every dollar raised brings them closer to their goal of $6\,900 to fund a community well. \nJoin us at Pi Local on Feb. 26th for Spirit Night – enjoy fantastic local food while supporting a life-changing cause. Learn more at www.water4lifemozambique.org 🌍
URL:https://babcockneighborhoodschools.org/event/interact-club-spirit-night/
LOCATION:Pi Local
CATEGORIES:Elementary,Events,High School,Middle School
ATTACH;FMTTYPE=image/png:https://babcockneighborhoodschools.org/wp-content/uploads/2025/02/photo-15.png
END:VEVENT
END:VCALENDAR