BEGIN:VCALENDAR
VERSION:2.0
PRODID:-//Babcock Schools - ECPv6.15.17.1//NONSGML v1.0//EN
CALSCALE:GREGORIAN
METHOD:PUBLISH
X-WR-CALNAME:Babcock Schools
X-ORIGINAL-URL:https://babcockneighborhoodschools.org
X-WR-CALDESC:Events for Babcock Schools
REFRESH-INTERVAL;VALUE=DURATION:PT1H
X-Robots-Tag:noindex
X-PUBLISHED-TTL:PT1H
BEGIN:VTIMEZONE
TZID:America/New_York
BEGIN:DAYLIGHT
TZOFFSETFROM:-0500
TZOFFSETTO:-0400
TZNAME:EDT
DTSTART:20230312T070000
END:DAYLIGHT
BEGIN:STANDARD
TZOFFSETFROM:-0400
TZOFFSETTO:-0500
TZNAME:EST
DTSTART:20231105T060000
END:STANDARD
BEGIN:DAYLIGHT
TZOFFSETFROM:-0500
TZOFFSETTO:-0400
TZNAME:EDT
DTSTART:20240310T070000
END:DAYLIGHT
BEGIN:STANDARD
TZOFFSETFROM:-0400
TZOFFSETTO:-0500
TZNAME:EST
DTSTART:20241103T060000
END:STANDARD
BEGIN:DAYLIGHT
TZOFFSETFROM:-0500
TZOFFSETTO:-0400
TZNAME:EDT
DTSTART:20250309T070000
END:DAYLIGHT
BEGIN:STANDARD
TZOFFSETFROM:-0400
TZOFFSETTO:-0500
TZNAME:EST
DTSTART:20251102T060000
END:STANDARD
BEGIN:DAYLIGHT
TZOFFSETFROM:-0500
TZOFFSETTO:-0400
TZNAME:EDT
DTSTART:20260308T070000
END:DAYLIGHT
BEGIN:STANDARD
TZOFFSETFROM:-0400
TZOFFSETTO:-0500
TZNAME:EST
DTSTART:20261101T060000
END:STANDARD
END:VTIMEZONE
BEGIN:VEVENT
DTSTART;TZID=America/New_York:20241223T080000
DTEND;TZID=America/New_York:20250103T150000
DTSTAMP:20260421T075424
CREATED:20240626T155416Z
LAST-MODIFIED:20241219T022600Z
UID:10140-1734940800-1735916400@babcockneighborhoodschools.org
SUMMARY:Winter Break
DESCRIPTION:
URL:https://babcockneighborhoodschools.org/event/winter-break-3/
CATEGORIES:Elementary,Events,High School,Middle School,No School,School Calendar
ATTACH;FMTTYPE=image/png:https://babcockneighborhoodschools.org/wp-content/uploads/2022/05/No-School.png
END:VEVENT
BEGIN:VEVENT
DTSTART;TZID=America/New_York:20250114T173000
DTEND;TZID=America/New_York:20250114T193000
DTSTAMP:20260421T075424
CREATED:20250106T141459Z
LAST-MODIFIED:20250106T141459Z
UID:12173-1736875800-1736883000@babcockneighborhoodschools.org
SUMMARY:Publix Math Night
DESCRIPTION:K-5 Math Night Scavenger Hunt
URL:https://babcockneighborhoodschools.org/event/publix-math-night-3/
LOCATION:Publix
CATEGORIES:Babcock Schools Volunteers,Elementary,Events
ATTACH;FMTTYPE=image/jpeg:https://babcockneighborhoodschools.org/wp-content/uploads/2022/05/Math-Night-PBL-3.jpg
END:VEVENT
BEGIN:VEVENT
DTSTART;TZID=America/New_York:20250117T153000
DTEND;TZID=America/New_York:20250117T170000
DTSTAMP:20260421T075424
CREATED:20250106T141655Z
LAST-MODIFIED:20250106T141655Z
UID:12175-1737127800-1737133200@babcockneighborhoodschools.org
SUMMARY:Kindergarten Fun Night
DESCRIPTION:Kindergarteners are invited to join their fellow classmates at this after school event. The afternoon will include light refreshments\, Carnival-themed games\, prizes\, and of course FUN! Tickets are $15 and will be available through MySchoolBucks.
URL:https://babcockneighborhoodschools.org/event/kindergarten-fun-night/
LOCATION:BNS Cafeteria
CATEGORIES:Babcock Schools Volunteers,Elementary,Events
ATTACH;FMTTYPE=image/png:https://babcockneighborhoodschools.org/wp-content/uploads/2025/01/inline_images_1736127230438-KinderFNgraphic.png
END:VEVENT
BEGIN:VEVENT
DTSTART;TZID=America/New_York:20250131T153000
DTEND;TZID=America/New_York:20250131T170000
DTSTAMP:20260421T075424
CREATED:20250106T143331Z
LAST-MODIFIED:20250121T135605Z
UID:12182-1738337400-1738342800@babcockneighborhoodschools.org
SUMMARY:2nd Grade Fun Night
DESCRIPTION:2nd Grade Fun Night hosted by the Babcock School Volunteers.
URL:https://babcockneighborhoodschools.org/event/2nd-grade-glow-party/
CATEGORIES:Babcock Schools Volunteers,Elementary,Events
ATTACH;FMTTYPE=image/png:https://babcockneighborhoodschools.org/wp-content/uploads/2025/01/2nd-Grade-Fun-Night.png
END:VEVENT
END:VCALENDAR