BEGIN:VCALENDAR
VERSION:2.0
PRODID:-//Babcock Schools - ECPv6.15.17.1//NONSGML v1.0//EN
CALSCALE:GREGORIAN
METHOD:PUBLISH
X-WR-CALNAME:Babcock Schools
X-ORIGINAL-URL:https://babcockneighborhoodschools.org
X-WR-CALDESC:Events for Babcock Schools
REFRESH-INTERVAL;VALUE=DURATION:PT1H
X-Robots-Tag:noindex
X-PUBLISHED-TTL:PT1H
BEGIN:VTIMEZONE
TZID:America/New_York
BEGIN:DAYLIGHT
TZOFFSETFROM:-0500
TZOFFSETTO:-0400
TZNAME:EDT
DTSTART:20230312T070000
END:DAYLIGHT
BEGIN:STANDARD
TZOFFSETFROM:-0400
TZOFFSETTO:-0500
TZNAME:EST
DTSTART:20231105T060000
END:STANDARD
BEGIN:DAYLIGHT
TZOFFSETFROM:-0500
TZOFFSETTO:-0400
TZNAME:EDT
DTSTART:20240310T070000
END:DAYLIGHT
BEGIN:STANDARD
TZOFFSETFROM:-0400
TZOFFSETTO:-0500
TZNAME:EST
DTSTART:20241103T060000
END:STANDARD
BEGIN:DAYLIGHT
TZOFFSETFROM:-0500
TZOFFSETTO:-0400
TZNAME:EDT
DTSTART:20250309T070000
END:DAYLIGHT
BEGIN:STANDARD
TZOFFSETFROM:-0400
TZOFFSETTO:-0500
TZNAME:EST
DTSTART:20251102T060000
END:STANDARD
END:VTIMEZONE
BEGIN:VEVENT
DTSTART;TZID=America/New_York:20240802T173000
DTEND;TZID=America/New_York:20240802T183000
DTSTAMP:20260421T143243
CREATED:20240528T133937Z
LAST-MODIFIED:20240528T133937Z
UID:10034-1722619800-1722623400@babcockneighborhoodschools.org
SUMMARY:K-5 Back to School Open House
DESCRIPTION:This is your chance to meet teachers\, explore classrooms\, get schedules\, and have all your questions answered before that first day of school. Let’s make the 2024-2025 year our best yet!
URL:https://babcockneighborhoodschools.org/event/k-5-back-to-school-open-house/
LOCATION:Babcock Neighborhood School
CATEGORIES:Elementary,Events,School Calendar
ATTACH;FMTTYPE=image/png:https://babcockneighborhoodschools.org/wp-content/uploads/2024/05/Back-to-School-Open-House-Draft.png
END:VEVENT
BEGIN:VEVENT
DTSTART;TZID=America/New_York:20240804T180000
DTEND;TZID=America/New_York:20240804T200000
DTSTAMP:20260421T143243
CREATED:20240726T210452Z
LAST-MODIFIED:20240726T210452Z
UID:10397-1722794400-1722801600@babcockneighborhoodschools.org
SUMMARY:Chalk the Walk
DESCRIPTION:
URL:https://babcockneighborhoodschools.org/event/chalk-the-walk/
LOCATION:Babcock Neighborhood School
CATEGORIES:Elementary,Events
ATTACH;FMTTYPE=image/png:https://babcockneighborhoodschools.org/wp-content/uploads/2024/07/Chalk-the-Walk.png
END:VEVENT
BEGIN:VEVENT
DTSTART;TZID=America/New_York:20240822T080000
DTEND;TZID=America/New_York:20240822T150000
DTSTAMP:20260421T143243
CREATED:20240729T194836Z
LAST-MODIFIED:20240729T194836Z
UID:10416-1724313600-1724338800@babcockneighborhoodschools.org
SUMMARY:Fall Picture Day: K-5
DESCRIPTION:More information coming soon.
URL:https://babcockneighborhoodschools.org/event/fall-picture-day-k-5/
LOCATION:Babcock Neighborhood School
CATEGORIES:Elementary,Events
ATTACH;FMTTYPE=image/png:https://babcockneighborhoodschools.org/wp-content/uploads/2022/08/Picture-Day-2.png
END:VEVENT
END:VCALENDAR