BEGIN:VCALENDAR
VERSION:2.0
PRODID:-//Babcock Schools - ECPv6.15.17.1//NONSGML v1.0//EN
CALSCALE:GREGORIAN
METHOD:PUBLISH
X-WR-CALNAME:Babcock Schools
X-ORIGINAL-URL:https://babcockneighborhoodschools.org
X-WR-CALDESC:Events for Babcock Schools
REFRESH-INTERVAL;VALUE=DURATION:PT1H
X-Robots-Tag:noindex
X-PUBLISHED-TTL:PT1H
BEGIN:VTIMEZONE
TZID:America/New_York
BEGIN:DAYLIGHT
TZOFFSETFROM:-0500
TZOFFSETTO:-0400
TZNAME:EDT
DTSTART:20220313T070000
END:DAYLIGHT
BEGIN:STANDARD
TZOFFSETFROM:-0400
TZOFFSETTO:-0500
TZNAME:EST
DTSTART:20221106T060000
END:STANDARD
BEGIN:DAYLIGHT
TZOFFSETFROM:-0500
TZOFFSETTO:-0400
TZNAME:EDT
DTSTART:20230312T070000
END:DAYLIGHT
BEGIN:STANDARD
TZOFFSETFROM:-0400
TZOFFSETTO:-0500
TZNAME:EST
DTSTART:20231105T060000
END:STANDARD
BEGIN:DAYLIGHT
TZOFFSETFROM:-0500
TZOFFSETTO:-0400
TZNAME:EDT
DTSTART:20240310T070000
END:DAYLIGHT
BEGIN:STANDARD
TZOFFSETFROM:-0400
TZOFFSETTO:-0500
TZNAME:EST
DTSTART:20241103T060000
END:STANDARD
END:VTIMEZONE
BEGIN:VEVENT
DTSTART;TZID=America/New_York:20230909T080000
DTEND;TZID=America/New_York:20230909T080000
DTSTAMP:20260422T050012
CREATED:20230804T153111Z
LAST-MODIFIED:20230804T153111Z
UID:8793-1694246400-1694246400@babcockneighborhoodschools.org
SUMMARY:Youth (3-6) Flag Football Game
DESCRIPTION:
URL:https://babcockneighborhoodschools.org/event/youth-flag-football/
LOCATION:Jack Peeples Park
CATEGORIES:Athletics,Athletics Calendar,Elementary,Middle School
ATTACH;FMTTYPE=image/png:https://babcockneighborhoodschools.org/wp-content/uploads/2023/08/Youth-Football.png
END:VEVENT
BEGIN:VEVENT
DTSTART;TZID=America/New_York:20230914T180000
DTEND;TZID=America/New_York:20230914T193000
DTSTAMP:20260422T050012
CREATED:20230808T131717Z
LAST-MODIFIED:20230914T143928Z
UID:8826-1694714400-1694719800@babcockneighborhoodschools.org
SUMMARY:Co-Ed Volleyball (5-7) Clinic Starts
DESCRIPTION:
URL:https://babcockneighborhoodschools.org/event/co-ed-volleyball/
CATEGORIES:Athletics,Athletics Calendar,Elementary,Middle School
ATTACH;FMTTYPE=image/png:https://babcockneighborhoodschools.org/wp-content/uploads/2022/07/Practice-Starts.png
END:VEVENT
BEGIN:VEVENT
DTSTART;TZID=America/New_York:20230916T080000
DTEND;TZID=America/New_York:20230916T080000
DTSTAMP:20260422T050012
CREATED:20230804T153140Z
LAST-MODIFIED:20230804T153140Z
UID:8796-1694851200-1694851200@babcockneighborhoodschools.org
SUMMARY:Youth (3-6) Flag Football Game
DESCRIPTION:
URL:https://babcockneighborhoodschools.org/event/youth-3-6-flag-football-game/
LOCATION:Jack Peeples Park
CATEGORIES:Athletics,Athletics Calendar,Elementary,Middle School
ATTACH;FMTTYPE=image/png:https://babcockneighborhoodschools.org/wp-content/uploads/2023/08/Youth-Football.png
END:VEVENT
BEGIN:VEVENT
DTSTART;TZID=America/New_York:20230923T080000
DTEND;TZID=America/New_York:20230923T080000
DTSTAMP:20260422T050012
CREATED:20230804T153158Z
LAST-MODIFIED:20230804T153158Z
UID:8798-1695456000-1695456000@babcockneighborhoodschools.org
SUMMARY:Youth (3-6) Flag Football Game
DESCRIPTION:
URL:https://babcockneighborhoodschools.org/event/youth-3-6-flag-football-game-2/
LOCATION:Jack Peeples Park
CATEGORIES:Athletics,Athletics Calendar,Elementary,Middle School
ATTACH;FMTTYPE=image/png:https://babcockneighborhoodschools.org/wp-content/uploads/2023/08/Youth-Football.png
END:VEVENT
BEGIN:VEVENT
DTSTART;TZID=America/New_York:20230929T120000
DTEND;TZID=America/New_York:20230929T150000
DTSTAMP:20260422T050012
CREATED:20230918T194100Z
LAST-MODIFIED:20230918T194100Z
UID:9078-1695988800-1695999600@babcockneighborhoodschools.org
SUMMARY:Half Day Camp
DESCRIPTION:
URL:https://babcockneighborhoodschools.org/event/half-day-camp/
CATEGORIES:Elementary,Events
ATTACH;FMTTYPE=image/png:https://babcockneighborhoodschools.org/wp-content/uploads/2023/09/Half-Day-Camp.png
END:VEVENT
BEGIN:VEVENT
DTSTART;TZID=America/New_York:20230930T080000
DTEND;TZID=America/New_York:20230930T080000
DTSTAMP:20260422T050012
CREATED:20230804T153211Z
LAST-MODIFIED:20230804T153211Z
UID:8800-1696060800-1696060800@babcockneighborhoodschools.org
SUMMARY:Youth (3-6) Flag Football Game
DESCRIPTION:
URL:https://babcockneighborhoodschools.org/event/youth-3-6-flag-football-game-3/
LOCATION:Jack Peeples Park
CATEGORIES:Athletics,Athletics Calendar,Elementary,Middle School
ATTACH;FMTTYPE=image/png:https://babcockneighborhoodschools.org/wp-content/uploads/2023/08/Youth-Football.png
END:VEVENT
END:VCALENDAR