BEGIN:VCALENDAR
VERSION:2.0
PRODID:-//Babcock Schools - ECPv6.15.17.1//NONSGML v1.0//EN
CALSCALE:GREGORIAN
METHOD:PUBLISH
X-ORIGINAL-URL:https://babcockneighborhoodschools.org
X-WR-CALDESC:Events for Babcock Schools
REFRESH-INTERVAL;VALUE=DURATION:PT1H
X-Robots-Tag:noindex
X-PUBLISHED-TTL:PT1H
BEGIN:VTIMEZONE
TZID:America/New_York
BEGIN:DAYLIGHT
TZOFFSETFROM:-0500
TZOFFSETTO:-0400
TZNAME:EDT
DTSTART:20220313T070000
END:DAYLIGHT
BEGIN:STANDARD
TZOFFSETFROM:-0400
TZOFFSETTO:-0500
TZNAME:EST
DTSTART:20221106T060000
END:STANDARD
BEGIN:DAYLIGHT
TZOFFSETFROM:-0500
TZOFFSETTO:-0400
TZNAME:EDT
DTSTART:20230312T070000
END:DAYLIGHT
BEGIN:STANDARD
TZOFFSETFROM:-0400
TZOFFSETTO:-0500
TZNAME:EST
DTSTART:20231105T060000
END:STANDARD
BEGIN:DAYLIGHT
TZOFFSETFROM:-0500
TZOFFSETTO:-0400
TZNAME:EDT
DTSTART:20240310T070000
END:DAYLIGHT
BEGIN:STANDARD
TZOFFSETFROM:-0400
TZOFFSETTO:-0500
TZNAME:EST
DTSTART:20241103T060000
END:STANDARD
END:VTIMEZONE
BEGIN:VEVENT
DTSTART;TZID=America/New_York:20230728T173000
DTEND;TZID=America/New_York:20230728T190000
DTSTAMP:20260422T072823
CREATED:20230621T185240Z
LAST-MODIFIED:20230621T185240Z
UID:8420-1690565400-1690570800@babcockneighborhoodschools.org
SUMMARY:BNS Open House (K-5)
DESCRIPTION:Back to School Open House for Students and Parents/Guardians
URL:https://babcockneighborhoodschools.org/event/bns-open-house-k-5/
LOCATION:Babcock Neighborhood School
CATEGORIES:Elementary,Events
ATTACH;FMTTYPE=image/png:https://babcockneighborhoodschools.org/wp-content/uploads/2023/06/BNS-Office.png
END:VEVENT
END:VCALENDAR