BEGIN:VCALENDAR
VERSION:2.0
PRODID:-//Babcock Schools - ECPv6.15.17.1//NONSGML v1.0//EN
CALSCALE:GREGORIAN
METHOD:PUBLISH
X-ORIGINAL-URL:https://babcockneighborhoodschools.org
X-WR-CALDESC:Events for Babcock Schools
REFRESH-INTERVAL;VALUE=DURATION:PT1H
X-Robots-Tag:noindex
X-PUBLISHED-TTL:PT1H
BEGIN:VTIMEZONE
TZID:America/New_York
BEGIN:DAYLIGHT
TZOFFSETFROM:-0500
TZOFFSETTO:-0400
TZNAME:EDT
DTSTART:20210314T070000
END:DAYLIGHT
BEGIN:STANDARD
TZOFFSETFROM:-0400
TZOFFSETTO:-0500
TZNAME:EST
DTSTART:20211107T060000
END:STANDARD
BEGIN:DAYLIGHT
TZOFFSETFROM:-0500
TZOFFSETTO:-0400
TZNAME:EDT
DTSTART:20220313T070000
END:DAYLIGHT
BEGIN:STANDARD
TZOFFSETFROM:-0400
TZOFFSETTO:-0500
TZNAME:EST
DTSTART:20221106T060000
END:STANDARD
BEGIN:DAYLIGHT
TZOFFSETFROM:-0500
TZOFFSETTO:-0400
TZNAME:EDT
DTSTART:20230312T070000
END:DAYLIGHT
BEGIN:STANDARD
TZOFFSETFROM:-0400
TZOFFSETTO:-0500
TZNAME:EST
DTSTART:20231105T060000
END:STANDARD
END:VTIMEZONE
BEGIN:VEVENT
DTSTART;TZID=America/New_York:20221102T153000
DTEND;TZID=America/New_York:20221102T173000
DTSTAMP:20260422T182534
CREATED:20220907T130703Z
LAST-MODIFIED:20220907T130703Z
UID:7537-1667403000-1667410200@babcockneighborhoodschools.org
SUMMARY:Book Bash
DESCRIPTION:
URL:https://babcockneighborhoodschools.org/event/book-bash-2/
LOCATION:Babcock Neighborhood School
CATEGORIES:Babcock Schools Volunteers,Elementary,Events
ATTACH;FMTTYPE=image/png:https://babcockneighborhoodschools.org/wp-content/uploads/2022/09/Book-Bash.png
END:VEVENT
BEGIN:VEVENT
DTSTART;TZID=America/New_York:20221107T180000
DTEND;TZID=America/New_York:20221107T180000
DTSTAMP:20260422T182534
CREATED:20221107T010604Z
LAST-MODIFIED:20221107T010850Z
UID:7685-1667844000-1667844000@babcockneighborhoodschools.org
SUMMARY:Parent Session: Standards-Based Grading 101 & Empower Support
DESCRIPTION:If you are a new parent to Babcock Schools or someone who just wants a refresher\, please join us on Nov.7th @ 6pm at Babcock High School. This is a helpful session for all parents with students in grades k-11th.  \nPlease use this link to respond to the form if you plan to attend. Thank you.\nhttps://forms.gle/NrYkFkZaroQJBFzX6
URL:https://babcockneighborhoodschools.org/event/parent-session/
LOCATION:Babcock High School
CATEGORIES:Elementary,Events,High School,Middle School
ATTACH;FMTTYPE=image/jpeg:https://babcockneighborhoodschools.org/wp-content/uploads/2022/11/Empower-101.jpg
END:VEVENT
END:VCALENDAR