BEGIN:VCALENDAR
VERSION:2.0
PRODID:-//Babcock Schools - ECPv6.15.17.1//NONSGML v1.0//EN
CALSCALE:GREGORIAN
METHOD:PUBLISH
X-ORIGINAL-URL:https://babcockneighborhoodschools.org
X-WR-CALDESC:Events for Babcock Schools
REFRESH-INTERVAL;VALUE=DURATION:PT1H
X-Robots-Tag:noindex
X-PUBLISHED-TTL:PT1H
BEGIN:VTIMEZONE
TZID:America/New_York
BEGIN:DAYLIGHT
TZOFFSETFROM:-0500
TZOFFSETTO:-0400
TZNAME:EDT
DTSTART:20240310T070000
END:DAYLIGHT
BEGIN:STANDARD
TZOFFSETFROM:-0400
TZOFFSETTO:-0500
TZNAME:EST
DTSTART:20241103T060000
END:STANDARD
BEGIN:DAYLIGHT
TZOFFSETFROM:-0500
TZOFFSETTO:-0400
TZNAME:EDT
DTSTART:20250309T070000
END:DAYLIGHT
BEGIN:STANDARD
TZOFFSETFROM:-0400
TZOFFSETTO:-0500
TZNAME:EST
DTSTART:20251102T060000
END:STANDARD
BEGIN:DAYLIGHT
TZOFFSETFROM:-0500
TZOFFSETTO:-0400
TZNAME:EDT
DTSTART:20260308T070000
END:DAYLIGHT
BEGIN:STANDARD
TZOFFSETFROM:-0400
TZOFFSETTO:-0500
TZNAME:EST
DTSTART:20261101T060000
END:STANDARD
END:VTIMEZONE
BEGIN:VEVENT
DTSTART;TZID=America/New_York:20250503T170000
DTEND;TZID=America/New_York:20250503T200000
DTSTAMP:20260420T214154
CREATED:20250422T151324Z
LAST-MODIFIED:20250422T151412Z
UID:14865-1746291600-1746302400@babcockneighborhoodschools.org
SUMMARY:Derby Gala
DESCRIPTION:Break out the big hats and bowties for an evening at the races! Hosted by our Babcock Schools Volunteers\, the 4th annual Kentucky Derby Gala benefits the Arts and Music Programs at Babcock Neighborhood School and Babcock High School! Register or Sponsor at https://2025derbygala.rsvpify.com/
URL:https://babcockneighborhoodschools.org/event/derby-gala-3/
LOCATION:Fieldhouse
CATEGORIES:Babcock Schools Volunteers,Events
END:VEVENT
BEGIN:VEVENT
DTSTART;TZID=America/New_York:20250517T071500
DTEND;TZID=America/New_York:20250517T140000
DTSTAMP:20260420T214154
CREATED:20250207T171707Z
LAST-MODIFIED:20250207T192626Z
UID:13222-1747466100-1747490400@babcockneighborhoodschools.org
SUMMARY:2025 Trailblazer Cup
DESCRIPTION:Learn more\, sponsor\, and register your team: https://2025bnstrailblazercup.rsvpify.com \nAll proceeds benefit Babcock Schools Athletics Department.
URL:https://babcockneighborhoodschools.org/event/2025-trailblazer-cup/
LOCATION:Babcock National Golf Course
CATEGORIES:Athletics,Athletics Calendar,Babcock Schools Volunteers,Events
ATTACH;FMTTYPE=image/png:https://babcockneighborhoodschools.org/wp-content/uploads/2025/02/FB-Golf-Tourney-Graphic_2025.png
END:VEVENT
END:VCALENDAR