BEGIN:VCALENDAR
VERSION:2.0
PRODID:-//Babcock Schools - ECPv6.15.17.1//NONSGML v1.0//EN
CALSCALE:GREGORIAN
METHOD:PUBLISH
X-ORIGINAL-URL:https://babcockneighborhoodschools.org
X-WR-CALDESC:Events for Babcock Schools
REFRESH-INTERVAL;VALUE=DURATION:PT1H
X-Robots-Tag:noindex
X-PUBLISHED-TTL:PT1H
BEGIN:VTIMEZONE
TZID:America/New_York
BEGIN:DAYLIGHT
TZOFFSETFROM:-0500
TZOFFSETTO:-0400
TZNAME:EDT
DTSTART:20230312T070000
END:DAYLIGHT
BEGIN:STANDARD
TZOFFSETFROM:-0400
TZOFFSETTO:-0500
TZNAME:EST
DTSTART:20231105T060000
END:STANDARD
BEGIN:DAYLIGHT
TZOFFSETFROM:-0500
TZOFFSETTO:-0400
TZNAME:EDT
DTSTART:20240310T070000
END:DAYLIGHT
BEGIN:STANDARD
TZOFFSETFROM:-0400
TZOFFSETTO:-0500
TZNAME:EST
DTSTART:20241103T060000
END:STANDARD
BEGIN:DAYLIGHT
TZOFFSETFROM:-0500
TZOFFSETTO:-0400
TZNAME:EDT
DTSTART:20250309T070000
END:DAYLIGHT
BEGIN:STANDARD
TZOFFSETFROM:-0400
TZOFFSETTO:-0500
TZNAME:EST
DTSTART:20251102T060000
END:STANDARD
END:VTIMEZONE
BEGIN:VEVENT
DTSTART;TZID=America/New_York:20240402T180000
DTEND;TZID=America/New_York:20240402T190000
DTSTAMP:20260421T162625
CREATED:20230909T200503Z
LAST-MODIFIED:20230909T200503Z
UID:9008-1712080800-1712084400@babcockneighborhoodschools.org
SUMMARY:Babcock Schools Volunteers Meeting
DESCRIPTION:Meeting in BNS Cafe.
URL:https://babcockneighborhoodschools.org/event/babcock-schools-volunteers-meeting-8/
LOCATION:BNS Cafeteria
CATEGORIES:Babcock Schools Volunteers,Events
ATTACH;FMTTYPE=image/png:https://babcockneighborhoodschools.org/wp-content/uploads/2023/09/Teamwork-1.png
END:VEVENT
BEGIN:VEVENT
DTSTART;TZID=America/New_York:20240405T153000
DTEND;TZID=America/New_York:20240405T170000
DTSTAMP:20260421T162625
CREATED:20240326T233007Z
LAST-MODIFIED:20240326T233007Z
UID:9891-1712331000-1712336400@babcockneighborhoodschools.org
SUMMARY:1st Grade Fun Night
DESCRIPTION:1st grade only. Field day event with snacks and games. Babcock Schools Volunteers event.
URL:https://babcockneighborhoodschools.org/event/1st-grade-fun-night/
LOCATION:Babcock Neighborhood School
CATEGORIES:Babcock Schools Volunteers,Elementary,Events
ATTACH;FMTTYPE=image/jpeg:https://babcockneighborhoodschools.org/wp-content/uploads/2024/03/1st-grade-fun-night.jpg
END:VEVENT
BEGIN:VEVENT
DTSTART;TZID=America/New_York:20240409T120000
DTEND;TZID=America/New_York:20240410T120000
DTSTAMP:20260421T162625
CREATED:20230909T200904Z
LAST-MODIFIED:20240319T150251Z
UID:9012-1712664000-1712750400@babcockneighborhoodschools.org
SUMMARY:Giving Challenge
DESCRIPTION:The Giving Challenge is an exciting 24-hour online giving event that connects about 700 nonprofit organizations with passionate donors and community members to support diverse causes and create enduring impact in Sarasota\, Manatee\, Charlotte\, and DeSoto counties. Please support Babcock Neighborhood School and Babcock High School from Noon April 9-Noon April 10 here: https://www.givingchallenge.org/organizations/babcock-neighborhood-school-high-school
URL:https://babcockneighborhoodschools.org/event/giving-challenge/
CATEGORIES:Athletics Calendar,Babcock Schools Volunteers,Events,Governing Board
ATTACH;FMTTYPE=image/png:https://babcockneighborhoodschools.org/wp-content/uploads/2023/09/Giving-Challenge.png
END:VEVENT
BEGIN:VEVENT
DTSTART;TZID=America/New_York:20240409T170000
DTEND;TZID=America/New_York:20240409T190000
DTSTAMP:20260421T162625
CREATED:20240326T175758Z
LAST-MODIFIED:20240326T175758Z
UID:9884-1712682000-1712689200@babcockneighborhoodschools.org
SUMMARY:Eat4Education
DESCRIPTION:Join us for a night filled with community spirit\, generosity\, and delicious eats from food trucks like Grace’s Taste of Poland\, Buddha Bachi\, Jonesez BBQ\, Sweet Dreams Cotton Candy & Dessert\, and Wonderland Cookie Dough. \nOur Booster Club and Babcock School Volunteers will be on-site sharing info about upcoming athletics\, seeking community volunteers\, and you can snag some Babcock apparel! 🏈👕 \nThe main event is the Giving Challenge from Noon April 9 – Noon April 10th. We’ll assist with doubling your donation and showcase our big goals and sneak peeks. Your support is crucial for our music\, arts\, theater\, and athletics programs. Let’s come together\, enjoy great food\, and #BeTheOne to make a difference! 💚💙
URL:https://babcockneighborhoodschools.org/event/eat4education/
LOCATION:Founder’s Square
CATEGORIES:Babcock Schools Volunteers,Events,School Calendar
ATTACH;FMTTYPE=image/png:https://babcockneighborhoodschools.org/wp-content/uploads/2024/03/Giving-Challenge-Food-Truck-Road-Sign.png
END:VEVENT
BEGIN:VEVENT
DTSTART;TZID=America/New_York:20240410T153000
DTEND;TZID=America/New_York:20240410T173000
DTSTAMP:20260421T162625
CREATED:20240308T145601Z
LAST-MODIFIED:20240308T145601Z
UID:9857-1712763000-1712770200@babcockneighborhoodschools.org
SUMMARY:Sanibel Sea School
DESCRIPTION:
URL:https://babcockneighborhoodschools.org/event/sanibel-sea-school/
LOCATION:Grassy Knoll
CATEGORIES:Babcock Schools Volunteers,Elementary,Events
ATTACH;FMTTYPE=image/png:https://babcockneighborhoodschools.org/wp-content/uploads/2024/03/Sanibel-sea-school.png
END:VEVENT
END:VCALENDAR