BEGIN:VCALENDAR
VERSION:2.0
PRODID:-//Babcock Schools - ECPv6.15.17.1//NONSGML v1.0//EN
CALSCALE:GREGORIAN
METHOD:PUBLISH
X-WR-CALNAME:Babcock Schools
X-ORIGINAL-URL:https://babcockneighborhoodschools.org
X-WR-CALDESC:Events for Babcock Schools
REFRESH-INTERVAL;VALUE=DURATION:PT1H
X-Robots-Tag:noindex
X-PUBLISHED-TTL:PT1H
BEGIN:VTIMEZONE
TZID:America/New_York
BEGIN:DAYLIGHT
TZOFFSETFROM:-0500
TZOFFSETTO:-0400
TZNAME:EDT
DTSTART:20230312T070000
END:DAYLIGHT
BEGIN:STANDARD
TZOFFSETFROM:-0400
TZOFFSETTO:-0500
TZNAME:EST
DTSTART:20231105T060000
END:STANDARD
BEGIN:DAYLIGHT
TZOFFSETFROM:-0500
TZOFFSETTO:-0400
TZNAME:EDT
DTSTART:20240310T070000
END:DAYLIGHT
BEGIN:STANDARD
TZOFFSETFROM:-0400
TZOFFSETTO:-0500
TZNAME:EST
DTSTART:20241103T060000
END:STANDARD
BEGIN:DAYLIGHT
TZOFFSETFROM:-0500
TZOFFSETTO:-0400
TZNAME:EDT
DTSTART:20250309T070000
END:DAYLIGHT
BEGIN:STANDARD
TZOFFSETFROM:-0400
TZOFFSETTO:-0500
TZNAME:EST
DTSTART:20251102T060000
END:STANDARD
END:VTIMEZONE
BEGIN:VEVENT
DTSTART;VALUE=DATE:20240201
DTEND;VALUE=DATE:20240202
DTSTAMP:20260421T185548
CREATED:20230909T195629Z
LAST-MODIFIED:20240122T194318Z
UID:8990-1706745600-1706831999@babcockneighborhoodschools.org
SUMMARY:BNS/BHS Staff Appreciation
DESCRIPTION:
URL:https://babcockneighborhoodschools.org/event/bns-bhs-staff-appreciation-3/
CATEGORIES:Babcock Schools Volunteers,Events
ATTACH;FMTTYPE=image/png:https://babcockneighborhoodschools.org/wp-content/uploads/2023/09/BNSBHS-Staff-Appreciation.png
END:VEVENT
BEGIN:VEVENT
DTSTART;TZID=America/New_York:20240205T180000
DTEND;TZID=America/New_York:20240205T190000
DTSTAMP:20260421T185548
CREATED:20230909T195958Z
LAST-MODIFIED:20230909T195958Z
UID:8997-1707156000-1707159600@babcockneighborhoodschools.org
SUMMARY:Babcock Schools Volunteers Meeting
DESCRIPTION:Meeting in BNS Cafe.
URL:https://babcockneighborhoodschools.org/event/babcock-schools-volunteers-meeting-6/
LOCATION:BNS Cafeteria
CATEGORIES:Babcock Schools Volunteers,Events
ATTACH;FMTTYPE=image/png:https://babcockneighborhoodschools.org/wp-content/uploads/2023/09/Teamwork-1.png
END:VEVENT
BEGIN:VEVENT
DTSTART;TZID=America/New_York:20240206T080000
DTEND;TZID=America/New_York:20240206T150000
DTSTAMP:20260421T185548
CREATED:20230909T195900Z
LAST-MODIFIED:20240129T154331Z
UID:8995-1707206400-1707231600@babcockneighborhoodschools.org
SUMMARY:Babcock Trailblazers Boosterthon Fun Run
DESCRIPTION:BNS will be a traditional Fun Run. \nMiddle and High school will be a Color Fun Run with dye. \nRegister on www.mybooster.com.
URL:https://babcockneighborhoodschools.org/event/babcock-trailblazers-fun-run-2/
CATEGORIES:Athletics,Athletics Calendar,Babcock Schools Volunteers,Elementary,Events,High School,Middle School
ATTACH;FMTTYPE=image/png:https://babcockneighborhoodschools.org/wp-content/uploads/2023/01/Fun-Run.png
END:VEVENT
BEGIN:VEVENT
DTSTART;TZID=America/New_York:20240223T153000
DTEND;TZID=America/New_York:20240223T170000
DTSTAMP:20260421T185548
CREATED:20240207T221302Z
LAST-MODIFIED:20240207T221302Z
UID:9750-1708702200-1708707600@babcockneighborhoodschools.org
SUMMARY:Kindergarten Fun Night
DESCRIPTION:Kindergarten only. Babcock Schools Volunteers event.
URL:https://babcockneighborhoodschools.org/event/kinder-fun-night/
LOCATION:BNS Cafeteria
CATEGORIES:Babcock Schools Volunteers,Elementary,Events
ATTACH;FMTTYPE=image/jpeg:https://babcockneighborhoodschools.org/wp-content/uploads/2024/02/Kindergarten-Fun-Night.jpg
END:VEVENT
END:VCALENDAR