BEGIN:VCALENDAR
VERSION:2.0
PRODID:-//Babcock Schools - ECPv6.15.17.1//NONSGML v1.0//EN
CALSCALE:GREGORIAN
METHOD:PUBLISH
X-WR-CALNAME:Babcock Schools
X-ORIGINAL-URL:https://babcockneighborhoodschools.org
X-WR-CALDESC:Events for Babcock Schools
REFRESH-INTERVAL;VALUE=DURATION:PT1H
X-Robots-Tag:noindex
X-PUBLISHED-TTL:PT1H
BEGIN:VTIMEZONE
TZID:America/New_York
BEGIN:DAYLIGHT
TZOFFSETFROM:-0500
TZOFFSETTO:-0400
TZNAME:EDT
DTSTART:20230312T070000
END:DAYLIGHT
BEGIN:STANDARD
TZOFFSETFROM:-0400
TZOFFSETTO:-0500
TZNAME:EST
DTSTART:20231105T060000
END:STANDARD
BEGIN:DAYLIGHT
TZOFFSETFROM:-0500
TZOFFSETTO:-0400
TZNAME:EDT
DTSTART:20240310T070000
END:DAYLIGHT
BEGIN:STANDARD
TZOFFSETFROM:-0400
TZOFFSETTO:-0500
TZNAME:EST
DTSTART:20241103T060000
END:STANDARD
BEGIN:DAYLIGHT
TZOFFSETFROM:-0500
TZOFFSETTO:-0400
TZNAME:EDT
DTSTART:20250309T070000
END:DAYLIGHT
BEGIN:STANDARD
TZOFFSETFROM:-0400
TZOFFSETTO:-0500
TZNAME:EST
DTSTART:20251102T060000
END:STANDARD
END:VTIMEZONE
BEGIN:VEVENT
DTSTART;TZID=America/New_York:20240104T180000
DTEND;TZID=America/New_York:20240104T190000
DTSTAMP:20260421T201505
CREATED:20230909T195556Z
LAST-MODIFIED:20230909T195556Z
UID:8988-1704391200-1704394800@babcockneighborhoodschools.org
SUMMARY:Babcock Schools Volunteers Meeting
DESCRIPTION:Meeting in BNS Cafe.
URL:https://babcockneighborhoodschools.org/event/babcock-schools-volunteers-meeting-5/
LOCATION:BNS Cafeteria
CATEGORIES:Babcock Schools Volunteers,Events
ATTACH;FMTTYPE=image/png:https://babcockneighborhoodschools.org/wp-content/uploads/2023/09/Teamwork-1.png
END:VEVENT
BEGIN:VEVENT
DTSTART;TZID=America/New_York:20240118T173000
DTEND;TZID=America/New_York:20240118T193000
DTSTAMP:20260421T201505
CREATED:20231211T153740Z
LAST-MODIFIED:20240118T150626Z
UID:9452-1705599000-1705606200@babcockneighborhoodschools.org
SUMMARY:Publix Math Night
DESCRIPTION:K-5 Math Night Scavenger Hunt
URL:https://babcockneighborhoodschools.org/event/publix-math-night-2/
LOCATION:Publix
CATEGORIES:Babcock Schools Volunteers,Elementary,Events
ATTACH;FMTTYPE=image/jpeg:https://babcockneighborhoodschools.org/wp-content/uploads/2022/05/Math-Night-PBL-3.jpg
END:VEVENT
BEGIN:VEVENT
DTSTART;TZID=America/New_York:20240131T180000
DTEND;TZID=America/New_York:20240131T190000
DTSTAMP:20260421T201505
CREATED:20230909T195800Z
LAST-MODIFIED:20240116T151128Z
UID:8992-1706724000-1706727600@babcockneighborhoodschools.org
SUMMARY:New Family Q&A
DESCRIPTION:Join the Babcock School’s Volunteer group for a Parent Q & A. Join us for snacks\, and get your questions about BNS/BHS answered by fellow parents.
URL:https://babcockneighborhoodschools.org/event/new-family-qa/
LOCATION:Founder’s Square
CATEGORIES:Babcock Schools Volunteers,Events
ATTACH;FMTTYPE=image/png:https://babcockneighborhoodschools.org/wp-content/uploads/2023/09/Welcome.png
END:VEVENT
END:VCALENDAR