BEGIN:VCALENDAR
VERSION:2.0
PRODID:-//Babcock Schools - ECPv6.15.17.1//NONSGML v1.0//EN
CALSCALE:GREGORIAN
METHOD:PUBLISH
X-WR-CALNAME:Babcock Schools
X-ORIGINAL-URL:https://babcockneighborhoodschools.org
X-WR-CALDESC:Events for Babcock Schools
REFRESH-INTERVAL;VALUE=DURATION:PT1H
X-Robots-Tag:noindex
X-PUBLISHED-TTL:PT1H
BEGIN:VTIMEZONE
TZID:America/New_York
BEGIN:DAYLIGHT
TZOFFSETFROM:-0500
TZOFFSETTO:-0400
TZNAME:EDT
DTSTART:20220313T070000
END:DAYLIGHT
BEGIN:STANDARD
TZOFFSETFROM:-0400
TZOFFSETTO:-0500
TZNAME:EST
DTSTART:20221106T060000
END:STANDARD
BEGIN:DAYLIGHT
TZOFFSETFROM:-0500
TZOFFSETTO:-0400
TZNAME:EDT
DTSTART:20230312T070000
END:DAYLIGHT
BEGIN:STANDARD
TZOFFSETFROM:-0400
TZOFFSETTO:-0500
TZNAME:EST
DTSTART:20231105T060000
END:STANDARD
BEGIN:DAYLIGHT
TZOFFSETFROM:-0500
TZOFFSETTO:-0400
TZNAME:EDT
DTSTART:20240310T070000
END:DAYLIGHT
BEGIN:STANDARD
TZOFFSETFROM:-0400
TZOFFSETTO:-0500
TZNAME:EST
DTSTART:20241103T060000
END:STANDARD
END:VTIMEZONE
BEGIN:VEVENT
DTSTART;VALUE=DATE:20231102
DTEND;VALUE=DATE:20231103
DTSTAMP:20260421T230619
CREATED:20230909T194758Z
LAST-MODIFIED:20230909T194758Z
UID:8973-1698883200-1698969599@babcockneighborhoodschools.org
SUMMARY:BNS/BHS Staff Appreciation
DESCRIPTION:
URL:https://babcockneighborhoodschools.org/event/bns-bhs-staff-appreciation-2/
CATEGORIES:Babcock Schools Volunteers,Events
ATTACH;FMTTYPE=image/png:https://babcockneighborhoodschools.org/wp-content/uploads/2023/09/BNSBHS-Staff-Appreciation.png
END:VEVENT
BEGIN:VEVENT
DTSTART;TZID=America/New_York:20231102T180000
DTEND;TZID=America/New_York:20231102T190000
DTSTAMP:20260421T230619
CREATED:20230909T194728Z
LAST-MODIFIED:20230909T194728Z
UID:8971-1698948000-1698951600@babcockneighborhoodschools.org
SUMMARY:Babcock Schools Volunteers Meeting
DESCRIPTION:Meeting in BNS Cafe.
URL:https://babcockneighborhoodschools.org/event/babcock-schools-volunteers-meeting-3/
LOCATION:BNS Cafeteria
CATEGORIES:Babcock Schools Volunteers,Events
ATTACH;FMTTYPE=image/png:https://babcockneighborhoodschools.org/wp-content/uploads/2023/09/Teamwork-1.png
END:VEVENT
BEGIN:VEVENT
DTSTART;TZID=America/New_York:20231107T153000
DTEND;TZID=America/New_York:20231107T170000
DTSTAMP:20260421T230619
CREATED:20230909T194848Z
LAST-MODIFIED:20230909T194848Z
UID:8975-1699371000-1699376400@babcockneighborhoodschools.org
SUMMARY:Book Bash
DESCRIPTION:
URL:https://babcockneighborhoodschools.org/event/book-bash-7/
LOCATION:Babcock Neighborhood School
CATEGORIES:Babcock Schools Volunteers,Elementary,Events
ATTACH;FMTTYPE=image/png:https://babcockneighborhoodschools.org/wp-content/uploads/2022/09/Book-Bash.png
END:VEVENT
BEGIN:VEVENT
DTSTART;VALUE=DATE:20231110
DTEND;VALUE=DATE:20231111
DTSTAMP:20260421T230619
CREATED:20230909T195046Z
LAST-MODIFIED:20230909T195046Z
UID:8977-1699574400-1699660799@babcockneighborhoodschools.org
SUMMARY:Veteran's Day Celebration
DESCRIPTION:More details coming soon.
URL:https://babcockneighborhoodschools.org/event/veterans-day-celebration/
CATEGORIES:Babcock Schools Volunteers,Elementary,Events,High School,Middle School
ATTACH;FMTTYPE=image/png:https://babcockneighborhoodschools.org/wp-content/uploads/2023/09/Veterans.png
END:VEVENT
BEGIN:VEVENT
DTSTART;VALUE=DATE:20231116
DTEND;VALUE=DATE:20231117
DTSTAMP:20260421T230619
CREATED:20230909T195136Z
LAST-MODIFIED:20230909T195526Z
UID:8980-1700092800-1700179199@babcockneighborhoodschools.org
SUMMARY:Donuts with Grownups
DESCRIPTION:+New Family Q&A. More details coming soon.
URL:https://babcockneighborhoodschools.org/event/donuts-with-grownups-2/
CATEGORIES:Babcock Schools Volunteers,Events
ATTACH;FMTTYPE=image/png:https://babcockneighborhoodschools.org/wp-content/uploads/2022/05/Breakfast.png
END:VEVENT
END:VCALENDAR