BEGIN:VCALENDAR
VERSION:2.0
PRODID:-//Babcock Schools - ECPv6.15.17.1//NONSGML v1.0//EN
CALSCALE:GREGORIAN
METHOD:PUBLISH
X-WR-CALNAME:Babcock Schools
X-ORIGINAL-URL:https://babcockneighborhoodschools.org
X-WR-CALDESC:Events for Babcock Schools
REFRESH-INTERVAL;VALUE=DURATION:PT1H
X-Robots-Tag:noindex
X-PUBLISHED-TTL:PT1H
BEGIN:VTIMEZONE
TZID:America/New_York
BEGIN:DAYLIGHT
TZOFFSETFROM:-0500
TZOFFSETTO:-0400
TZNAME:EDT
DTSTART:20220313T070000
END:DAYLIGHT
BEGIN:STANDARD
TZOFFSETFROM:-0400
TZOFFSETTO:-0500
TZNAME:EST
DTSTART:20221106T060000
END:STANDARD
BEGIN:DAYLIGHT
TZOFFSETFROM:-0500
TZOFFSETTO:-0400
TZNAME:EDT
DTSTART:20230312T070000
END:DAYLIGHT
BEGIN:STANDARD
TZOFFSETFROM:-0400
TZOFFSETTO:-0500
TZNAME:EST
DTSTART:20231105T060000
END:STANDARD
BEGIN:DAYLIGHT
TZOFFSETFROM:-0500
TZOFFSETTO:-0400
TZNAME:EDT
DTSTART:20240310T070000
END:DAYLIGHT
BEGIN:STANDARD
TZOFFSETFROM:-0400
TZOFFSETTO:-0500
TZNAME:EST
DTSTART:20241103T060000
END:STANDARD
END:VTIMEZONE
BEGIN:VEVENT
DTSTART;TZID=America/New_York:20231003T180000
DTEND;TZID=America/New_York:20231003T190000
DTSTAMP:20260422T003249
CREATED:20230909T194513Z
LAST-MODIFIED:20230909T194551Z
UID:8965-1696356000-1696359600@babcockneighborhoodschools.org
SUMMARY:Babcock Schools Volunteers Meeting
DESCRIPTION:Meeting in BNS Cafe.
URL:https://babcockneighborhoodschools.org/event/babcock-schools-volunteers-meeting-2/
LOCATION:BNS Cafeteria
CATEGORIES:Babcock Schools Volunteers,Events
ATTACH;FMTTYPE=image/png:https://babcockneighborhoodschools.org/wp-content/uploads/2023/09/Teamwork-1.png
END:VEVENT
BEGIN:VEVENT
DTSTART;VALUE=DATE:20231006
DTEND;VALUE=DATE:20231007
DTSTAMP:20260422T003249
CREATED:20230909T194658Z
LAST-MODIFIED:20230909T194658Z
UID:8969-1696550400-1696636799@babcockneighborhoodschools.org
SUMMARY:4th/5th Grade Fun Night
DESCRIPTION:4th and 5th grade only. Babcock Schools Volunteers event.
URL:https://babcockneighborhoodschools.org/event/4th-5th-grade-fun-night/
LOCATION:BNS Cafeteria
CATEGORIES:Babcock Schools Volunteers,Elementary,Events
ATTACH;FMTTYPE=image/png:https://babcockneighborhoodschools.org/wp-content/uploads/2023/01/Fun-Night.png
END:VEVENT
BEGIN:VEVENT
DTSTART;TZID=America/New_York:20231014T080000
DTEND;TZID=America/New_York:20231014T150000
DTSTAMP:20260422T003249
CREATED:20230729T205903Z
LAST-MODIFIED:20230821T190443Z
UID:8580-1697270400-1697295600@babcockneighborhoodschools.org
SUMMARY:3rd Annual Golf Tournament
DESCRIPTION:Registration open at https://2023bnstrailblazercup.rsvpify.com
URL:https://babcockneighborhoodschools.org/event/3rd-annual-golf-tournament/
LOCATION:Babcock National Golf Course
CATEGORIES:Athletics,Babcock Schools Volunteers,Events
ATTACH;FMTTYPE=image/png:https://babcockneighborhoodschools.org/wp-content/uploads/2023/07/Trailblazer-Cup-2023-FB-Event2.png
END:VEVENT
END:VCALENDAR