BEGIN:VCALENDAR
VERSION:2.0
PRODID:-//Babcock Schools - ECPv6.15.17.1//NONSGML v1.0//EN
CALSCALE:GREGORIAN
METHOD:PUBLISH
X-ORIGINAL-URL:https://babcockneighborhoodschools.org
X-WR-CALDESC:Events for Babcock Schools
REFRESH-INTERVAL;VALUE=DURATION:PT1H
X-Robots-Tag:noindex
X-PUBLISHED-TTL:PT1H
BEGIN:VTIMEZONE
TZID:America/New_York
BEGIN:DAYLIGHT
TZOFFSETFROM:-0500
TZOFFSETTO:-0400
TZNAME:EDT
DTSTART:20220313T070000
END:DAYLIGHT
BEGIN:STANDARD
TZOFFSETFROM:-0400
TZOFFSETTO:-0500
TZNAME:EST
DTSTART:20221106T060000
END:STANDARD
BEGIN:DAYLIGHT
TZOFFSETFROM:-0500
TZOFFSETTO:-0400
TZNAME:EDT
DTSTART:20230312T070000
END:DAYLIGHT
BEGIN:STANDARD
TZOFFSETFROM:-0400
TZOFFSETTO:-0500
TZNAME:EST
DTSTART:20231105T060000
END:STANDARD
BEGIN:DAYLIGHT
TZOFFSETFROM:-0500
TZOFFSETTO:-0400
TZNAME:EDT
DTSTART:20240310T070000
END:DAYLIGHT
BEGIN:STANDARD
TZOFFSETFROM:-0400
TZOFFSETTO:-0500
TZNAME:EST
DTSTART:20241103T060000
END:STANDARD
END:VTIMEZONE
BEGIN:VEVENT
DTSTART;TZID=America/New_York:20230301T153000
DTEND;TZID=America/New_York:20230301T173000
DTSTAMP:20260422T100107
CREATED:20230211T202237Z
LAST-MODIFIED:20230211T202237Z
UID:7992-1677684600-1677691800@babcockneighborhoodschools.org
SUMMARY:Book Bash
DESCRIPTION:
URL:https://babcockneighborhoodschools.org/event/book-bash-6/
LOCATION:Babcock Neighborhood School
CATEGORIES:Babcock Schools Volunteers,Elementary,Events
ATTACH;FMTTYPE=image/png:https://babcockneighborhoodschools.org/wp-content/uploads/2022/09/Book-Bash.png
END:VEVENT
BEGIN:VEVENT
DTSTART;TZID=America/New_York:20230303T153000
DTEND;TZID=America/New_York:20230303T170000
DTSTAMP:20260422T100107
CREATED:20221214T194153Z
LAST-MODIFIED:20221214T194153Z
UID:7828-1677857400-1677862800@babcockneighborhoodschools.org
SUMMARY:K/1st Grade Fun Night
DESCRIPTION:K and 1st grade only. Babcock School Volunteers event.
URL:https://babcockneighborhoodschools.org/event/k-1st-grade-fun-night/
LOCATION:BNS Cafeteria
CATEGORIES:Babcock Schools Volunteers,Elementary,Events
ATTACH;FMTTYPE=image/png:https://babcockneighborhoodschools.org/wp-content/uploads/2023/01/Fun-Night.png
END:VEVENT
BEGIN:VEVENT
DTSTART;TZID=America/New_York:20230307T180000
DTEND;TZID=America/New_York:20230307T190000
DTSTAMP:20260422T100107
CREATED:20220517T195506Z
LAST-MODIFIED:20220916T211011Z
UID:6631-1678212000-1678215600@babcockneighborhoodschools.org
SUMMARY:Babcock School Volunteers Meeting
DESCRIPTION:Meeting in BNS Cafeteria. Committee break-out meetings to follow.
URL:https://babcockneighborhoodschools.org/event/parent-rep-group-meeting-8/
CATEGORIES:Babcock Schools Volunteers
ATTACH;FMTTYPE=image/png:https://babcockneighborhoodschools.org/wp-content/uploads/2022/05/PRG-1.png
END:VEVENT
BEGIN:VEVENT
DTSTART;TZID=America/New_York:20230311T190000
DTEND;TZID=America/New_York:20230311T190000
DTSTAMP:20260422T100107
CREATED:20230211T203303Z
LAST-MODIFIED:20230211T203303Z
UID:7994-1678561200-1678561200@babcockneighborhoodschools.org
SUMMARY:Everblades Spirit Night
DESCRIPTION:
URL:https://babcockneighborhoodschools.org/event/everblades/
CATEGORIES:Babcock Schools Volunteers,Events
ATTACH;FMTTYPE=image/png:https://babcockneighborhoodschools.org/wp-content/uploads/2023/02/FE.png
END:VEVENT
BEGIN:VEVENT
DTSTART;TZID=America/New_York:20230314T080000
DTEND;TZID=America/New_York:20230314T100000
DTSTAMP:20260422T100107
CREATED:20221214T194657Z
LAST-MODIFIED:20221214T194657Z
UID:7830-1678780800-1678788000@babcockneighborhoodschools.org
SUMMARY:Thanks a Latte Community Event
DESCRIPTION:
URL:https://babcockneighborhoodschools.org/event/thanks-a-latte-community-event/
LOCATION:Founder’s Square
CATEGORIES:Babcock Schools Volunteers,Events
ATTACH;FMTTYPE=image/png:https://babcockneighborhoodschools.org/wp-content/uploads/2022/12/Latte.png
END:VEVENT
END:VCALENDAR