BEGIN:VCALENDAR
VERSION:2.0
PRODID:-//Babcock Schools - ECPv6.15.17.1//NONSGML v1.0//EN
CALSCALE:GREGORIAN
METHOD:PUBLISH
X-WR-CALNAME:Babcock Schools
X-ORIGINAL-URL:https://babcockneighborhoodschools.org
X-WR-CALDESC:Events for Babcock Schools
REFRESH-INTERVAL;VALUE=DURATION:PT1H
X-Robots-Tag:noindex
X-PUBLISHED-TTL:PT1H
BEGIN:VTIMEZONE
TZID:America/New_York
BEGIN:DAYLIGHT
TZOFFSETFROM:-0500
TZOFFSETTO:-0400
TZNAME:EDT
DTSTART:20220313T070000
END:DAYLIGHT
BEGIN:STANDARD
TZOFFSETFROM:-0400
TZOFFSETTO:-0500
TZNAME:EST
DTSTART:20221106T060000
END:STANDARD
BEGIN:DAYLIGHT
TZOFFSETFROM:-0500
TZOFFSETTO:-0400
TZNAME:EDT
DTSTART:20230312T070000
END:DAYLIGHT
BEGIN:STANDARD
TZOFFSETFROM:-0400
TZOFFSETTO:-0500
TZNAME:EST
DTSTART:20231105T060000
END:STANDARD
BEGIN:DAYLIGHT
TZOFFSETFROM:-0500
TZOFFSETTO:-0400
TZNAME:EDT
DTSTART:20240310T070000
END:DAYLIGHT
BEGIN:STANDARD
TZOFFSETFROM:-0400
TZOFFSETTO:-0500
TZNAME:EST
DTSTART:20241103T060000
END:STANDARD
END:VTIMEZONE
BEGIN:VEVENT
DTSTART;TZID=America/New_York:20230111T153000
DTEND;TZID=America/New_York:20230111T173000
DTSTAMP:20260422T130810
CREATED:20220907T130737Z
LAST-MODIFIED:20230106T215845Z
UID:7540-1673451000-1673458200@babcockneighborhoodschools.org
SUMMARY:Book Bash
DESCRIPTION:
URL:https://babcockneighborhoodschools.org/event/book-bash-3/
LOCATION:Babcock Neighborhood School
CATEGORIES:Babcock Schools Volunteers,Elementary,Events
ATTACH;FMTTYPE=image/png:https://babcockneighborhoodschools.org/wp-content/uploads/2022/09/pasted-image-0-2.png
END:VEVENT
BEGIN:VEVENT
DTSTART;TZID=America/New_York:20230111T180000
DTEND;TZID=America/New_York:20230111T190000
DTSTAMP:20260422T130810
CREATED:20220517T195444Z
LAST-MODIFIED:20220916T211022Z
UID:6627-1673460000-1673463600@babcockneighborhoodschools.org
SUMMARY:Babcock School Volunteers Meeting
DESCRIPTION:Meeting in BNS Cafeteria. Committee break-out meetings to follow.
URL:https://babcockneighborhoodschools.org/event/parent-rep-group-meeting-6/
CATEGORIES:Babcock Schools Volunteers
ATTACH;FMTTYPE=image/png:https://babcockneighborhoodschools.org/wp-content/uploads/2022/05/PRG-1.png
END:VEVENT
BEGIN:VEVENT
DTSTART;TZID=America/New_York:20230118T170000
DTEND;TZID=America/New_York:20230118T190000
DTSTAMP:20260422T130810
CREATED:20221214T193504Z
LAST-MODIFIED:20221214T193504Z
UID:7819-1674061200-1674068400@babcockneighborhoodschools.org
SUMMARY:Publix Math Night
DESCRIPTION:K-5 Math Night
URL:https://babcockneighborhoodschools.org/event/publix-math-night/
LOCATION:Publix
CATEGORIES:Babcock Schools Volunteers,Elementary,Events
ATTACH;FMTTYPE=image/png:https://babcockneighborhoodschools.org/wp-content/uploads/2022/12/Math-Night.png
END:VEVENT
BEGIN:VEVENT
DTSTART;TZID=America/New_York:20230127T153000
DTEND;TZID=America/New_York:20230127T170000
DTSTAMP:20260422T130810
CREATED:20221213T193525Z
LAST-MODIFIED:20221214T193838Z
UID:7823-1674833400-1674838800@babcockneighborhoodschools.org
SUMMARY:2nd/3rd Grade Fun Night
DESCRIPTION:2nd and 3rd grade only. Babcock School Volunteers event.
URL:https://babcockneighborhoodschools.org/event/2-3-fun-night/
LOCATION:BNS Cafeteria
CATEGORIES:Babcock Schools Volunteers,Elementary,Events
ATTACH;FMTTYPE=image/png:https://babcockneighborhoodschools.org/wp-content/uploads/2023/01/Fun-Night.png
END:VEVENT
BEGIN:VEVENT
DTSTART;TZID=America/New_York:20230128T190000
DTEND;TZID=America/New_York:20230128T190000
DTSTAMP:20260422T130810
CREATED:20221202T215011Z
LAST-MODIFIED:20221202T215011Z
UID:7796-1674932400-1674932400@babcockneighborhoodschools.org
SUMMARY:Babcock Schools Night @ Florida Everblades
DESCRIPTION:Babcock School Volunteers event. Get discounted tickets here: www.BladesTix.com/BNS A portion of these ticket sales come back to Babcock Schools.
URL:https://babcockneighborhoodschools.org/event/babcock-schools-night-florida-everblades/
LOCATION:Hertz Arena
CATEGORIES:Babcock Schools Volunteers,Events
ATTACH;FMTTYPE=image/png:https://babcockneighborhoodschools.org/wp-content/uploads/2022/12/pasted-image-0-1.png
END:VEVENT
END:VCALENDAR