BEGIN:VCALENDAR
VERSION:2.0
PRODID:-//Babcock Schools - ECPv6.15.17.1//NONSGML v1.0//EN
CALSCALE:GREGORIAN
METHOD:PUBLISH
X-ORIGINAL-URL:https://babcockneighborhoodschools.org
X-WR-CALDESC:Events for Babcock Schools
REFRESH-INTERVAL;VALUE=DURATION:PT1H
X-Robots-Tag:noindex
X-PUBLISHED-TTL:PT1H
BEGIN:VTIMEZONE
TZID:America/New_York
BEGIN:DAYLIGHT
TZOFFSETFROM:-0500
TZOFFSETTO:-0400
TZNAME:EDT
DTSTART:20210314T070000
END:DAYLIGHT
BEGIN:STANDARD
TZOFFSETFROM:-0400
TZOFFSETTO:-0500
TZNAME:EST
DTSTART:20211107T060000
END:STANDARD
BEGIN:DAYLIGHT
TZOFFSETFROM:-0500
TZOFFSETTO:-0400
TZNAME:EDT
DTSTART:20220313T070000
END:DAYLIGHT
BEGIN:STANDARD
TZOFFSETFROM:-0400
TZOFFSETTO:-0500
TZNAME:EST
DTSTART:20221106T060000
END:STANDARD
BEGIN:DAYLIGHT
TZOFFSETFROM:-0500
TZOFFSETTO:-0400
TZNAME:EDT
DTSTART:20230312T070000
END:DAYLIGHT
BEGIN:STANDARD
TZOFFSETFROM:-0400
TZOFFSETTO:-0500
TZNAME:EST
DTSTART:20231105T060000
END:STANDARD
END:VTIMEZONE
BEGIN:VEVENT
DTSTART;TZID=America/New_York:20220907T153000
DTEND;TZID=America/New_York:20220907T173000
DTSTAMP:20260422T183214
CREATED:20220906T151006Z
LAST-MODIFIED:20220906T151006Z
UID:7529-1662564600-1662571800@babcockneighborhoodschools.org
SUMMARY:Book Bash
DESCRIPTION:
URL:https://babcockneighborhoodschools.org/event/book-bash/
LOCATION:Babcock Neighborhood School
CATEGORIES:Babcock Schools Volunteers,Elementary,Events
ATTACH;FMTTYPE=image/jpeg:https://babcockneighborhoodschools.org/wp-content/uploads/2022/09/FB_IMG_1662476893913.jpg
END:VEVENT
BEGIN:VEVENT
DTSTART;TZID=America/New_York:20220909T190000
DTEND;TZID=America/New_York:20220909T190000
DTSTAMP:20260422T183214
CREATED:20220822T184615Z
LAST-MODIFIED:20220822T184615Z
UID:7343-1662750000-1662750000@babcockneighborhoodschools.org
SUMMARY:BNS Spirit Night at the Mighty Mussels
DESCRIPTION:Come out to the ballpark for the first Spirit Night of the school year! Get your tickets at fevo.me/babcocknight \nJoin us as the Fort Myers Mighty Mussels take on the St. Lucie Mets for a Friday night of fun and fireworks with friends and families! The game will start at 7pm and gates will open at 6pm on Fri\, September 9th. \nWith every ticket purchased for this game through this link\, $4 or $5 will be donated back to The Babcock Neighborhood School! \n*$12 & $14 ticket price does not include any service and processing fees.* \nLocation: 14400 6 Mile Cypress Pkwy. Fort Myers\, FL 33912
URL:https://babcockneighborhoodschools.org/event/bns-spirit-night-at-the-mighty-mussels/
LOCATION:Hammond Stadium\, 14400 Six Mile Cypress Pkwy\, Fort Myers\, FL\, 33912\, United States
CATEGORIES:Babcock Schools Volunteers,Events
ATTACH;FMTTYPE=image/png:https://babcockneighborhoodschools.org/wp-content/uploads/2022/08/1.png
END:VEVENT
BEGIN:VEVENT
DTSTART;TZID=America/New_York:20220913T180000
DTEND;TZID=America/New_York:20220913T190000
DTSTAMP:20260422T183214
CREATED:20220517T195249Z
LAST-MODIFIED:20220916T211046Z
UID:6619-1663092000-1663095600@babcockneighborhoodschools.org
SUMMARY:Babcock School Volunteers Meeting
DESCRIPTION:Meeting in BNS Cafeteria. Committee break-out meetings to follow.
URL:https://babcockneighborhoodschools.org/event/parent-rep-group-meeting-2/
CATEGORIES:Babcock Schools Volunteers
ATTACH;FMTTYPE=image/png:https://babcockneighborhoodschools.org/wp-content/uploads/2022/05/PRG-1.png
END:VEVENT
END:VCALENDAR